Workbook

Sheet Data Inputs
G2: Intersection and Interchange Evaluation (IIE) Forms
G4: TDOT IIE Form - Data Inputs | S4: Version: 09142020
A5: Project Information
A6: Project and Location Data | K6: Turning Movement Volumes (TMV)
A7: Project Name:
A8: Major Road Name: | F8: Minor Road Name: | M8: =G12 -> 0 | N8: =Opening Year Design Hourly Volumes (DHV)
A9: PIN: | F9: County: | O9: {=_xlfn.IFS(C12="N-S",C8,C12="E-W",H8,C12="-","-")} -> -
A10: Date: | F10: Analyst/Firm: | N10: 0 | O10: 0 | P10: 0 | Q10: 0
A11: Existing Control Type: | C11: None | H11: No. of Legs: | J11: - | N11: 0 | O11: 0 | P11: 0 | Q11: 0 | R11: SB
A12: Major Road Direction: | C12: - | E12: Opening Year: | H12: Design Year: | M12: EB | N12: PEDS | O12: ← | P12: ↓ | Q12: → | R12: PEDS | S12: 0 | T12: 0
A13: Funct. Class of Major Road: | C13: - | G13: Land Use Context: | I13: - | L13: 0 | M13: 0 | N13: ↑ | O13: Entering Hourly Volumes | R13: ↑ | S13: 0 | T13: 0 | U13: {=_xlfn.IFS(C12="E-W",C8,C12="N-S",H8,C12="-","-")} -> -
A14: Project Type of Work: | C14: - | L14: 0 | M14: 0 | N14: → | R14: ← | S14: 0 | T14: 0
A15: Traffic Data | L15: 0 | M15: 0 | N15: ↓ | R15: ↓ | S15: 0 | T15: 0
A16: Opening Year | C16: =G12 -> 0 | D16: Major Road AADT: | L16: 0 | M16: 0 | N16: PEDS | O16: ← | P16: ↑ | Q16: → | R16: PEDS | S16: WB
A17: Design Year | C17: =J12 -> 0 | D17: Major Road AADT: | N17: NB | O17: 0 | P17: 0 | Q17: 0 | R17: 0
A18: Major Road T % (AADT): | C18: 0 | E18: Minor Road T % (AADT): | G18: 0 | O18: 0 | P18: 0 | Q18: 0 | R18: 0 | S18: N
A19: Major Road T % (DHV): | C19: =C18*2/3 -> 0 | E19: Minor Road T % (DHV): | G19: =G18*2/3 -> 0 | L19: (AM) | M19: = AM Peak Hour Approach | R19: W | U19: E
L20: PM | M20: = PM Peak Hour Approach
A21: Multimodal Activity | L21: Blue | M21: = Pedestrian Volumes | S21: S
A22: Within a 1/2 mile of the project location are there: | M22: =J12 -> 0 | N22: = Design Year Design Hourly Volumes (DHV)
A23: Bus stop: | C23: - | D23: School: | F23: - | H23: Library: | J23: - | O23: =O9 -> -
A24: Retail Center: | C24: - | D24: Other Civic Institution: | F24: - | G24: Context to Support Multimodal Activity: | J24: - | N24: 0 | O24: 0 | P24: 0 | Q24: 0
A25: Existing or Future Estimated Multimodal Activity Level: | I25: - | N25: 0 | O25: 0 | P25: 0 | Q25: 0 | R25: SB
M26: EB | N26: PEDS | O26: ← | P26: ↓ | Q26: → | R26: PEDS | S26: 0 | T26: 0
A27: Crash History and Intersection Crash Rate | L27: 0 | M27: 0 | N27: ↑ | O27: Entering Hourly Volumes | R27: ↑ | S27: 0 | T27: 0 | U27: {=_xlfn.IFS(C12="E-W",C8,C12="N-S",H8,C12="-","-")} -> -
A28: Crash Data Year(s): | G28: No. of Years: | L28: 0 | M28: 0 | N28: → | R28: ← | S28: 0 | T28: 0
G29: No. of Crashes: | L29: 0 | M29: 0 | N29: ↓ | R29: ↓ | S29: 0 | T29: 0
A30: Leg | C30: Current AADT | L30: 0 | M30: 0 | N30: PEDS | O30: ← | P30: ↑ | Q30: → | R30: PEDS | S30: WB
A31: North: | G31: SW Avg. Rate: | N31: NB | O31: 0 | P31: 0 | Q31: 0 | R31: 0
A32: East: | G32: Crash Rate (A): | I32: =(I29*1000000)/(I28*365*C35) -> #DIV/0! | O32: 0 | P32: 0 | Q32: 0 | R32: 0
A33: South: | G33: Critical Rate (C): | I33: =I31+2.327*(SQRT(I31/(C35*I28*365/1000000)))+(1/(2*C35*I28*365/1000000)) -> #DIV/0!
A34: West: | G34: A/SW: | I34: =I32/I31 -> #DIV/0!
A35: Entering AADT: | C35: =SUM(C31:D34)/2 -> 0 | G35: A/C: | I35: =I32/I33 -> #DIV/0!

Sheet Stage I Scoping
A1: Intersection Location: | B1: ='Data Inputs'!C8&" at "&'Data Inputs'!H8&" in "&'Data Inputs'!H9&" County" -> at in County
A2: Number of Intersection Legs: | B2: ='Data Inputs'!J11 -> - | E2: PIN: | H2: ='Data Inputs'!C9 -> 0 | L2: Date: | M2: ='Data Inputs'!C10 -> 0
A3: Existing Control Type: | B3: ='Data Inputs'!C11 -> None | E3: Analyst: | H3: ='Data Inputs'!H10 -> 0 | L3: ='Data Inputs'!S4 -> Version: 09142020
A4: Control Type | B4: Conflict Point Score (lower # is better) | C4: Is the option feasible and reasonable? | D4: Is the option likely to improve or maintain safety? | E4: Is the option likely to improve operations? | F4: Is the Optoin likely to improve or maintain multimodal access? | G4: AM V/C Ratio (CAP X) | H4: PM V/C Ratio (CAP X) | I4: Should the Option proceed to Stage II? | L4: TDOT IIE Stage I Form - Scoping
A5: At-Grade Intersection | B5: Safety | C5: Q1 | D5: Q2 | E5: Q3 | F5: Q4 | G5: Capacity | I5: Decision | J5: Screening Decision Justification
A6: Traffic Signal | B6: =IF(B$2="-","-",IF(B$2=4,'Conflict Point Score'!E10,'Conflict Point Score'!F10)) -> - | C6: - | D6: - | E6: - | F6: - | I6: -
A7: Two-Way Stop Control | B7: =IF(B$2="-","-",IF(B$2=4,'Conflict Point Score'!E14,'Conflict Point Score'!F14)) -> - | C7: - | D7: - | E7: - | F7: - | I7: -
A8: All-Way Stop Control | B8: =IF(B$2="-","-",IF(B$2=4,'Conflict Point Score'!E14,'Conflict Point Score'!F14)) -> - | C8: - | D8: - | E8: - | F8: - | I8: -
A9: Continuous Green T | B9: =IF(B$2="-","-",IF(B$2=4,'Conflict Point Score'!E18,'Conflict Point Score'!F18)) -> - | C9: - | D9: - | E9: - | F9: - | I9: -
A10: Quadrant Roadway | B10: =IF(B$2="-","-",IF(B$2=4,'Conflict Point Score'!E22,'Conflict Point Score'!F22)) -> - | C10: - | D10: - | E10: - | F10: - | I10: -
A11: Partial Displaced Left Turn | B11: =IF(B$2="-","-",IF(B$2=4,'Conflict Point Score'!E26,'Conflict Point Score'!F26)) -> - | C11: - | D11: - | E11: - | F11: - | I11: -
A12: Displaced Left Turn | B12: =IF(B$2="-","-",IF(B$2=4,'Conflict Point Score'!E30,'Conflict Point Score'!F30)) -> - | C12: - | D12: - | E12: - | F12: - | I12: -
A13: Signalized RCUT | B13: =IF(B$2="-","-",IF(B$2=4,'Conflict Point Score'!E34,'Conflict Point Score'!F34)) -> - | C13: - | D13: - | E13: - | F13: - | I13: -
A14: J-Turn (Unsignalized RCUT) | B14: =IF(B$2="-","-",IF(B$2=4,'Conflict Point Score'!E38,'Conflict Point Score'!F38)) -> - | C14: - | D14: - | E14: - | F14: - | I14: -
A15: Median U-Turn | B15: =IF(B$2="-","-",IF(B$2=4,'Conflict Point Score'!E42,'Conflict Point Score'!F42)) -> - | C15: - | D15: - | E15: - | F15: - | I15: -
A16: Partial Median U -Turn | B16: =IF(B$2="-","-",IF(B$2=4,'Conflict Point Score'!E46,'Conflict Point Score'!F46)) -> - | C16: - | D16: - | E16: - | F16: - | I16: -
A17: Bowtie | B17: =IF(B$2="-","-",IF(B$2=4,'Conflict Point Score'!E50,'Conflict Point Score'!F50)) -> - | C17: - | D17: - | E17: - | F17: - | I17: -
A18: Split Intersection | B18: =IF(B$2="-","-",IF(B$2=4,'Conflict Point Score'!E54,'Conflict Point Score'!F54)) -> - | C18: - | D18: - | E18: - | F18: - | I18: -
A19: Roundabout | B19: =IF(B$2="-","-",IF(B$2=4,'Conflict Point Score'!E58,'Conflict Point Score'!F58)) -> - | C19: - | D19: - | E19: - | F19: - | I19: -
A20: Other (provide description) | C20: - | D20: - | E20: - | F20: - | I20: -
A21: Grade-Separated Intersection | B21: Safety | C21: Q1 | D21: Q2 | E21: Q3 | F21: Q4 | G21: CAP-X | I21: Decision | J21: Screening Decision Justification
A22: Echelon | B22: =IF(B$2="-","-",IF(B$2=4,'Conflict Point Score'!E63,'Conflict Point Score'!F63)) -> - | C22: - | D22: - | E22: - | F22: - | I22: -
A23: Center Turn Overpass | B23: =IF(B$2="-","-",IF(B$2=4,'Conflict Point Score'!E67,'Conflict Point Score'!F67)) -> - | C23: - | D23: - | E23: - | F23: - | I23: -
A24: Interchange | B24: Safety | C24: Q1 | D24: Q2 | E24: Q3 | F24: Q4 | G24: CAP-X | I24: Decision | J24: Screening Decision Justification
A25: Diamond | B25: =IF(B$2="-","-",IF(B$2=4,'Conflict Point Score'!E72,'Conflict Point Score'!F72)) -> - | C25: - | D25: - | E25: - | F25: - | I25: -
A26: Partial Cloverleaf | B26: =IF(B$2="-","-",IF(B$2=4,'Conflict Point Score'!E76,'Conflict Point Score'!F76)) -> - | C26: - | D26: - | E26: - | F26: - | I26: -
A27: Displaced Left Turn Interchange | B27: =IF(B$2="-","-",IF(B$2=4,'Conflict Point Score'!E80,'Conflict Point Score'!F80)) -> - | C27: - | D27: - | E27: - | F27: - | I27: -
A28: Contraflow Left Interchange | B28: =IF(B$2="-","-",IF(B$2=4,'Conflict Point Score'!E84,'Conflict Point Score'!F84)) -> - | C28: - | D28: - | E28: - | F28: - | I28: -
A29: DDI | B29: =IF(B$2="-","-",IF(B$2=4,'Conflict Point Score'!E88,'Conflict Point Score'!F88)) -> - | C29: - | D29: - | E29: - | F29: - | I29: -
A30: Single Point | B30: =IF(B$2="-","-",IF(B$2=4,'Conflict Point Score'!E92,'Conflict Point Score'!F92)) -> - | C30: - | D30: - | E30: - | F30: - | I30: -
A31: Single Point with Round about | B31: =IF(B$2="-","-",IF(B$2=4,'Conflict Point Score'!E96,'Conflict Point Score'!F96)) -> - | C31: - | D31: - | E31: - | F31: - | I31: -
A32: Other (provide description) | C32: - | D32: - | E32: - | F32: - | I32: -

Sheet Stage II Selection
A1: TDOT IIE Stage II Form - Selection | B1: Intersection Location: | E1: ='Data Inputs'!C8&" at "&'Data Inputs'!H8&" in "&'Data Inputs'!H9&" County" -> at in County
B2: Number of Intersection Legs: | E2: ='Data Inputs'!J11 -> - | F2: PIN: | G2: ='Data Inputs'!C9 -> 0 | J2: Date: | K2: ='Data Inputs'!C10 -> 0
B3: TDOT IIE Stage II Form - Selection | F3: Analyst: | G3: ='Data Inputs'!H10 -> 0 | J3: ='Data Inputs'!S4 -> Version: 09142020
B4: Existing Control | D4: Option 1 | F4: Option 2 | H4: Option 3 | J4: Option 4
B5: ='Stage I Scoping'!B3 -> None | D5: None | F5: None | H5: None | J5: None
A6: Project Cost
A7: Tool Used | B7: Not Applicable | D7: - | F7: - | H7: - | J7: -
A8: Total Project Cost | B8: Not Applicable | D8: - | F8: - | H8: - | J8: -
A9: Life Cycle Cost
A10: Tool Used | B10: - | D10: - | F10: - | H10: - | J10: -
A11: Analysis Period | B11: ='Data Inputs'!G12&" to "&'Data Inputs'!J12 -> to | D11: ='Data Inputs'!G12&" to "&'Data Inputs'!J12 -> to | F11: ='Data Inputs'!G12&" to "&'Data Inputs'!J12 -> to | H11: ='Data Inputs'!G12&" to "&'Data Inputs'!J12 -> to | J11: ='Data Inputs'!G12&" to "&'Data Inputs'!J12 -> to
A12: Total Life Cycle NPV Cost | B12: - | D12: - | F12: - | H12: - | J12: -
A13: Traffic Operations
A14: Traffic Analysis Software Used | B14: - | D14: - | F14: - | H14: - | J14: -
A15: ='Data Inputs'!M$8&" Opening Year" -> 0 Opening Year | B15: AM | C15: PM | D15: AM | E15: PM | F15: AM | G15: PM | H15: AM | I15: PM | J15: AM | K15: PM
A16: LOS | B16: - | C16: - | D16: - | E16: - | F16: - | G16: - | H16: - | I16: - | J16: - | K16: -
A17: Delay (s/veh)
A18: v/c
A19: Queues Accommodated? | B19: - | C19: - | D19: - | E19: - | F19: - | G19: - | H19: - | I19: - | J19: - | K19: -
A20: ='Data Inputs'!M22&" Design Year" -> 0 Design Year | B20: AM | C20: PM | D20: AM | E20: PM | F20: AM | G20: PM | H20: AM | I20: PM | J20: AM | K20: PM
A21: LOS | B21: - | C21: - | D21: - | E21: - | F21: - | G21: - | H21: - | I21: - | J21: - | K21: -
A22: Delay (s/veh)
A23: v/c
A24: Queues Accommodated? | B24: - | C24: - | D24: - | E24: - | F24: - | G24: - | H24: - | I24: - | J24: - | K24: -
A25: Predictive Crash Analysis
A26: Tool Used | B26: - | D26: - | F26: - | H26: - | J26: -
A27: Analysis Period | B27: ='Data Inputs'!$G$12&" to "&'Data Inputs'!$J$12 -> to | D27: ='Data Inputs'!$G$12&" to "&'Data Inputs'!$J$12 -> to | F27: ='Data Inputs'!$G$12&" to "&'Data Inputs'!$J$12 -> to | H27: ='Data Inputs'!$G$12&" to "&'Data Inputs'!$J$12 -> to | J27: ='Data Inputs'!$G$12&" to "&'Data Inputs'!$J$12 -> to
A28: Total Crashes
A29: Fatal & Injury Crashes
A30: Multimodal
A31: Are peds, bicyclists, and transit riders accommodated? | B31: - | D31: - | F31: - | H31: - | J31: -
A32: Stakeholder Posture
A33: Local Community Support | B33: Not Applicable | D33: - | F33: - | H33: - | J33: -
A34: TDOT Support | B34: Not Applicable | D34: - | F34: - | H34: - | J34: -
A35: TDOT Approval
A36: Preferred Option? | B36: Not Applicable | D36: - | F36: - | H36: - | J36: -
A37: Comments
A39: TDOT Reviewer Name and Title | E39: Signature | J39: Date

Sheet Dropdown Menus
A5: Number of intersection legs | C5: Existing Control Type | E5: Functional Class | G5: Project Type of Work | I5: Life Cycle Cost Tool | K5: Multimodal Accommodated
A6: - | C6: None | E6: - | G6: - | I6: - | K6: -
A7: 3 | C7: Traffic Signal | E7: Interstate | G7: Bicycles and Pedestrian Facility | I7: Not Applicable | K7: Well
A8: 4 | C8: Two-Way Stop Control | E8: Principal Arterial | G8: Bridge-New Construction | I8: LCCET (NCHRP 220) | K8: Adequately
A9: Other | C9: All-Way Stop Control | E9: Minor Arterial | G9: Intersection Improvements | I9: Other | K9: Poorly
C10: Continuous Green T | E10: Collector | G10: Intersection Improvements and Signals | K10: Not Accommodated
A11: Yes/No | C11: Quadrant Roadway | E11: Local | G11: Modify Interchange | I11: Traffic Analysis Software | K11: Not Applicable
A12: - | C12: Partial Displaced Left Turn | G12: New Interchange | I12: -
A13: Yes | C13: Displaced Left Turn | E13: Land Use Context | G13: New Interchange-Connector | I13: HCS | K13: Level of Service
A14: No | C14: Signalized RCUT | E14: - | G14: Bridge Replacement | I14: Synchro | K14: -
C15: J-Turn (Unsignalized RCUT) | E15: Rural | G15: Construction-New | I15: VISSIM | K15: A
C16: Median U-Turn | E16: Rural Town | G16: Intelligent Transportation System | I16: SIDRA | K16: B
C17: Partial Median U -Turn | E17: Suburban | G17: Noise Barrier Walls | I17: Other | K17: C
C18: Bowtie | E18: Urban | G18: Ramp Improvements | K18: D
C19: Split Intersection | E19: Urban Core | G19: Realign and Widen | I19: Predictive Crash Analysis | K19: E
C20: Roundabout | G20: Realignment | I20: - | K20: F
C21: Other (provide description) | E21: Multimodal Activity Level | G21: Reconstruction | I21: Not Applicable
C22: Echelon | E22: - | G22: Resurface & Safety | I22: SPICE
C23: Center Turn Overpass | E23: Low | G23: Mitigation - Rockfall | I23: ISATe
C24: Diamond | E24: Medium | G24: RSAR | I24: IHSDM
C25: Partial Cloverleaf | E25: High | G25: Safety | I25: HSM Spreadsheet Tools
C26: Displaced Left Turn Interchange | G26: Sidewalk Improvements | I26: HSM Calculations
C27: Contraflow Left Interchange | E27: Cost Tool | G27: Signalization | I27: Other
C28: DDI | E28: - | G28: Truck Climbing Lane(s)
C29: Single Point | E29: TDOT STID Tool | G29: Widen | I29: Stakeholder Posture
C30: Single Point with Round about | E30: Other | G30: Widen and Resurfacing | I30: -
C31: Other (provide description) | G31: Roundabout | I31: Supportive
G32: Turn Lanes | I32: Neutral
C33: Major Street Direction | G33: Turn Lanes with Signal | I33: Negative
C34: - | G34: No Plans RSA | I34: Opposed
C35: E-W | G35: LRSI | I35: Unknown
C36: N-S

Sheet Conflict Point Score
H1: Weights: | J1: Default values
A2: Stage I Scoping Conflict Point Score (Default Crossing weight = 2, Merging, Diverging =1) | H2: Crossing | I2: 2 | J2: 2
H3: Merging | I3: 1 | J3: 1
C4: Conflict Point Count | E4: Weighted Score | H4: Diverging | I4: 1 | J4: 1
B5: Conflict Type | C5: 4 Legs | D5: 3 Legs | E5: 4 Legs | F5: 3 Legs
A6: At-Grade Intersections
A7: Traffic Signal | B7: Crossing | C7: 16 | D7: 3 | E7: =C7*$I$2 -> 32 | F7: =D7*$I$2 -> 6
B8: Merging | C8: 8 | D8: 3 | E8: =C8*$I$3 -> 8 | F8: =D8*$I$3 -> 3
B9: Diverging | C9: 8 | D9: 3 | E9: =C9*$I$4 -> 8 | F9: =D9*$I$4 -> 3
B10: Total | C10: =SUM(C7:C9) -> 32 | D10: =SUM(D7:D9) -> 9 | E10: =SUM(E7:E9) -> 48 | F10: =SUM(F7:F9) -> 12
A11: Stop Control | B11: Crossing | C11: 16 | D11: 3 | E11: =C11*$I$2 -> 32 | F11: =D11*$I$2 -> 6
B12: Merging | C12: 8 | D12: 3 | E12: =C12*$I$3 -> 8 | F12: =D12*$I$3 -> 3
B13: Diverging | C13: 8 | D13: 3 | E13: =C13*$I$4 -> 8 | F13: =D13*$I$4 -> 3
B14: Total | C14: =SUM(C11:C13) -> 32 | D14: =SUM(D11:D13) -> 9 | E14: =SUM(E11:E13) -> 48 | F14: =SUM(F11:F13) -> 12
A15: Continuous Green T | B15: Crossing | D15: 3 | F15: =D15*$I$2 -> 6
B16: Merging | D16: 3 | F16: =D16*$I$3 -> 3
B17: Diverging | D17: 3 | F17: =D17*$I$4 -> 3
B18: Total | C18: n/a | D18: =SUM(D15:D17) -> 9 | E18: n/a | F18: =SUM(F15:F17) -> 12
A19: Quadrant | B19: Crossing | C19: 10 | E19: =C19*$I$2 -> 20
B20: Merging | C20: 10 | E20: =C20*$I$3 -> 10
B21: Diverging | C21: 10 | E21: =C21*$I$4 -> 10
B22: Total | C22: =SUM(C19:C21) -> 30 | D22: n/a | E22: =SUM(E19:E21) -> 40 | F22: n/a
A23: Partial Displaced Left Turn | B23: Crossing | C23: 14 | D23: 3 | E23: =C23*$I$2 -> 28 | F23: =D23*$I$2 -> 6
B24: Merging | C24: 8 | D24: 3 | E24: =C24*$I$3 -> 8 | F24: =D24*$I$3 -> 3
B25: Diverging | C25: 8 | D25: 3 | E25: =C25*$I$4 -> 8 | F25: =D25*$I$4 -> 3
B26: Total | C26: =SUM(C23:C25) -> 30 | D26: =SUM(D23:D25) -> 9 | E26: =SUM(E23:E25) -> 44 | F26: =SUM(F23:F25) -> 12
A27: Displaced Left Turn | B27: Crossing | C27: 12 | E27: =C27*$I$2 -> 24
B28: Merging | C28: 8 | E28: =C28*$I$3 -> 8
B29: Diverging | C29: 8 | E29: =C29*$I$4 -> 8
B30: Total | C30: =SUM(C27:C29) -> 28 | D30: n/a | E30: =SUM(E27:E29) -> 40 | F30: n/a
A31: Signalized RCUT | B31: Crossing | C31: 2 | D31: 1 | E31: =C31*$I$2 -> 4 | F31: =D31*$I$2 -> 2
B32: Merging | C32: 8 | D32: =C32-3 -> 5 | E32: =C32*$I$3 -> 8 | F32: =D32*$I$3 -> 5
B33: Diverging | C33: 8 | D33: =C33-3 -> 5 | E33: =C33*$I$4 -> 8 | F33: =D33*$I$4 -> 5
B34: Total | C34: =SUM(C31:C33) -> 18 | D34: =SUM(D31:D33) -> 11 | E34: =SUM(E31:E33) -> 20 | F34: =SUM(F31:F33) -> 12
A35: J-Turn (Unsignalized RCUT) | B35: Crossing | C35: 2 | D35: 1 | E35: =C35*$I$2 -> 4 | F35: =D35*$I$2 -> 2
B36: Merging | C36: 8 | D36: =C36-3 -> 5 | E36: =C36*$I$3 -> 8 | F36: =D36*$I$3 -> 5
B37: Diverging | C37: 8 | D37: =C37-3 -> 5 | E37: =C37*$I$4 -> 8 | F37: =D37*$I$4 -> 5
B38: Total | C38: =SUM(C35:C37) -> 18 | D38: =SUM(D35:D37) -> 11 | E38: =SUM(E35:E37) -> 20 | F38: =SUM(F35:F37) -> 12
A39: Median U-Turn | B39: Crossing | C39: 4 | D39: 0 | E39: =C39*$I$2 -> 8 | F39: =D39*$I$2 -> 0
B40: Merging | C40: 6 | D40: 4 | E40: =C40*$I$3 -> 6 | F40: =D40*$I$3 -> 4
...
