{"text_format":"1","workbook":"xlsx","n_sheets":6,"sheets":["SUR IN","DES IN","ACQ TABLE(1)","Add Sheets","OWNERS","DISTURBED AREA FOOTNOTES"],"not_rendered":{"charts":0,"images":0,"macros":1,"external_links":0,"defined_names":0,"comments":0,"pivot_tables":0},"unopened":[],"bounds":{"document_bytes":16777216,"sheet_cells":100000,"rows_first":2000,"rows_last":500,"rows_between":2000,"halvings":0,"cell_chars":16384,"cell_head_chars":4096},"cells_cut":0,"cells_raw":0,"read":"whole","date_system":"1900"}

{"sheet":"SUR IN","index":0,"n_rows":504,"n_cols":26,"rows_kept":504,"cut":false,"hidden":false,"merged":[[2,4,2,5]]}
["INPUT SURVEY DATA",null,null,null,null,null,null,null,"Rev. 05\\17\\2017","INFORMATION REQUIRED FOR ALL TRACTS",null,null,null,null,null,null,"WARNINGS:"]
[null,null,"COUNTY RECORDS",null,null,null,"INPUT AREA IN SQUARE FEET"]
["TRACT","PROPERTY OWNERS","TAX","PARCEL","DEED DOCUMENT REFERENCE",null,"LEFT","RIGHT","TOTAL  FEET SQUARE","STREET ADDRESS","CITY","STATE"," ZIP","CONTACTED BY","DATE OF CONTACT","METHOD","1) * Input data in the unit specified. "]
["NO.",null,"MAP NO.","NO.","BOOK NO.","PAGE","(To enter acres, put ac after number,   ex: 1.158 ac)",null,"ADDS AUTOMATICALLY",null,null,null,null,null,null,"OF CONTACT","THE FINAL R.O.W ACQUISITION TABLE WILL MAKE ALL CONVERSIONS AS REQUIRED"]
[null,null,null,null,null,null,null,null,{"$f":"SurLtRtTot(G5,H5)","v":"0"}]
[null,null,null,null,null,null,null,null,"0"]
[null,null,null,null,null,null,null,null,"0",null,null,null,null,null,null,null,"2)  Do not delete or change the name of the 'SUR IN' or 'DES IN' worksheets."]
[null,null,null,null,null,null,null,null,"0",null,null,null,null,null,null,null,"The links and programs will no longer work correctly if the names are changed."]
[null,null,null,null,null,null,null,null,"0"]
[null,null,null,null,null,null,null,null,"0",null,null,null,null,null,null,null,"3)  IF THERE ARE MORE  THAN ONE "]
[null,null,null,null,null,null,null,null,"0",null,null,null,null,null,null,null,"(MAP, PARCEL, DEED, AND/OR PAGE) NUMBERS PER TRACT,"]
[null,null,null,null,null,null,null,null,"0",null,null,null,null,null,null,null,"PUT EACH NUMBER ON A SEPARATE LINE."]
[null,null,null,null,null,null,null,null,"0",null,null,null,null,null,null,null,"EXAMPLE","INPUT SURVEY DATA"]
[null,null,null,null,null,null,null,null,"0",null,null,null,null,null,null,null,null,"       ","                                         ","COUNTY RECORDS",null,null,null,"INPUT AREA IN SQUARE FEET"]
[null,null,null,null,null,null,null,null,"0",null,null,null,null,null,null,null,null,"TRACT","PROPERTY OWNERS","TAX","PARCEL","DEED","PAGE","LEFT","RIGHT","TOTAL  FEET SQUARE"]
[null,null,null,null,null,null,null,null,"0",null,null,null,null,null,null,null,null,"NO.",null,"MAP NO.","NO.","BK.","         ","(To enter acres, put ac after number,   ex: 1.158 ac)",null,"ADDS AUTOMATICALLY"]
[null,null,null,null,null,null,null,null,"0",null,null,null,null,null,null,null,null,1,"JOHN DOE","37B/P",38,163,192,43560,43560,{"$f":"SurLtRtTot(X17,Y17)","v":"87120"}]
[null,null,null,null,null,null,null,null,"0",null,null,null,null,null,null,null,null,null,null,"37B/P",37,158,552,null,null,{"$f":"SurLtRtTot(X18,Y18)","v":"0"}]
[null,null,null,null,null,null,null,null,"0",null,null,null,null,null,null,null,null,null,null,"37B/P",36,158,174,null,null,{"$f":"SurLtRtTot(X19,Y19)","v":"0"}]
[null,null,null,null,null,null,null,null,"0",null,null,null,null,null,null,null,null,2,"JANE HARRIS",null,1,null,null,null,427324,{"$f":"SurLtRtTot(X20,Y20)","v":"427324"}]
[null,null,null,null,null,null,null,null,"0",null,null,null,null,null,null,null,null,null,null,null,null,null,null,null,null,{"$f":"SurLtRtTot(X21,Y21)","v":"0"}]
[null,null,null,null,null,null,null,null,"0"]
[null,null,null,null,null,null,null,null,"0"]
[null,null,null,null,null,null,null,null,"0"]
[null,null,null,null,null,null,null,null,"0"]
[null,null,null,null,null,null,null,null,"0"]
[null,null,null,null,null,null,null,null,"0"]
[null,null,null,null,null,null,null,null,"0"]
[null,null,null,null,null,null,null,null,"0"]
[null,null,null,null,null,null,null,null,"0"]
[null,null,null,null,null,null,null,null,"0"]
[null,null,null,null,null,null,null,null,"0"]
[null,null,null,null,null,null,null,null,"0"]
[null,null,null,null,null,null,null,null,"0"]
[null,null,null,null,null,null,null,null,"0"]
[null,null,null,null,null,null,null,null,"0"]
[null,null,null,null,null,null,null,null,"0"]
[null,null,null,null,null,null,null,null,"0"]
[null,null,null,null,null,null,null,null,"0"]
[null,null,null,null,null,null,null,null,"0"]
[null,null,null,null,null,null,null,null,"0"]
[null,null,null,null,null,null,null,null,"0"]
[null,null,null,null,null,null,null,null,"0"]
[null,null,null,null,null,null,null,null,"0"]
[null,null,null,null,null,null,null,null,"0"]
[null,null,null,null,null,null,null,null,"0"]
[null,null,null,null,null,null,null,null,"0"]
[null,null,null,null,null,null,null,null,"0"]
[null,null,null,null,null,null,null,null,"0"]
[null,null,null,null,null,null,null,null,"0"]
[null,null,null,null,null,null,null,null,"0"]
[null,null,null,null,null,null,null,null,"0"]
[null,null,null,null,null,null,null,null,"0"]
[null,null,null,null,null,null,null,null,"0",null,null,null,null,null,null,null,"Acq Table(1)"]
[null,null,null,null,null,null,null,null,"0",null,null,null,null,null,null,null,"Acq Table(2)"]
[null,null,null,null,null,null,null,null,"0"]
[null,null,null,null,null,null,null,null,"0"]
[null,null,null,null,null,null,null,null,"0"]
[null,null,null,null,null,null,null,null,"0"]
[null,null,null,null,null,null,null,null,"0"]
[null,null,null,null,null,null,null,null,"0"]
[null,null,null,null,null,null,null,null,"0"]
[null,null,null,null,null,null,null,null,"0"]
[null,null,null,null,null,null,null,null,"0"]
[null,null,null,null,null,null,null,null,"0"]
[null,null,null,null,null,null,null,null,"0"]
[null,null,null,null,null,null,null,null,"0"]
[null,null,null,null,null,null,null,null,"0"]
[null,null,null,null,null,null,null,null,{"$f":"SurLtRtTot(G69,H69)","v":"0"}]
[null,null,null,null,null,null,null,null,"0"]
[null,null,null,null,null,null,null,null,"0"]
[null,null,null,null,null,null,null,null,"0"]
[null,null,null,null,null,null,null,null,"0"]
[null,null,null,null,null,null,null,null,"0"]
[null,null,null,null,null,null,null,null,"0"]
[null,null,null,null,null,null,null,null,"0"]
[null,null,null,null,null,null,null,null,"0"]
[null,null,null,null,null,null,null,null,"0"]
[null,null,null,null,null,null,null,null,"0"]
[null,null,null,null,null,null,null,null,"0"]
[null,null,null,null,null,null,null,null,"0"]
[null,null,null,null,null,null,null,null,"0"]
[null,null,null,null,null,null,null,null,"0"]
[null,null,null,null,null,null,null,null,"0"]
[null,null,null,null,null,null,null,null,"0"]
[null,null,null,null,null,null,null,null,"0"]
[null,null,null,null,null,null,null,null,"0"]
[null,null,null,null,null,null,null,null,"0"]
[null,null,null,null,null,null,null,null,"0"]
[null,null,null,null,null,null,null,null,"0"]
[null,null,null,null,null,null,null,null,"0"]
[null,null,null,null,null,null,null,null,"0"]
[null,null,null,null,null,null,null,null,"0"]
[null,null,null,null,null,null,null,null,"0"]
[null,null,null,null,null,null,null,null,"0"]
[null,null,null,null,null,null,null,null,"0"]
[null,null,null,null,null,null,null,null,"0"]
[null,null,null,null,null,null,null,null,"0"]
[null,null,null,null,null,null,null,null,"0"]
[null,null,null,null,null,null,null,null,"0"]
[null,null,null,null,null,null,null,null,"0"]
[null,null,null,null,null,null,null,null,"0"]
[null,null,null,null,null,null,null,null,"0"]
[null,null,null,null,null,null,null,null,"0",null,null,null,null,null,null,null,"Acq Table(2)"]
[null,null,null,null,null,null,null,null,"0",null,null,null,null,null,null,null,"Acq Table(3)"]
[null,null,null,null,null,null,null,null,"0"]
[null,null,null,null,null,null,null,null,"0"]
[null,null,null,null,null,null,null,null,"0"]
[null,null,null,null,null,null,null,null,"0"]
[null,null,null,null,null,null,null,null,"0"]
[null,null,null,null,null,null,null,null,"0"]
[null,null,null,null,null,null,null,null,"0"]
[null,null,null,null,null,null,null,null,"0"]
[null,null,null,null,null,null,null,null,"0"]
[null,null,null,null,null,null,null,null,"0"]
[null,null,null,null,null,null,null,null,"0"]
[null,null,null,null,null,null,null,null,"0"]
[null,null,null,null,null,null,null,null,"0"]
[null,null,null,null,null,null,null,null,"0"]
[null,null,null,null,null,null,null,null,"0"]
[null,null,null,null,null,null,null,null,"0"]
[null,null,null,null,null,null,null,null,"0"]
[null,null,null,null,null,null,null,null,"0"]
[null,null,null,null,null,null,null,null,"0"]
[null,null,null,null,null,null,null,null,"0"]
[null,null,null,null,null,null,null,null,"0"]
[null,null,null,null,null,null,null,null,"0"]
[null,null,null,null,null,null,null,null,"0"]
[null,null,null,null,null,null,null,null,"0"]
[null,null,null,null,null,null,null,null,"0"]
[null,null,null,null,null,null,null,null,"0"]
[null,null,null,null,null,null,null,null,"0"]
[null,null,null,null,null,null,null,null,{"$f":"SurLtRtTot(G133,H133)","v":"0"}]
[null,null,null,null,null,null,null,null,"0"]
[null,null,null,null,null,null,null,null,"0"]
[null,null,null,null,null,null,null,null,"0"]
[null,null,null,null,null,null,null,null,"0"]
[null,null,null,null,null,null,null,null,"0"]
[null,null,null,null,null,null,null,null,"0"]
[null,null,null,null,null,null,null,null,"0"]
[null,null,null,null,null,null,null,null,"0"]
[null,null,null,null,null,null,null,null,"0"]
[null,null,null,null,null,null,null,null,"0"]
[null,null,null,null,null,null,null,null,"0"]
[null,null,null,null,null,null,null,null,"0"]
[null,null,null,null,null,null,null,null,"0"]
[null,null,null,null,null,null,null,null,"0"]
[null,null,null,null,null,null,null,null,"0"]
[null,null,null,null,null,null,null,null,"0"]
[null,null,null,null,null,null,null,null,"0"]
[null,null,null,null,null,null,null,null,"0"]
[null,null,null,null,null,null,null,null,"0"]
[null,null,null,null,null,null,null,null,"0"]
[null,null,null,null,null,null,null,null,"0",null,null,null,null,null,null,null,"Acq Table(3)"]
[null,null,null,null,null,null,null,null,"0",null,null,null,null,null,null,null,"Acq Table(4)"]
[null,null,null,null,null,null,null,null,"0"]
[null,null,null,null,null,null,null,null,"0"]
[null,null,null,null,null,null,null,null,"0"]
[null,null,null,null,null,null,null,null,"0"]
[null,null,null,null,null,null,null,null,"0"]
[null,null,null,null,null,null,null,null,"0"]
[null,null,null,null,null,null,null,null,"0"]
[null,null,null,null,null,null,null,null,"0"]
[null,null,null,null,null,null,null,null,"0"]
[null,null,null,null,null,null,null,null,"0"]
[null,null,null,null,null,null,null,null,"0"]
[null,null,null,null,null,null,null,null,"0"]
[null,null,null,null,null,null,null,null,"0"]
[null,null,null,null,null,null,null,null,"0"]
[null,null,null,null,null,null,null,null,"0"]
[null,null,null,null,null,null,null,null,"0"]
[null,null,null,null,null,null,null,null,"0"]
[null,null,null,null,null,null,null,null,"0"]
[null,null,null,null,null,null,null,null,"0"]
[null,null,null,null,null,null,null,null,"0"]
[null,null,null,null,null,null,null,null,"0"]
[null,null,null,null,null,null,null,null,"0"]
[null,null,null,null,null,null,null,null,"0"]
[null,null,null,null,null,null,null,null,"0"]
[null,null,null,null,null,null,null,null,"0"]
[null,null,null,null,null,null,null,null,"0"]
[null,null,null,null,null,null,null,null,"0"]
[null,null,null,null,null,null,null,null,"0"]
[null,null,null,null,null,null,null,null,"0"]
[null,null,null,null,null,null,null,null,"0"]
[null,null,null,null,null,null,null,null,"0"]
[null,null,null,null,null,null,null,null,"0"]
[null,null,null,null,null,null,null,null,"0"]
[null,null,null,null,null,null,null,null,"0"]
[null,null,null,null,null,null,null,null,"0"]
[null,null,null,null,null,null,null,null,"0"]
[null,null,null,null,null,null,null,null,"0"]
[null,null,null,null,null,null,null,null,"0"]
[null,null,null,null,null,null,null,null,"0"]
[null,null,null,null,null,null,null,null,"0"]
[null,null,null,null,null,null,null,null,"0"]
[null,null,null,null,null,null,null,null,{"$f":"SurLtRtTot(G197,H197)","v":"0"}]
[null,null,null,null,null,null,null,null,"0"]
[null,null,null,null,null,null,null,null,"0"]
[null,null,null,null,null,null,null,null,"0"]
[null,null,null,null,null,null,null,null,"0"]
[null,null,null,null,null,null,null,null,"0"]
[null,null,null,null,null,null,null,null,"0"]
[null,null,null,null,null,null,null,null,"0",null,null,null,null,null,null,null,"Acq Table(4)"]
[null,null,null,null,null,null,null,null,"0",null,null,null,null,null,null,null,"Acq Table(5)"]
[null,null,null,null,null,null,null,null,"0"]
[null,null,null,null,null,null,null,null,"0"]
[null,null,null,null,null,null,null,null,"0"]
[null,null,null,null,null,null,null,null,"0"]
[null,null,null,null,null,null,null,null,"0"]
[null,null,null,null,null,null,null,null,"0"]
[null,null,null,null,null,null,null,null,"0"]
[null,null,null,null,null,null,null,null,"0"]
[null,null,null,null,null,null,null,null,"0"]
[null,null,null,null,null,null,null,null,"0"]
[null,null,null,null,null,null,null,null,"0"]
[null,null,null,null,null,null,null,null,"0"]
[null,null,null,null,null,null,null,null,"0"]
[null,null,null,null,null,null,null,null,"0"]
[null,null,null,null,null,null,null,null,"0"]
[null,null,null,null,null,null,null,null,"0"]
[null,null,null,null,null,null,null,null,"0"]
[null,null,null,null,null,null,null,null,"0"]
[null,null,null,null,null,null,null,null,"0"]
[null,null,null,null,null,null,null,null,"0"]
[null,null,null,null,null,null,null,null,"0"]
[null,null,null,null,null,null,null,null,"0"]
[null,null,null,null,null,null,null,null,"0"]
[null,null,null,null,null,null,null,null,"0"]
[null,null,null,null,null,null,null,null,"0"]
[null,null,null,null,null,null,null,null,"0"]
[null,null,null,null,null,null,null,null,"0"]
[null,null,null,null,null,null,null,null,"0"]
[null,null,null,null,null,null,null,null,"0"]
[null,null,null,null,null,null,null,null,"0"]
[null,null,null,null,null,null,null,null,"0"]
[null,null,null,null,null,null,null,null,"0"]
[null,null,null,null,null,null,null,null,"0"]
[null,null,null,null,null,null,null,null,"0"]
[null,null,null,null,null,null,null,null,"0"]
[null,null,null,null,null,null,null,null,"0"]
[null,null,null,null,null,null,null,null,"0"]
[null,null,null,null,null,null,null,null,"0"]
[null,null,null,null,null,null,null,null,"0"]
[null,null,null,null,null,null,null,null,"0"]
[null,null,null,null,null,null,null,null,"0"]
[null,null,null,null,null,null,null,null,"0"]
[null,null,null,null,null,null,null,null,"0"]
[null,null,null,null,null,null,null,null,"0"]
[null,null,null,null,null,null,null,null,"0"]
[null,null,null,null,null,null,null,null,"0"]
[null,null,null,null,null,null,null,null,"0"]
[null,null,null,null,null,null,null,null,"0"]
[null,null,null,null,null,null,null,null,"0",null,null,null,null,null,null,null,"Acq Table(5)"]
[null,null,null,null,null,null,null,null,"0",null,null,null,null,null,null,null,"Acq Table(6)"]
[null,null,null,null,null,null,null,null,"0"]
[null,null,null,null,null,null,null,null,"0"]
[null,null,null,null,null,null,null,null,"0"]
[null,null,null,null,null,null,null,null,"0"]
[null,null,null,null,null,null,null,null,"0"]
[null,null,null,null,null,null,null,null,{"$f":"SurLtRtTot(G261,H261)","v":"0"}]
[null,null,null,null,null,null,null,null,"0"]
[null,null,null,null,null,null,null,null,"0"]
[null,null,null,null,null,null,null,null,"0"]
[null,null,null,null,null,null,null,null,"0"]
[null,null,null,null,null,null,null,null,"0"]
[null,null,null,null,null,null,null,null,"0"]
[null,null,null,null,null,null,null,null,"0"]
[null,null,null,null,null,null,null,null,"0"]
[null,null,null,null,null,null,null,null,"0"]
[null,null,null,null,null,null,null,null,"0"]
[null,null,null,null,null,null,null,null,"0"]
[null,null,null,null,null,null,null,null,"0"]
[null,null,null,null,null,null,null,null,"0"]
[null,null,null,null,null,null,null,null,"0"]
[null,null,null,null,null,null,null,null,"0"]
[null,null,null,null,null,null,null,null,"0"]
[null,null,null,null,null,null,null,null,"0"]
[null,null,null,null,null,null,null,null,"0"]
[null,null,null,null,null,null,null,null,"0"]
[null,null,null,null,null,null,null,null,"0"]
[null,null,null,null,null,null,null,null,"0"]
[null,null,null,null,null,null,null,null,"0"]
[null,null,null,null,null,null,null,null,"0"]
[null,null,null,null,null,null,null,null,"0"]
[null,null,null,null,null,null,null,null,"0"]
[null,null,null,null,null,null,null,null,"0"]
[null,null,null,null,null,null,null,null,"0"]
[null,null,null,null,null,null,null,null,"0"]
[null,null,null,null,null,null,null,null,"0"]
[null,null,null,null,null,null,null,null,"0"]
[null,null,null,null,null,null,null,null,"0"]
[null,null,null,null,null,null,null,null,"0"]
[null,null,null,null,null,null,null,null,"0"]
[null,null,null,null,null,null,null,null,"0"]
[null,null,null,null,null,null,null,null,"0"]
[null,null,null,null,null,null,null,null,"0"]
[null,null,null,null,null,null,null,null,"0"]
[null,null,null,null,null,null,null,null,"0"]
[null,null,null,null,null,null,null,null,"0"]
[null,null,null,null,null,null,null,null,"0"]
[null,null,null,null,null,null,null,null,"0"]
[null,null,null,null,null,null,null,null,"0"]
[null,null,null,null,null,null,null,null,"0",null,null,null,null,null,null,null,"ACQ TABLE (5)"]
[null,null,null,null,null,null,null,null,"0",null,null,null,null,null,null,null,"ACQ TABLE (6)"]
[null,null,null,null,null,null,null,null,"0"]
[null,null,null,null,null,null,null,null,"0"]
[null,null,null,null,null,null,null,null,"0"]
[null,null,null,null,null,null,null,null,"0"]
[null,null,null,null,null,null,null,null,"0"]
[null,null,null,null,null,null,null,null,"0"]
[null,null,null,null,null,null,null,null,"0"]
[null,null,null,null,null,null,null,null,"0"]
[null,null,null,null,null,null,null,null,"0"]
[null,null,null,null,null,null,null,null,"0"]
[null,null,null,null,null,null,null,null,"0"]
[null,null,null,null,null,null,null,null,"0"]
[null,null,null,null,null,null,null,null,"0"]
[null,null,null,null,null,null,null,null,"0"]
[null,null,null,null,null,null,null,null,"0"]
[null,null,null,null,null,null,null,null,"0"]
[null,null,null,null,null,null,null,null,"0"]
[null,null,null,null,null,null,null,null,"0"]
[null,null,null,null,null,null,null,null,"0"]
[null,null,null,null,null,null,null,null,{"$f":"SurLtRtTot(G325,H325)","v":"0"}]
[null,null,null,null,null,null,null,null,"0"]
[null,null,null,null,null,null,null,null,"0"]
[null,null,null,null,null,null,null,null,"0"]
[null,null,null,null,null,null,null,null,"0"]
[null,null,null,null,null,null,null,null,"0"]
[null,null,null,null,null,null,null,null,"0"]
[null,null,null,null,null,null,null,null,"0"]
[null,null,null,null,null,null,null,null,"0"]
[null,null,null,null,null,null,null,null,"0"]
[null,null,null,null,null,null,null,null,"0"]
[null,null,null,null,null,null,null,null,"0"]
[null,null,null,null,null,null,null,null,"0"]
[null,null,null,null,null,null,null,null,"0"]
[null,null,null,null,null,null,null,null,"0"]
[null,null,null,null,null,null,null,null,"0"]
[null,null,null,null,null,null,null,null,"0"]
[null,null,null,null,null,null,null,null,"0"]
[null,null,null,null,null,null,null,null,"0"]
[null,null,null,null,null,null,null,null,"0"]
[null,null,null,null,null,null,null,null,"0"]
[null,null,null,null,null,null,null,null,"0"]
[null,null,null,null,null,null,null,null,"0"]
[null,null,null,null,null,null,null,null,"0"]
[null,null,null,null,null,null,null,null,"0"]
[null,null,null,null,null,null,null,null,"0"]
[null,null,null,null,null,null,null,null,"0"]
[null,null,null,null,null,null,null,null,"0"]
[null,null,null,null,null,null,null,null,"0"]
[null,null,null,null,null,null,null,null,"0",null,null,null,null,null,null,null,"Acq Table(7)"]
[null,null,null,null,null,null,null,null,"0",null,null,null,null,null,null,null,"Acq Table(8)"]
[null,null,null,null,null,null,null,null,"0"]
[null,null,null,null,null,null,null,null,"0"]
[null,null,null,null,null,null,null,null,"0"]
[null,null,null,null,null,null,null,null,"0"]
[null,null,null,null,null,null,null,null,"0"]
[null,null,null,null,null,null,null,null,"0"]
[null,null,null,null,null,null,null,null,"0"]
[null,null,null,null,null,null,null,null,"0"]
[null,null,null,null,null,null,null,null,"0"]
[null,null,null,null,null,null,null,null,"0"]
[null,null,null,null,null,null,null,null,"0"]
[null,null,null,null,null,null,null,null,"0"]
[null,null,null,null,null,null,null,null,"0"]
[null,null,null,null,null,null,null,null,"0"]
[null,null,null,null,null,null,null,null,"0"]
[null,null,null,null,null,null,null,null,"0"]
[null,null,null,null,null,null,null,null,"0"]
[null,null,null,null,null,null,null,null,"0"]
[null,null,null,null,null,null,null,null,"0"]
[null,null,null,null,null,null,null,null,"0"]
[null,null,null,null,null,null,null,null,"0"]
[null,null,null,null,null,null,null,null,"0"]
[null,null,null,null,null,null,null,null,"0"]
[null,null,null,null,null,null,null,null,"0"]
[null,null,null,null,null,null,null,null,"0"]
[null,null,null,null,null,null,null,null,"0"]
[null,null,null,null,null,null,null,null,"0"]
[null,null,null,null,null,null,null,null,"0"]
[null,null,null,null,null,null,null,null,"0"]
[null,null,null,null,null,null,null,null,"0"]
[null,null,null,null,null,null,null,null,"0"]
[null,null,null,null,null,null,null,null,"0"]
[null,null,null,null,null,null,null,null,"0"]
[null,null,null,null,null,null,null,null,{"$f":"SurLtRtTot(G389,H389)","v":"0"}]
[null,null,null,null,null,null,null,null,"0"]
[null,null,null,null,null,null,null,null,"0"]
[null,null,null,null,null,null,null,null,"0"]
[null,null,null,null,null,null,null,null,"0"]
[null,null,null,null,null,null,null,null,"0"]
[null,null,null,null,null,null,null,null,"0"]
[null,null,null,null,null,null,null,null,"0"]
[null,null,null,null,null,null,null,null,"0"]
[null,null,null,null,null,null,null,null,"0"]
[null,null,null,null,null,null,null,null,"0"]
[null,null,null,null,null,null,null,null,"0"]
[null,null,null,null,null,null,null,null,"0"]
[null,null,null,null,null,null,null,null,"0"]
[null,null,null,null,null,null,null,null,"0"]
[null,null,null,null,null,null,null,null,"0",null,null,null,null,null,null,null,"Acq Table(8)"]
[null,null,null,null,null,null,null,null,"0",null,null,null,null,null,null,null,"Acq Table(9)"]
[null,null,null,null,null,null,null,null,"0"]
[null,null,null,null,null,null,null,null,"0"]
[null,null,null,null,null,null,null,null,"0"]
[null,null,null,null,null,null,null,null,"0"]
[null,null,null,null,null,null,null,null,"0"]
[null,null,null,null,null,null,null,null,"0"]
[null,null,null,null,null,null,null,null,"0"]
[null,null,null,null,null,null,null,null,"0"]
[null,null,null,null,null,null,null,null,"0"]
[null,null,null,null,null,null,null,null,"0"]
[null,null,null,null,null,null,null,null,"0"]
[null,null,null,null,null,null,null,null,"0"]
[null,null,null,null,null,null,null,null,"0"]
[null,null,null,null,null,null,null,null,"0"]
[null,null,null,null,null,null,null,null,"0"]
[null,null,null,null,null,null,null,null,"0"]
[null,null,null,null,null,null,null,null,"0"]
[null,null,null,null,null,null,null,null,"0"]
[null,null,null,null,null,null,null,null,"0"]
[null,null,null,null,null,null,null,null,"0"]
[null,null,null,null,null,null,null,null,"0"]
[null,null,null,null,null,null,null,null,"0"]
[null,null,null,null,null,null,null,null,"0"]
[null,null,null,null,null,null,null,null,"0"]
[null,null,null,null,null,null,null,null,"0"]
[null,null,null,null,null,null,null,null,"0"]
[null,null,null,null,null,null,null,null,"0"]
[null,null,null,null,null,null,null,null,"0"]
[null,null,null,null,null,null,null,null,"0"]
[null,null,null,null,null,null,null,null,"0"]
[null,null,null,null,null,null,null,null,"0"]
[null,null,null,null,null,null,null,null,"0"]
[null,null,null,null,null,null,null,null,"0"]
[null,null,null,null,null,null,null,null,"0"]
[null,null,null,null,null,null,null,null,"0"]
[null,null,null,null,null,null,null,null,"0"]
[null,null,null,null,null,null,null,null,"0"]
[null,null,null,null,null,null,null,null,"0"]
[null,null,null,null,null,null,null,null,"0"]
[null,null,null,null,null,null,null,null,"0"]
[null,null,null,null,null,null,null,null,"0"]
[null,null,null,null,null,null,null,null,"0"]
[null,null,null,null,null,null,null,null,"0"]
[null,null,null,null,null,null,null,null,"0"]
[null,null,null,null,null,null,null,null,"0"]
[null,null,null,null,null,null,null,null,"0"]
[null,null,null,null,null,null,null,null,"0"]
[null,null,null,null,null,null,null,null,{"$f":"SurLtRtTot(G453,H453)","v":"0"}]
[null,null,null,null,null,null,null,null,"0",null,null,null,null,null,null,null,"Acq Table(9)"]
[null,null,null,null,null,null,null,null,"0",null,null,null,null,null,null,null,"Acq Table(10)"]
[null,null,null,null,null,null,null,null,"0"]
[null,null,null,null,null,null,null,null,"0"]
[null,null,null,null,null,null,null,null,"0"]
[null,null,null,null,null,null,null,null,"0"]
[null,null,null,null,null,null,null,null,"0"]
[null,null,null,null,null,null,null,null,"0"]
[null,null,null,null,null,null,null,null,"0"]
[null,null,null,null,null,null,null,null,"0"]
[null,null,null,null,null,null,null,null,"0"]
[null,null,null,null,null,null,null,null,"0"]
[null,null,null,null,null,null,null,null,"0"]
[null,null,null,null,null,null,null,null,"0"]
[null,null,null,null,null,null,null,null,"0"]
[null,null,null,null,null,null,null,null,"0"]
[null,null,null,null,null,null,null,null,"0"]
[null,null,null,null,null,null,null,null,"0"]
[null,null,null,null,null,null,null,null,"0"]
[null,null,null,null,null,null,null,null,"0"]
[null,null,null,null,null,null,null,null,"0"]
[null,null,null,null,null,null,null,null,"0"]
[null,null,null,null,null,null,null,null,"0"]
[null,null,null,null,null,null,null,null,"0"]
[null,null,null,null,null,null,null,null,"0"]
[null,null,null,null,null,null,null,null,"0"]
[null,null,null,null,null,null,null,null,"0"]
[null,null,null,null,null,null,null,null,"0"]
[null,null,null,null,null,null,null,null,"0"]
[null,null,null,null,null,null,null,null,"0"]
[null,null,null,null,null,null,null,null,"0"]
[null,null,null,null,null,null,null,null,"0"]
[null,null,null,null,null,null,null,null,"0"]
[null,null,null,null,null,null,null,null,"0"]
[null,null,null,null,null,null,null,null,"0"]
[null,null,null,null,null,null,null,null,"0"]
[null,null,null,null,null,null,null,null,"0"]
[null,null,null,null,null,null,null,null,"0"]
[null,null,null,null,null,null,null,null,"0"]
[null,null,null,null,null,null,null,null,"0"]
[null,null,null,null,null,null,null,null,"0"]
[null,null,null,null,null,null,null,null,"0"]
[null,null,null,null,null,null,null,null,"0"]
[null,null,null,null,null,null,null,null,"0"]
[null,null,null,null,null,null,null,null,"0"]
[null,null,null,null,null,null,null,null,"0"]
[null,null,null,null,null,null,null,null,"0"]
[null,null,null,null,null,null,null,null,"0"]
[null,null,null,null,null,null,null,null,"0"]
[null,null,null,null,null,null,null,null,"0"]
[null,null,null,null,null,null,null,null,"0",null,null,null,null,null,null,null,"Acq Table(10)"]

{"sheet":"DES IN","index":1,"n_rows":504,"n_cols":16,"rows_kept":504,"cut":false,"hidden":false,"merged":[]}
["INPUT DESIGN DATA",null,null,null,null,null,null,null,"Rev. 07\\07\\2017"]
[" TRACT NO.      ",null,null,null," VALUES OBTAINED FROM SURVEY       ",null,"* EASEMENT (S.F.)",null,null,null,null,null,"INSTRUCTIONS"]
[null," * AREA TO BE ACQUIRED IN SQUARE FEET",null,null,"TOTAL AREA SQUARE FEET",null,"PERM. DRAINAGE","PERM. SLOPE","CONST.","AIR RIGHTS","PERM. HIGHWAY",null,"1.","* INPUT DATA IN SQUARE FEET. "]
[null,"LEFT","RIGHT","FLAG **","LEFT","RIGHT",null,null,null,null,null,null,null,"THE R.O.W. ACQUISITION TABLE WILL MAKE CONVERSIONS TO ACRES WHEN NEEDED"]
[{"$f":"IF('SUR IN'!A5=0,\"\",'SUR IN'!A5)","v":""},null,null,{"$f":"IF((E5-B5)<0,\"X\",IF((F5-C5)<0,\"X\",\"\"))","v":""},{"$f":"checkAcre('SUR IN'!G5)","v":0},{"$f":"checkAcre('SUR IN'!H5)","v":0}]
[{"$f":"IF('SUR IN'!A6=0,\"\",'SUR IN'!A6)","v":""},null,null,"",{"$f":"checkAcre('SUR IN'!G6)","v":0},{"$f":"checkAcre('SUR IN'!H6)","v":0},null,null,null,null,null,null,"2.","** A red flag  \" X \"  will appear if the area right or left acquired is "]
[{"$f":"IF('SUR IN'!A7=0,\"\",'SUR IN'!A7)","v":""},null,null,"",{"$f":"checkAcre('SUR IN'!G7)","v":0},{"$f":"checkAcre('SUR IN'!H7)","v":0},null,null,null,null,null,null,null,"greater than the total area right or left."]
[{"$f":"IF('SUR IN'!A8=0,\"\",'SUR IN'!A8)","v":""},null,null,"",{"$f":"checkAcre('SUR IN'!G8)","v":0},{"$f":"checkAcre('SUR IN'!H8)","v":0}]
[{"$f":"IF('SUR IN'!A9=0,\"\",'SUR IN'!A9)","v":""},null,null,"",{"$f":"checkAcre('SUR IN'!G9)","v":0},{"$f":"checkAcre('SUR IN'!H9)","v":0},null,null,null,null,null,null,"3.","If the values do not appear correct:"]
[{"$f":"IF('SUR IN'!A10=0,\"\",'SUR IN'!A10)","v":""},null,null,"",{"$f":"checkAcre('SUR IN'!G10)","v":0},{"$f":"checkAcre('SUR IN'!H10)","v":0},null,null,null,null,null,null,null,"Automatic calculation may be turned off -"]
[{"$f":"IF('SUR IN'!A11=0,\"\",'SUR IN'!A11)","v":""},null,null,"",{"$f":"checkAcre('SUR IN'!G11)","v":0},{"$f":"checkAcre('SUR IN'!H11)","v":0},null,null,null,null,null,null,null,null,null,"Go to worksheet Add Sheets and run macro Calculation Worksheets - Grid lines OFF ."]
[{"$f":"IF('SUR IN'!A12=0,\"\",'SUR IN'!A12)","v":""},null,null,"",{"$f":"checkAcre('SUR IN'!G12)","v":0},{"$f":"checkAcre('SUR IN'!H12)","v":0},null,null,null,null,null,null,null,"Links may be incorrect -"]
[{"$f":"IF('SUR IN'!A13=0,\"\",'SUR IN'!A13)","v":""},null,null,"",{"$f":"checkAcre('SUR IN'!G13)","v":0},{"$f":"checkAcre('SUR IN'!H13)","v":0},null,null,null,null,null,null,null,null,null,"Use the macro button to rebuild the links."]
[{"$f":"IF('SUR IN'!A14=0,\"\",'SUR IN'!A14)","v":""},null,null,"",{"$f":"checkAcre('SUR IN'!G14)","v":0},{"$f":"checkAcre('SUR IN'!H14)","v":0}]
[{"$f":"IF('SUR IN'!A15=0,\"\",'SUR IN'!A15)","v":""},null,null,"",{"$f":"checkAcre('SUR IN'!G15)","v":0},{"$f":"checkAcre('SUR IN'!H15)","v":0}]
[{"$f":"IF('SUR IN'!A16=0,\"\",'SUR IN'!A16)","v":""},null,null,"",{"$f":"checkAcre('SUR IN'!G16)","v":0},{"$f":"checkAcre('SUR IN'!H16)","v":0}]
[{"$f":"IF('SUR IN'!A17=0,\"\",'SUR IN'!A17)","v":""},null,null,"",{"$f":"checkAcre('SUR IN'!G17)","v":0},{"$f":"checkAcre('SUR IN'!H17)","v":0}]
[{"$f":"IF('SUR IN'!A18=0,\"\",'SUR IN'!A18)","v":""},null,null,"",{"$f":"checkAcre('SUR IN'!G18)","v":0},{"$f":"checkAcre('SUR IN'!H18)","v":0}]
[{"$f":"IF('SUR IN'!A19=0,\"\",'SUR IN'!A19)","v":""},null,null,"",{"$f":"checkAcre('SUR IN'!G19)","v":0},{"$f":"checkAcre('SUR IN'!H19)","v":0}]
[{"$f":"IF('SUR IN'!A20=0,\"\",'SUR IN'!A20)","v":""},null,null,"",{"$f":"checkAcre('SUR IN'!G20)","v":0},{"$f":"checkAcre('SUR IN'!H20)","v":0}]
[{"$f":"IF('SUR IN'!A21=0,\"\",'SUR IN'!A21)","v":""},null,null,"",{"$f":"checkAcre('SUR IN'!G21)","v":0},{"$f":"checkAcre('SUR IN'!H21)","v":0}]
[{"$f":"IF('SUR IN'!A22=0,\"\",'SUR IN'!A22)","v":""},null,null,"",{"$f":"checkAcre('SUR IN'!G22)","v":0},{"$f":"checkAcre('SUR IN'!H22)","v":0}]
[{"$f":"IF('SUR IN'!A23=0,\"\",'SUR IN'!A23)","v":""},null,null,"",{"$f":"checkAcre('SUR IN'!G23)","v":0},{"$f":"checkAcre('SUR IN'!H23)","v":0}]
[{"$f":"IF('SUR IN'!A24=0,\"\",'SUR IN'!A24)","v":""},null,null,"",{"$f":"checkAcre('SUR IN'!G24)","v":0},{"$f":"checkAcre('SUR IN'!H24)","v":0}]
[{"$f":"IF('SUR IN'!A25=0,\"\",'SUR IN'!A25)","v":""},null,null,"",{"$f":"checkAcre('SUR IN'!G25)","v":0},{"$f":"checkAcre('SUR IN'!H25)","v":0}]
[{"$f":"IF('SUR IN'!A26=0,\"\",'SUR IN'!A26)","v":""},null,null,"",{"$f":"checkAcre('SUR IN'!G26)","v":0},{"$f":"checkAcre('SUR IN'!H26)","v":0}]
[{"$f":"IF('SUR IN'!A27=0,\"\",'SUR IN'!A27)","v":""},null,null,"",{"$f":"checkAcre('SUR IN'!G27)","v":0},{"$f":"checkAcre('SUR IN'!H27)","v":0}]
[{"$f":"IF('SUR IN'!A28=0,\"\",'SUR IN'!A28)","v":""},null,null,"",{"$f":"checkAcre('SUR IN'!G28)","v":0},{"$f":"checkAcre('SUR IN'!H28)","v":0}]
[{"$f":"IF('SUR IN'!A29=0,\"\",'SUR IN'!A29)","v":""},null,null,"",{"$f":"checkAcre('SUR IN'!G29)","v":0},{"$f":"checkAcre('SUR IN'!H29)","v":0}]
[{"$f":"IF('SUR IN'!A30=0,\"\",'SUR IN'!A30)","v":""},null,null,"",{"$f":"checkAcre('SUR IN'!G30)","v":0},{"$f":"checkAcre('SUR IN'!H30)","v":0}]
[{"$f":"IF('SUR IN'!A31=0,\"\",'SUR IN'!A31)","v":""},null,null,"",{"$f":"checkAcre('SUR IN'!G31)","v":0},{"$f":"checkAcre('SUR IN'!H31)","v":0}]
[{"$f":"IF('SUR IN'!A32=0,\"\",'SUR IN'!A32)","v":""},null,null,"",{"$f":"checkAcre('SUR IN'!G32)","v":0},{"$f":"checkAcre('SUR IN'!H32)","v":0}]
[{"$f":"IF('SUR IN'!A33=0,\"\",'SUR IN'!A33)","v":""},null,null,"",{"$f":"checkAcre('SUR IN'!G33)","v":0},{"$f":"checkAcre('SUR IN'!H33)","v":0}]
[{"$f":"IF('SUR IN'!A34=0,\"\",'SUR IN'!A34)","v":""},null,null,"",{"$f":"checkAcre('SUR IN'!G34)","v":0},{"$f":"checkAcre('SUR IN'!H34)","v":0}]
[{"$f":"IF('SUR IN'!A35=0,\"\",'SUR IN'!A35)","v":""},null,null,"",{"$f":"checkAcre('SUR IN'!G35)","v":0},{"$f":"checkAcre('SUR IN'!H35)","v":0}]
[{"$f":"IF('SUR IN'!A36=0,\"\",'SUR IN'!A36)","v":""},null,null,"",{"$f":"checkAcre('SUR IN'!G36)","v":0},{"$f":"checkAcre('SUR IN'!H36)","v":0}]
[{"$f":"IF('SUR IN'!A37=0,\"\",'SUR IN'!A37)","v":""},null,null,"",{"$f":"checkAcre('SUR IN'!G37)","v":0},{"$f":"checkAcre('SUR IN'!H37)","v":0}]
[{"$f":"IF('SUR IN'!A38=0,\"\",'SUR IN'!A38)","v":""},null,null,"",{"$f":"checkAcre('SUR IN'!G38)","v":0},{"$f":"checkAcre('SUR IN'!H38)","v":0}]
[{"$f":"IF('SUR IN'!A39=0,\"\",'SUR IN'!A39)","v":""},null,null,"",{"$f":"checkAcre('SUR IN'!G39)","v":0},{"$f":"checkAcre('SUR IN'!H39)","v":0}]
[{"$f":"IF('SUR IN'!A40=0,\"\",'SUR IN'!A40)","v":""},null,null,"",{"$f":"checkAcre('SUR IN'!G40)","v":0},{"$f":"checkAcre('SUR IN'!H40)","v":0}]
[{"$f":"IF('SUR IN'!A41=0,\"\",'SUR IN'!A41)","v":""},null,null,"",{"$f":"checkAcre('SUR IN'!G41)","v":0},{"$f":"checkAcre('SUR IN'!H41)","v":0}]
[{"$f":"IF('SUR IN'!A42=0,\"\",'SUR IN'!A42)","v":""},null,null,"",{"$f":"checkAcre('SUR IN'!G42)","v":0},{"$f":"checkAcre('SUR IN'!H42)","v":0}]
[{"$f":"IF('SUR IN'!A43=0,\"\",'SUR IN'!A43)","v":""},null,null,"",{"$f":"checkAcre('SUR IN'!G43)","v":0},{"$f":"checkAcre('SUR IN'!H43)","v":0}]
[{"$f":"IF('SUR IN'!A44=0,\"\",'SUR IN'!A44)","v":""},null,null,"",{"$f":"checkAcre('SUR IN'!G44)","v":0},{"$f":"checkAcre('SUR IN'!H44)","v":0}]
[{"$f":"IF('SUR IN'!A45=0,\"\",'SUR IN'!A45)","v":""},null,null,"",{"$f":"checkAcre('SUR IN'!G45)","v":0},{"$f":"checkAcre('SUR IN'!H45)","v":0}]
[{"$f":"IF('SUR IN'!A46=0,\"\",'SUR IN'!A46)","v":""},null,null,"",{"$f":"checkAcre('SUR IN'!G46)","v":0},{"$f":"checkAcre('SUR IN'!H46)","v":0}]
[{"$f":"IF('SUR IN'!A47=0,\"\",'SUR IN'!A47)","v":""},null,null,"",{"$f":"checkAcre('SUR IN'!G47)","v":0},{"$f":"checkAcre('SUR IN'!H47)","v":0}]
[{"$f":"IF('SUR IN'!A48=0,\"\",'SUR IN'!A48)","v":""},null,null,"",{"$f":"checkAcre('SUR IN'!G48)","v":0},{"$f":"checkAcre('SUR IN'!H48)","v":0}]
[{"$f":"IF('SUR IN'!A49=0,\"\",'SUR IN'!A49)","v":""},null,null,"",{"$f":"checkAcre('SUR IN'!G49)","v":0},{"$f":"checkAcre('SUR IN'!H49)","v":0}]
[{"$f":"IF('SUR IN'!A50=0,\"\",'SUR IN'!A50)","v":""},null,null,"",{"$f":"checkAcre('SUR IN'!G50)","v":0},{"$f":"checkAcre('SUR IN'!H50)","v":0}]
[{"$f":"IF('SUR IN'!A51=0,\"\",'SUR IN'!A51)","v":""},null,null,"",{"$f":"checkAcre('SUR IN'!G51)","v":0},{"$f":"checkAcre('SUR IN'!H51)","v":0}]
[{"$f":"IF('SUR IN'!A52=0,\"\",'SUR IN'!A52)","v":""},null,null,"",{"$f":"checkAcre('SUR IN'!G52)","v":0},{"$f":"checkAcre('SUR IN'!H52)","v":0}]
[{"$f":"IF('SUR IN'!A53=0,\"\",'SUR IN'!A53)","v":""},null,null,"",{"$f":"checkAcre('SUR IN'!G53)","v":0},{"$f":"checkAcre('SUR IN'!H53)","v":0}]
[{"$f":"IF('SUR IN'!A54=0,\"\",'SUR IN'!A54)","v":""},null,null,"",{"$f":"checkAcre('SUR IN'!G54)","v":0},{"$f":"checkAcre('SUR IN'!H54)","v":0},null,null,null,null,null,null,"Acq Table 1"]
[{"$f":"IF('SUR IN'!A55=0,\"\",'SUR IN'!A55)","v":""},null,null,"",{"$f":"checkAcre('SUR IN'!G55)","v":0},{"$f":"checkAcre('SUR IN'!H55)","v":0},null,null,null,null,null,null,"Acq Table 2"]
[{"$f":"IF('SUR IN'!A56=0,\"\",'SUR IN'!A56)","v":""},null,null,"",{"$f":"checkAcre('SUR IN'!G56)","v":0},{"$f":"checkAcre('SUR IN'!H56)","v":0}]
[{"$f":"IF('SUR IN'!A57=0,\"\",'SUR IN'!A57)","v":""},null,null,"",{"$f":"checkAcre('SUR IN'!G57)","v":0},{"$f":"checkAcre('SUR IN'!H57)","v":0}]
[{"$f":"IF('SUR IN'!A58=0,\"\",'SUR IN'!A58)","v":""},null,null,"",{"$f":"checkAcre('SUR IN'!G58)","v":0},{"$f":"checkAcre('SUR IN'!H58)","v":0}]
[{"$f":"IF('SUR IN'!A59=0,\"\",'SUR IN'!A59)","v":""},null,null,"",{"$f":"checkAcre('SUR IN'!G59)","v":0},{"$f":"checkAcre('SUR IN'!H59)","v":0}]
[{"$f":"IF('SUR IN'!A60=0,\"\",'SUR IN'!A60)","v":""},null,null,"",{"$f":"checkAcre('SUR IN'!G60)","v":0},{"$f":"checkAcre('SUR IN'!H60)","v":0}]
[{"$f":"IF('SUR IN'!A61=0,\"\",'SUR IN'!A61)","v":""},null,null,"",{"$f":"checkAcre('SUR IN'!G61)","v":0},{"$f":"checkAcre('SUR IN'!H61)","v":0}]
[{"$f":"IF('SUR IN'!A62=0,\"\",'SUR IN'!A62)","v":""},null,null,"",{"$f":"checkAcre('SUR IN'!G62)","v":0},{"$f":"checkAcre('SUR IN'!H62)","v":0}]
[{"$f":"IF('SUR IN'!A63=0,\"\",'SUR IN'!A63)","v":""},null,null,"",{"$f":"checkAcre('SUR IN'!G63)","v":0},{"$f":"checkAcre('SUR IN'!H63)","v":0}]
[{"$f":"IF('SUR IN'!A64=0,\"\",'SUR IN'!A64)","v":""},null,null,"",{"$f":"checkAcre('SUR IN'!G64)","v":0},{"$f":"checkAcre('SUR IN'!H64)","v":0}]
[{"$f":"IF('SUR IN'!A65=0,\"\",'SUR IN'!A65)","v":""},null,null,"",{"$f":"checkAcre('SUR IN'!G65)","v":0},{"$f":"checkAcre('SUR IN'!H65)","v":0}]
[{"$f":"IF('SUR IN'!A66=0,\"\",'SUR IN'!A66)","v":""},null,null,"",{"$f":"checkAcre('SUR IN'!G66)","v":0},{"$f":"checkAcre('SUR IN'!H66)","v":0}]
[{"$f":"IF('SUR IN'!A67=0,\"\",'SUR IN'!A67)","v":""},null,null,"",{"$f":"checkAcre('SUR IN'!G67)","v":0},{"$f":"checkAcre('SUR IN'!H67)","v":0}]
[{"$f":"IF('SUR IN'!A68=0,\"\",'SUR IN'!A68)","v":""},null,null,"",{"$f":"checkAcre('SUR IN'!G68)","v":0},{"$f":"checkAcre('SUR IN'!H68)","v":0}]
[{"$f":"IF('SUR IN'!A69=0,\"\",'SUR IN'!A69)","v":""},null,null,{"$f":"IF((E69-B69)<0,\"X\",IF((F69-C69)<0,\"X\",\"\"))","v":""},{"$f":"checkAcre('SUR IN'!G69)","v":0},{"$f":"checkAcre('SUR IN'!H69)","v":0}]
[{"$f":"IF('SUR IN'!A70=0,\"\",'SUR IN'!A70)","v":""},null,null,"",{"$f":"checkAcre('SUR IN'!G70)","v":0},{"$f":"checkAcre('SUR IN'!H70)","v":0}]
[{"$f":"IF('SUR IN'!A71=0,\"\",'SUR IN'!A71)","v":""},null,null,"",{"$f":"checkAcre('SUR IN'!G71)","v":0},{"$f":"checkAcre('SUR IN'!H71)","v":0}]
[{"$f":"IF('SUR IN'!A72=0,\"\",'SUR IN'!A72)","v":""},null,null,"",{"$f":"checkAcre('SUR IN'!G72)","v":0},{"$f":"checkAcre('SUR IN'!H72)","v":0}]
[{"$f":"IF('SUR IN'!A73=0,\"\",'SUR IN'!A73)","v":""},null,null,"",{"$f":"checkAcre('SUR IN'!G73)","v":0},{"$f":"checkAcre('SUR IN'!H73)","v":0}]
[{"$f":"IF('SUR IN'!A74=0,\"\",'SUR IN'!A74)","v":""},null,null,"",{"$f":"checkAcre('SUR IN'!G74)","v":0},{"$f":"checkAcre('SUR IN'!H74)","v":0}]
[{"$f":"IF('SUR IN'!A75=0,\"\",'SUR IN'!A75)","v":""},null,null,"",{"$f":"checkAcre('SUR IN'!G75)","v":0},{"$f":"checkAcre('SUR IN'!H75)","v":0}]
[{"$f":"IF('SUR IN'!A76=0,\"\",'SUR IN'!A76)","v":""},null,null,"",{"$f":"checkAcre('SUR IN'!G76)","v":0},{"$f":"checkAcre('SUR IN'!H76)","v":0}]
[{"$f":"IF('SUR IN'!A77=0,\"\",'SUR IN'!A77)","v":""},null,null,"",{"$f":"checkAcre('SUR IN'!G77)","v":0},{"$f":"checkAcre('SUR IN'!H77)","v":0}]
[{"$f":"IF('SUR IN'!A78=0,\"\",'SUR IN'!A78)","v":""},null,null,"",{"$f":"checkAcre('SUR IN'!G78)","v":0},{"$f":"checkAcre('SUR IN'!H78)","v":0}]
[{"$f":"IF('SUR IN'!A79=0,\"\",'SUR IN'!A79)","v":""},null,null,"",{"$f":"checkAcre('SUR IN'!G79)","v":0},{"$f":"checkAcre('SUR IN'!H79)","v":0}]
[{"$f":"IF('SUR IN'!A80=0,\"\",'SUR IN'!A80)","v":""},null,null,"",{"$f":"checkAcre('SUR IN'!G80)","v":0},{"$f":"checkAcre('SUR IN'!H80)","v":0}]
[{"$f":"IF('SUR IN'!A81=0,\"\",'SUR IN'!A81)","v":""},null,null,"",{"$f":"checkAcre('SUR IN'!G81)","v":0},{"$f":"checkAcre('SUR IN'!H81)","v":0}]
[{"$f":"IF('SUR IN'!A82=0,\"\",'SUR IN'!A82)","v":""},null,null,"",{"$f":"checkAcre('SUR IN'!G82)","v":0},{"$f":"checkAcre('SUR IN'!H82)","v":0}]
[{"$f":"IF('SUR IN'!A83=0,\"\",'SUR IN'!A83)","v":""},null,null,"",{"$f":"checkAcre('SUR IN'!G83)","v":0},{"$f":"checkAcre('SUR IN'!H83)","v":0}]
[{"$f":"IF('SUR IN'!A84=0,\"\",'SUR IN'!A84)","v":""},null,null,"",{"$f":"checkAcre('SUR IN'!G84)","v":0},{"$f":"checkAcre('SUR IN'!H84)","v":0}]
[{"$f":"IF('SUR IN'!A85=0,\"\",'SUR IN'!A85)","v":""},null,null,"",{"$f":"checkAcre('SUR IN'!G85)","v":0},{"$f":"checkAcre('SUR IN'!H85)","v":0}]
[{"$f":"IF('SUR IN'!A86=0,\"\",'SUR IN'!A86)","v":""},null,null,"",{"$f":"checkAcre('SUR IN'!G86)","v":0},{"$f":"checkAcre('SUR IN'!H86)","v":0}]
[{"$f":"IF('SUR IN'!A87=0,\"\",'SUR IN'!A87)","v":""},null,null,"",{"$f":"checkAcre('SUR IN'!G87)","v":0},{"$f":"checkAcre('SUR IN'!H87)","v":0}]
[{"$f":"IF('SUR IN'!A88=0,\"\",'SUR IN'!A88)","v":""},null,null,"",{"$f":"checkAcre('SUR IN'!G88)","v":0},{"$f":"checkAcre('SUR IN'!H88)","v":0}]
[{"$f":"IF('SUR IN'!A89=0,\"\",'SUR IN'!A89)","v":""},null,null,"",{"$f":"checkAcre('SUR IN'!G89)","v":0},{"$f":"checkAcre('SUR IN'!H89)","v":0}]
[{"$f":"IF('SUR IN'!A90=0,\"\",'SUR IN'!A90)","v":""},null,null,"",{"$f":"checkAcre('SUR IN'!G90)","v":0},{"$f":"checkAcre('SUR IN'!H90)","v":0}]
[{"$f":"IF('SUR IN'!A91=0,\"\",'SUR IN'!A91)","v":""},null,null,"",{"$f":"checkAcre('SUR IN'!G91)","v":0},{"$f":"checkAcre('SUR IN'!H91)","v":0}]
[{"$f":"IF('SUR IN'!A92=0,\"\",'SUR IN'!A92)","v":""},null,null,"",{"$f":"checkAcre('SUR IN'!G92)","v":0},{"$f":"checkAcre('SUR IN'!H92)","v":0}]
[{"$f":"IF('SUR IN'!A93=0,\"\",'SUR IN'!A93)","v":""},null,null,"",{"$f":"checkAcre('SUR IN'!G93)","v":0},{"$f":"checkAcre('SUR IN'!H93)","v":0}]
[{"$f":"IF('SUR IN'!A94=0,\"\",'SUR IN'!A94)","v":""},null,null,"",{"$f":"checkAcre('SUR IN'!G94)","v":0},{"$f":"checkAcre('SUR IN'!H94)","v":0}]
[{"$f":"IF('SUR IN'!A95=0,\"\",'SUR IN'!A95)","v":""},null,null,"",{"$f":"checkAcre('SUR IN'!G95)","v":0},{"$f":"checkAcre('SUR IN'!H95)","v":0}]
[{"$f":"IF('SUR IN'!A96=0,\"\",'SUR IN'!A96)","v":""},null,null,"",{"$f":"checkAcre('SUR IN'!G96)","v":0},{"$f":"checkAcre('SUR IN'!H96)","v":0}]
[{"$f":"IF('SUR IN'!A97=0,\"\",'SUR IN'!A97)","v":""},null,null,"",{"$f":"checkAcre('SUR IN'!G97)","v":0},{"$f":"checkAcre('SUR IN'!H97)","v":0}]
[{"$f":"IF('SUR IN'!A98=0,\"\",'SUR IN'!A98)","v":""},null,null,"",{"$f":"checkAcre('SUR IN'!G98)","v":0},{"$f":"checkAcre('SUR IN'!H98)","v":0}]
[{"$f":"IF('SUR IN'!A99=0,\"\",'SUR IN'!A99)","v":""},null,null,"",{"$f":"checkAcre('SUR IN'!G99)","v":0},{"$f":"checkAcre('SUR IN'!H99)","v":0}]
[{"$f":"IF('SUR IN'!A100=0,\"\",'SUR IN'!A100)","v":""},null,null,"",{"$f":"checkAcre('SUR IN'!G100)","v":0},{"$f":"checkAcre('SUR IN'!H100)","v":0}]
[{"$f":"IF('SUR IN'!A101=0,\"\",'SUR IN'!A101)","v":""},null,null,"",{"$f":"checkAcre('SUR IN'!G101)","v":0},{"$f":"checkAcre('SUR IN'!H101)","v":0}]
[{"$f":"IF('SUR IN'!A102=0,\"\",'SUR IN'!A102)","v":""},null,null,"",{"$f":"checkAcre('SUR IN'!G102)","v":0},{"$f":"checkAcre('SUR IN'!H102)","v":0}]
[{"$f":"IF('SUR IN'!A103=0,\"\",'SUR IN'!A103)","v":""},null,null,"",{"$f":"checkAcre('SUR IN'!G103)","v":0},{"$f":"checkAcre('SUR IN'!H103)","v":0}]
[{"$f":"IF('SUR IN'!A104=0,\"\",'SUR IN'!A104)","v":""},null,null,"",{"$f":"checkAcre('SUR IN'!G104)","v":0},{"$f":"checkAcre('SUR IN'!H104)","v":0},null,null,null,null,null,null,"Acq Table 2"]
[{"$f":"IF('SUR IN'!A105=0,\"\",'SUR IN'!A105)","v":""},null,null,"",{"$f":"checkAcre('SUR IN'!G105)","v":0},{"$f":"checkAcre('SUR IN'!H105)","v":0},null,null,null,null,null,null,"Acq Table 3"]
[{"$f":"IF('SUR IN'!A106=0,\"\",'SUR IN'!A106)","v":""},null,null,"",{"$f":"checkAcre('SUR IN'!G106)","v":0},{"$f":"checkAcre('SUR IN'!H106)","v":0}]
[{"$f":"IF('SUR IN'!A107=0,\"\",'SUR IN'!A107)","v":""},null,null,"",{"$f":"checkAcre('SUR IN'!G107)","v":0},{"$f":"checkAcre('SUR IN'!H107)","v":0}]
[{"$f":"IF('SUR IN'!A108=0,\"\",'SUR IN'!A108)","v":""},null,null,"",{"$f":"checkAcre('SUR IN'!G108)","v":0},{"$f":"checkAcre('SUR IN'!H108)","v":0}]
[{"$f":"IF('SUR IN'!A109=0,\"\",'SUR IN'!A109)","v":""},null,null,"",{"$f":"checkAcre('SUR IN'!G109)","v":0},{"$f":"checkAcre('SUR IN'!H109)","v":0}]
[{"$f":"IF('SUR IN'!A110=0,\"\",'SUR IN'!A110)","v":""},null,null,"",{"$f":"checkAcre('SUR IN'!G110)","v":0},{"$f":"checkAcre('SUR IN'!H110)","v":0}]
[{"$f":"IF('SUR IN'!A111=0,\"\",'SUR IN'!A111)","v":""},null,null,"",{"$f":"checkAcre('SUR IN'!G111)","v":0},{"$f":"checkAcre('SUR IN'!H111)","v":0}]
[{"$f":"IF('SUR IN'!A112=0,\"\",'SUR IN'!A112)","v":""},null,null,"",{"$f":"checkAcre('SUR IN'!G112)","v":0},{"$f":"checkAcre('SUR IN'!H112)","v":0}]
[{"$f":"IF('SUR IN'!A113=0,\"\",'SUR IN'!A113)","v":""},null,null,"",{"$f":"checkAcre('SUR IN'!G113)","v":0},{"$f":"checkAcre('SUR IN'!H113)","v":0}]
[{"$f":"IF('SUR IN'!A114=0,\"\",'SUR IN'!A114)","v":""},null,null,"",{"$f":"checkAcre('SUR IN'!G114)","v":0},{"$f":"checkAcre('SUR IN'!H114)","v":0}]
[{"$f":"IF('SUR IN'!A115=0,\"\",'SUR IN'!A115)","v":""},null,null,"",{"$f":"checkAcre('SUR IN'!G115)","v":0},{"$f":"checkAcre('SUR IN'!H115)","v":0}]
[{"$f":"IF('SUR IN'!A116=0,\"\",'SUR IN'!A116)","v":""},null,null,"",{"$f":"checkAcre('SUR IN'!G116)","v":0},{"$f":"checkAcre('SUR IN'!H116)","v":0}]
[{"$f":"IF('SUR IN'!A117=0,\"\",'SUR IN'!A117)","v":""},null,null,"",{"$f":"checkAcre('SUR IN'!G117)","v":0},{"$f":"checkAcre('SUR IN'!H117)","v":0}]
[{"$f":"IF('SUR IN'!A118=0,\"\",'SUR IN'!A118)","v":""},null,null,"",{"$f":"checkAcre('SUR IN'!G118)","v":0},{"$f":"checkAcre('SUR IN'!H118)","v":0}]
[{"$f":"IF('SUR IN'!A119=0,\"\",'SUR IN'!A119)","v":""},null,null,"",{"$f":"checkAcre('SUR IN'!G119)","v":0},{"$f":"checkAcre('SUR IN'!H119)","v":0}]
[{"$f":"IF('SUR IN'!A120=0,\"\",'SUR IN'!A120)","v":""},null,null,"",{"$f":"checkAcre('SUR IN'!G120)","v":0},{"$f":"checkAcre('SUR IN'!H120)","v":0}]
[{"$f":"IF('SUR IN'!A121=0,\"\",'SUR IN'!A121)","v":""},null,null,"",{"$f":"checkAcre('SUR IN'!G121)","v":0},{"$f":"checkAcre('SUR IN'!H121)","v":0}]
[{"$f":"IF('SUR IN'!A122=0,\"\",'SUR IN'!A122)","v":""},null,null,"",{"$f":"checkAcre('SUR IN'!G122)","v":0},{"$f":"checkAcre('SUR IN'!H122)","v":0}]
[{"$f":"IF('SUR IN'!A123=0,\"\",'SUR IN'!A123)","v":""},null,null,"",{"$f":"checkAcre('SUR IN'!G123)","v":0},{"$f":"checkAcre('SUR IN'!H123)","v":0}]
[{"$f":"IF('SUR IN'!A124=0,\"\",'SUR IN'!A124)","v":""},null,null,"",{"$f":"checkAcre('SUR IN'!G124)","v":0},{"$f":"checkAcre('SUR IN'!H124)","v":0}]
[{"$f":"IF('SUR IN'!A125=0,\"\",'SUR IN'!A125)","v":""},null,null,"",{"$f":"checkAcre('SUR IN'!G125)","v":0},{"$f":"checkAcre('SUR IN'!H125)","v":0}]
[{"$f":"IF('SUR IN'!A126=0,\"\",'SUR IN'!A126)","v":""},null,null,"",{"$f":"checkAcre('SUR IN'!G126)","v":0},{"$f":"checkAcre('SUR IN'!H126)","v":0}]
[{"$f":"IF('SUR IN'!A127=0,\"\",'SUR IN'!A127)","v":""},null,null,"",{"$f":"checkAcre('SUR IN'!G127)","v":0},{"$f":"checkAcre('SUR IN'!H127)","v":0}]
[{"$f":"IF('SUR IN'!A128=0,\"\",'SUR IN'!A128)","v":""},null,null,"",{"$f":"checkAcre('SUR IN'!G128)","v":0},{"$f":"checkAcre('SUR IN'!H128)","v":0}]
[{"$f":"IF('SUR IN'!A129=0,\"\",'SUR IN'!A129)","v":""},null,null,"",{"$f":"checkAcre('SUR IN'!G129)","v":0},{"$f":"checkAcre('SUR IN'!H129)","v":0}]
[{"$f":"IF('SUR IN'!A130=0,\"\",'SUR IN'!A130)","v":""},null,null,"",{"$f":"checkAcre('SUR IN'!G130)","v":0},{"$f":"checkAcre('SUR IN'!H130)","v":0}]
[{"$f":"IF('SUR IN'!A131=0,\"\",'SUR IN'!A131)","v":""},null,null,"",{"$f":"checkAcre('SUR IN'!G131)","v":0},{"$f":"checkAcre('SUR IN'!H131)","v":0}]
[{"$f":"IF('SUR IN'!A132=0,\"\",'SUR IN'!A132)","v":""},null,null,"",{"$f":"checkAcre('SUR IN'!G132)","v":0},{"$f":"checkAcre('SUR IN'!H132)","v":0}]
[{"$f":"IF('SUR IN'!A133=0,\"\",'SUR IN'!A133)","v":""},null,null,{"$f":"IF((E133-B133)<0,\"X\",IF((F133-C133)<0,\"X\",\"\"))","v":""},{"$f":"checkAcre('SUR IN'!G133)","v":0},{"$f":"checkAcre('SUR IN'!H133)","v":0}]
[{"$f":"IF('SUR IN'!A134=0,\"\",'SUR IN'!A134)","v":""},null,null,"",{"$f":"checkAcre('SUR IN'!G134)","v":0},{"$f":"checkAcre('SUR IN'!H134)","v":0}]
[{"$f":"IF('SUR IN'!A135=0,\"\",'SUR IN'!A135)","v":""},null,null,"",{"$f":"checkAcre('SUR IN'!G135)","v":0},{"$f":"checkAcre('SUR IN'!H135)","v":0}]
[{"$f":"IF('SUR IN'!A136=0,\"\",'SUR IN'!A136)","v":""},null,null,"",{"$f":"checkAcre('SUR IN'!G136)","v":0},{"$f":"checkAcre('SUR IN'!H136)","v":0}]
[{"$f":"IF('SUR IN'!A137=0,\"\",'SUR IN'!A137)","v":""},null,null,"",{"$f":"checkAcre('SUR IN'!G137)","v":0},{"$f":"checkAcre('SUR IN'!H137)","v":0}]
[{"$f":"IF('SUR IN'!A138=0,\"\",'SUR IN'!A138)","v":""},null,null,"",{"$f":"checkAcre('SUR IN'!G138)","v":0},{"$f":"checkAcre('SUR IN'!H138)","v":0}]
[{"$f":"IF('SUR IN'!A139=0,\"\",'SUR IN'!A139)","v":""},null,null,"",{"$f":"checkAcre('SUR IN'!G139)","v":0},{"$f":"checkAcre('SUR IN'!H139)","v":0}]
[{"$f":"IF('SUR IN'!A140=0,\"\",'SUR IN'!A140)","v":""},null,null,"",{"$f":"checkAcre('SUR IN'!G140)","v":0},{"$f":"checkAcre('SUR IN'!H140)","v":0}]
[{"$f":"IF('SUR IN'!A141=0,\"\",'SUR IN'!A141)","v":""},null,null,"",{"$f":"checkAcre('SUR IN'!G141)","v":0},{"$f":"checkAcre('SUR IN'!H141)","v":0}]
[{"$f":"IF('SUR IN'!A142=0,\"\",'SUR IN'!A142)","v":""},null,null,"",{"$f":"checkAcre('SUR IN'!G142)","v":0},{"$f":"checkAcre('SUR IN'!H142)","v":0}]
[{"$f":"IF('SUR IN'!A143=0,\"\",'SUR IN'!A143)","v":""},null,null,"",{"$f":"checkAcre('SUR IN'!G143)","v":0},{"$f":"checkAcre('SUR IN'!H143)","v":0}]
[{"$f":"IF('SUR IN'!A144=0,\"\",'SUR IN'!A144)","v":""},null,null,"",{"$f":"checkAcre('SUR IN'!G144)","v":0},{"$f":"checkAcre('SUR IN'!H144)","v":0}]
[{"$f":"IF('SUR IN'!A145=0,\"\",'SUR IN'!A145)","v":""},null,null,"",{"$f":"checkAcre('SUR IN'!G145)","v":0},{"$f":"checkAcre('SUR IN'!H145)","v":0}]
[{"$f":"IF('SUR IN'!A146=0,\"\",'SUR IN'!A146)","v":""},null,null,"",{"$f":"checkAcre('SUR IN'!G146)","v":0},{"$f":"checkAcre('SUR IN'!H146)","v":0}]
[{"$f":"IF('SUR IN'!A147=0,\"\",'SUR IN'!A147)","v":""},null,null,"",{"$f":"checkAcre('SUR IN'!G147)","v":0},{"$f":"checkAcre('SUR IN'!H147)","v":0}]
[{"$f":"IF('SUR IN'!A148=0,\"\",'SUR IN'!A148)","v":""},null,null,"",{"$f":"checkAcre('SUR IN'!G148)","v":0},{"$f":"checkAcre('SUR IN'!H148)","v":0}]
[{"$f":"IF('SUR IN'!A149=0,\"\",'SUR IN'!A149)","v":""},null,null,"",{"$f":"checkAcre('SUR IN'!G149)","v":0},{"$f":"checkAcre('SUR IN'!H149)","v":0}]
[{"$f":"IF('SUR IN'!A150=0,\"\",'SUR IN'!A150)","v":""},null,null,"",{"$f":"checkAcre('SUR IN'!G150)","v":0},{"$f":"checkAcre('SUR IN'!H150)","v":0}]
[{"$f":"IF('SUR IN'!A151=0,\"\",'SUR IN'!A151)","v":""},null,null,"",{"$f":"checkAcre('SUR IN'!G151)","v":0},{"$f":"checkAcre('SUR IN'!H151)","v":0}]
[{"$f":"IF('SUR IN'!A152=0,\"\",'SUR IN'!A152)","v":""},null,null,"",{"$f":"checkAcre('SUR IN'!G152)","v":0},{"$f":"checkAcre('SUR IN'!H152)","v":0}]
[{"$f":"IF('SUR IN'!A153=0,\"\",'SUR IN'!A153)","v":""},null,null,"",{"$f":"checkAcre('SUR IN'!G153)","v":0},{"$f":"checkAcre('SUR IN'!H153)","v":0}]
[{"$f":"IF('SUR IN'!A154=0,\"\",'SUR IN'!A154)","v":""},null,null,"",{"$f":"checkAcre('SUR IN'!G154)","v":0},{"$f":"checkAcre('SUR IN'!H154)","v":0},null,null,null,null,null,null,"Acq Table 3"]
[{"$f":"IF('SUR IN'!A155=0,\"\",'SUR IN'!A155)","v":""},null,null,"",{"$f":"checkAcre('SUR IN'!G155)","v":0},{"$f":"checkAcre('SUR IN'!H155)","v":0},null,null,null,null,null,null,"Acq Table 4"]
[{"$f":"IF('SUR IN'!A156=0,\"\",'SUR IN'!A156)","v":""},null,null,"",{"$f":"checkAcre('SUR IN'!G156)","v":0},{"$f":"checkAcre('SUR IN'!H156)","v":0}]
[{"$f":"IF('SUR IN'!A157=0,\"\",'SUR IN'!A157)","v":""},null,null,"",{"$f":"checkAcre('SUR IN'!G157)","v":0},{"$f":"checkAcre('SUR IN'!H157)","v":0}]
[{"$f":"IF('SUR IN'!A158=0,\"\",'SUR IN'!A158)","v":""},null,null,"",{"$f":"checkAcre('SUR IN'!G158)","v":0},{"$f":"checkAcre('SUR IN'!H158)","v":0}]
[{"$f":"IF('SUR IN'!A159=0,\"\",'SUR IN'!A159)","v":""},null,null,"",{"$f":"checkAcre('SUR IN'!G159)","v":0},{"$f":"checkAcre('SUR IN'!H159)","v":0}]
[{"$f":"IF('SUR IN'!A160=0,\"\",'SUR IN'!A160)","v":""},null,null,"",{"$f":"checkAcre('SUR IN'!G160)","v":0},{"$f":"checkAcre('SUR IN'!H160)","v":0}]
[{"$f":"IF('SUR IN'!A161=0,\"\",'SUR IN'!A161)","v":""},null,null,"",{"$f":"checkAcre('SUR IN'!G161)","v":0},{"$f":"checkAcre('SUR IN'!H161)","v":0}]
[{"$f":"IF('SUR IN'!A162=0,\"\",'SUR IN'!A162)","v":""},null,null,"",{"$f":"checkAcre('SUR IN'!G162)","v":0},{"$f":"checkAcre('SUR IN'!H162)","v":0}]
[{"$f":"IF('SUR IN'!A163=0,\"\",'SUR IN'!A163)","v":""},null,null,"",{"$f":"checkAcre('SUR IN'!G163)","v":0},{"$f":"checkAcre('SUR IN'!H163)","v":0}]
[{"$f":"IF('SUR IN'!A164=0,\"\",'SUR IN'!A164)","v":""},null,null,"",{"$f":"checkAcre('SUR IN'!G164)","v":0},{"$f":"checkAcre('SUR IN'!H164)","v":0}]
[{"$f":"IF('SUR IN'!A165=0,\"\",'SUR IN'!A165)","v":""},null,null,"",{"$f":"checkAcre('SUR IN'!G165)","v":0},{"$f":"checkAcre('SUR IN'!H165)","v":0}]
[{"$f":"IF('SUR IN'!A166=0,\"\",'SUR IN'!A166)","v":""},null,null,"",{"$f":"checkAcre('SUR IN'!G166)","v":0},{"$f":"checkAcre('SUR IN'!H166)","v":0}]
[{"$f":"IF('SUR IN'!A167=0,\"\",'SUR IN'!A167)","v":""},null,null,"",{"$f":"checkAcre('SUR IN'!G167)","v":0},{"$f":"checkAcre('SUR IN'!H167)","v":0}]
[{"$f":"IF('SUR IN'!A168=0,\"\",'SUR IN'!A168)","v":""},null,null,"",{"$f":"checkAcre('SUR IN'!G168)","v":0},{"$f":"checkAcre('SUR IN'!H168)","v":0}]
[{"$f":"IF('SUR IN'!A169=0,\"\",'SUR IN'!A169)","v":""},null,null,"",{"$f":"checkAcre('SUR IN'!G169)","v":0},{"$f":"checkAcre('SUR IN'!H169)","v":0}]
[{"$f":"IF('SUR IN'!A170=0,\"\",'SUR IN'!A170)","v":""},null,null,"",{"$f":"checkAcre('SUR IN'!G170)","v":0},{"$f":"checkAcre('SUR IN'!H170)","v":0}]
[{"$f":"IF('SUR IN'!A171=0,\"\",'SUR IN'!A171)","v":""},null,null,"",{"$f":"checkAcre('SUR IN'!G171)","v":0},{"$f":"checkAcre('SUR IN'!H171)","v":0}]
[{"$f":"IF('SUR IN'!A172=0,\"\",'SUR IN'!A172)","v":""},null,null,"",{"$f":"checkAcre('SUR IN'!G172)","v":0},{"$f":"checkAcre('SUR IN'!H172)","v":0}]
[{"$f":"IF('SUR IN'!A173=0,\"\",'SUR IN'!A173)","v":""},null,null,"",{"$f":"checkAcre('SUR IN'!G173)","v":0},{"$f":"checkAcre('SUR IN'!H173)","v":0}]
[{"$f":"IF('SUR IN'!A174=0,\"\",'SUR IN'!A174)","v":""},null,null,"",{"$f":"checkAcre('SUR IN'!G174)","v":0},{"$f":"checkAcre('SUR IN'!H174)","v":0}]
[{"$f":"IF('SUR IN'!A175=0,\"\",'SUR IN'!A175)","v":""},null,null,"",{"$f":"checkAcre('SUR IN'!G175)","v":0},{"$f":"checkAcre('SUR IN'!H175)","v":0}]
[{"$f":"IF('SUR IN'!A176=0,\"\",'SUR IN'!A176)","v":""},null,null,"",{"$f":"checkAcre('SUR IN'!G176)","v":0},{"$f":"checkAcre('SUR IN'!H176)","v":0}]
[{"$f":"IF('SUR IN'!A177=0,\"\",'SUR IN'!A177)","v":""},null,null,"",{"$f":"checkAcre('SUR IN'!G177)","v":0},{"$f":"checkAcre('SUR IN'!H177)","v":0}]
[{"$f":"IF('SUR IN'!A178=0,\"\",'SUR IN'!A178)","v":""},null,null,"",{"$f":"checkAcre('SUR IN'!G178)","v":0},{"$f":"checkAcre('SUR IN'!H178)","v":0}]
[{"$f":"IF('SUR IN'!A179=0,\"\",'SUR IN'!A179)","v":""},null,null,"",{"$f":"checkAcre('SUR IN'!G179)","v":0},{"$f":"checkAcre('SUR IN'!H179)","v":0}]
[{"$f":"IF('SUR IN'!A180=0,\"\",'SUR IN'!A180)","v":""},null,null,"",{"$f":"checkAcre('SUR IN'!G180)","v":0},{"$f":"checkAcre('SUR IN'!H180)","v":0}]
[{"$f":"IF('SUR IN'!A181=0,\"\",'SUR IN'!A181)","v":""},null,null,"",{"$f":"checkAcre('SUR IN'!G181)","v":0},{"$f":"checkAcre('SUR IN'!H181)","v":0}]
[{"$f":"IF('SUR IN'!A182=0,\"\",'SUR IN'!A182)","v":""},null,null,"",{"$f":"checkAcre('SUR IN'!G182)","v":0},{"$f":"checkAcre('SUR IN'!H182)","v":0}]
[{"$f":"IF('SUR IN'!A183=0,\"\",'SUR IN'!A183)","v":""},null,null,"",{"$f":"checkAcre('SUR IN'!G183)","v":0},{"$f":"checkAcre('SUR IN'!H183)","v":0}]
[{"$f":"IF('SUR IN'!A184=0,\"\",'SUR IN'!A184)","v":""},null,null,"",{"$f":"checkAcre('SUR IN'!G184)","v":0},{"$f":"checkAcre('SUR IN'!H184)","v":0}]
[{"$f":"IF('SUR IN'!A185=0,\"\",'SUR IN'!A185)","v":""},null,null,"",{"$f":"checkAcre('SUR IN'!G185)","v":0},{"$f":"checkAcre('SUR IN'!H185)","v":0}]
[{"$f":"IF('SUR IN'!A186=0,\"\",'SUR IN'!A186)","v":""},null,null,"",{"$f":"checkAcre('SUR IN'!G186)","v":0},{"$f":"checkAcre('SUR IN'!H186)","v":0}]
[{"$f":"IF('SUR IN'!A187=0,\"\",'SUR IN'!A187)","v":""},null,null,"",{"$f":"checkAcre('SUR IN'!G187)","v":0},{"$f":"checkAcre('SUR IN'!H187)","v":0}]
[{"$f":"IF('SUR IN'!A188=0,\"\",'SUR IN'!A188)","v":""},null,null,"",{"$f":"checkAcre('SUR IN'!G188)","v":0},{"$f":"checkAcre('SUR IN'!H188)","v":0}]
[{"$f":"IF('SUR IN'!A189=0,\"\",'SUR IN'!A189)","v":""},null,null,"",{"$f":"checkAcre('SUR IN'!G189)","v":0},{"$f":"checkAcre('SUR IN'!H189)","v":0}]
[{"$f":"IF('SUR IN'!A190=0,\"\",'SUR IN'!A190)","v":""},null,null,"",{"$f":"checkAcre('SUR IN'!G190)","v":0},{"$f":"checkAcre('SUR IN'!H190)","v":0}]
[{"$f":"IF('SUR IN'!A191=0,\"\",'SUR IN'!A191)","v":""},null,null,"",{"$f":"checkAcre('SUR IN'!G191)","v":0},{"$f":"checkAcre('SUR IN'!H191)","v":0}]
[{"$f":"IF('SUR IN'!A192=0,\"\",'SUR IN'!A192)","v":""},null,null,"",{"$f":"checkAcre('SUR IN'!G192)","v":0},{"$f":"checkAcre('SUR IN'!H192)","v":0}]
[{"$f":"IF('SUR IN'!A193=0,\"\",'SUR IN'!A193)","v":""},null,null,"",{"$f":"checkAcre('SUR IN'!G193)","v":0},{"$f":"checkAcre('SUR IN'!H193)","v":0}]
[{"$f":"IF('SUR IN'!A194=0,\"\",'SUR IN'!A194)","v":""},null,null,"",{"$f":"checkAcre('SUR IN'!G194)","v":0},{"$f":"checkAcre('SUR IN'!H194)","v":0}]
[{"$f":"IF('SUR IN'!A195=0,\"\",'SUR IN'!A195)","v":""},null,null,"",{"$f":"checkAcre('SUR IN'!G195)","v":0},{"$f":"checkAcre('SUR IN'!H195)","v":0}]
[{"$f":"IF('SUR IN'!A196=0,\"\",'SUR IN'!A196)","v":""},null,null,"",{"$f":"checkAcre('SUR IN'!G196)","v":0},{"$f":"checkAcre('SUR IN'!H196)","v":0}]
[{"$f":"IF('SUR IN'!A197=0,\"\",'SUR IN'!A197)","v":""},null,null,{"$f":"IF((E197-B197)<0,\"X\",IF((F197-C197)<0,\"X\",\"\"))","v":""},{"$f":"checkAcre('SUR IN'!G197)","v":0},{"$f":"checkAcre('SUR IN'!H197)","v":0}]
[{"$f":"IF('SUR IN'!A198=0,\"\",'SUR IN'!A198)","v":""},null,null,"",{"$f":"checkAcre('SUR IN'!G198)","v":0},{"$f":"checkAcre('SUR IN'!H198)","v":0}]
[{"$f":"IF('SUR IN'!A199=0,\"\",'SUR IN'!A199)","v":""},null,null,"",{"$f":"checkAcre('SUR IN'!G199)","v":0},{"$f":"checkAcre('SUR IN'!H199)","v":0}]
[{"$f":"IF('SUR IN'!A200=0,\"\",'SUR IN'!A200)","v":""},null,null,"",{"$f":"checkAcre('SUR IN'!G200)","v":0},{"$f":"checkAcre('SUR IN'!H200)","v":0}]
[{"$f":"IF('SUR IN'!A201=0,\"\",'SUR IN'!A201)","v":""},null,null,"",{"$f":"checkAcre('SUR IN'!G201)","v":0},{"$f":"checkAcre('SUR IN'!H201)","v":0}]
[{"$f":"IF('SUR IN'!A202=0,\"\",'SUR IN'!A202)","v":""},null,null,"",{"$f":"checkAcre('SUR IN'!G202)","v":0},{"$f":"checkAcre('SUR IN'!H202)","v":0}]
[{"$f":"IF('SUR IN'!A203=0,\"\",'SUR IN'!A203)","v":""},null,null,"",{"$f":"checkAcre('SUR IN'!G203)","v":0},{"$f":"checkAcre('SUR IN'!H203)","v":0}]
[{"$f":"IF('SUR IN'!A204=0,\"\",'SUR IN'!A204)","v":""},null,null,"",{"$f":"checkAcre('SUR IN'!G204)","v":0},{"$f":"checkAcre('SUR IN'!H204)","v":0},null,null,null,null,null,null,"Acq Table 4"]
[{"$f":"IF('SUR IN'!A205=0,\"\",'SUR IN'!A205)","v":""},null,null,"",{"$f":"checkAcre('SUR IN'!G205)","v":0},{"$f":"checkAcre('SUR IN'!H205)","v":0},null,null,null,null,null,null,"Acq Table 5"]
[{"$f":"IF('SUR IN'!A206=0,\"\",'SUR IN'!A206)","v":""},null,null,"",{"$f":"checkAcre('SUR IN'!G206)","v":0},{"$f":"checkAcre('SUR IN'!H206)","v":0}]
[{"$f":"IF('SUR IN'!A207=0,\"\",'SUR IN'!A207)","v":""},null,null,"",{"$f":"checkAcre('SUR IN'!G207)","v":0},{"$f":"checkAcre('SUR IN'!H207)","v":0}]
[{"$f":"IF('SUR IN'!A208=0,\"\",'SUR IN'!A208)","v":""},null,null,"",{"$f":"checkAcre('SUR IN'!G208)","v":0},{"$f":"checkAcre('SUR IN'!H208)","v":0}]
[{"$f":"IF('SUR IN'!A209=0,\"\",'SUR IN'!A209)","v":""},null,null,"",{"$f":"checkAcre('SUR IN'!G209)","v":0},{"$f":"checkAcre('SUR IN'!H209)","v":0}]
[{"$f":"IF('SUR IN'!A210=0,\"\",'SUR IN'!A210)","v":""},null,null,"",{"$f":"checkAcre('SUR IN'!G210)","v":0},{"$f":"checkAcre('SUR IN'!H210)","v":0}]
[{"$f":"IF('SUR IN'!A211=0,\"\",'SUR IN'!A211)","v":""},null,null,"",{"$f":"checkAcre('SUR IN'!G211)","v":0},{"$f":"checkAcre('SUR IN'!H211)","v":0}]
[{"$f":"IF('SUR IN'!A212=0,\"\",'SUR IN'!A212)","v":""},null,null,"",{"$f":"checkAcre('SUR IN'!G212)","v":0},{"$f":"checkAcre('SUR IN'!H212)","v":0}]
[{"$f":"IF('SUR IN'!A213=0,\"\",'SUR IN'!A213)","v":""},null,null,"",{"$f":"checkAcre('SUR IN'!G213)","v":0},{"$f":"checkAcre('SUR IN'!H213)","v":0}]
[{"$f":"IF('SUR IN'!A214=0,\"\",'SUR IN'!A214)","v":""},null,null,"",{"$f":"checkAcre('SUR IN'!G214)","v":0},{"$f":"checkAcre('SUR IN'!H214)","v":0}]
[{"$f":"IF('SUR IN'!A215=0,\"\",'SUR IN'!A215)","v":""},null,null,"",{"$f":"checkAcre('SUR IN'!G215)","v":0},{"$f":"checkAcre('SUR IN'!H215)","v":0}]
[{"$f":"IF('SUR IN'!A216=0,\"\",'SUR IN'!A216)","v":""},null,null,"",{"$f":"checkAcre('SUR IN'!G216)","v":0},{"$f":"checkAcre('SUR IN'!H216)","v":0}]
[{"$f":"IF('SUR IN'!A217=0,\"\",'SUR IN'!A217)","v":""},null,null,"",{"$f":"checkAcre('SUR IN'!G217)","v":0},{"$f":"checkAcre('SUR IN'!H217)","v":0}]
[{"$f":"IF('SUR IN'!A218=0,\"\",'SUR IN'!A218)","v":""},null,null,"",{"$f":"checkAcre('SUR IN'!G218)","v":0},{"$f":"checkAcre('SUR IN'!H218)","v":0}]
[{"$f":"IF('SUR IN'!A219=0,\"\",'SUR IN'!A219)","v":""},null,null,"",{"$f":"checkAcre('SUR IN'!G219)","v":0},{"$f":"checkAcre('SUR IN'!H219)","v":0}]
[{"$f":"IF('SUR IN'!A220=0,\"\",'SUR IN'!A220)","v":""},null,null,"",{"$f":"checkAcre('SUR IN'!G220)","v":0},{"$f":"checkAcre('SUR IN'!H220)","v":0}]
[{"$f":"IF('SUR IN'!A221=0,\"\",'SUR IN'!A221)","v":""},null,null,"",{"$f":"checkAcre('SUR IN'!G221)","v":0},{"$f":"checkAcre('SUR IN'!H221)","v":0}]
[{"$f":"IF('SUR IN'!A222=0,\"\",'SUR IN'!A222)","v":""},null,null,"",{"$f":"checkAcre('SUR IN'!G222)","v":0},{"$f":"checkAcre('SUR IN'!H222)","v":0}]
[{"$f":"IF('SUR IN'!A223=0,\"\",'SUR IN'!A223)","v":""},null,null,"",{"$f":"checkAcre('SUR IN'!G223)","v":0},{"$f":"checkAcre('SUR IN'!H223)","v":0}]
[{"$f":"IF('SUR IN'!A224=0,\"\",'SUR IN'!A224)","v":""},null,null,"",{"$f":"checkAcre('SUR IN'!G224)","v":0},{"$f":"checkAcre('SUR IN'!H224)","v":0}]
[{"$f":"IF('SUR IN'!A225=0,\"\",'SUR IN'!A225)","v":""},null,null,"",{"$f":"checkAcre('SUR IN'!G225)","v":0},{"$f":"checkAcre('SUR IN'!H225)","v":0}]
[{"$f":"IF('SUR IN'!A226=0,\"\",'SUR IN'!A226)","v":""},null,null,"",{"$f":"checkAcre('SUR IN'!G226)","v":0},{"$f":"checkAcre('SUR IN'!H226)","v":0}]
[{"$f":"IF('SUR IN'!A227=0,\"\",'SUR IN'!A227)","v":""},null,null,"",{"$f":"checkAcre('SUR IN'!G227)","v":0},{"$f":"checkAcre('SUR IN'!H227)","v":0}]
[{"$f":"IF('SUR IN'!A228=0,\"\",'SUR IN'!A228)","v":""},null,null,"",{"$f":"checkAcre('SUR IN'!G228)","v":0},{"$f":"checkAcre('SUR IN'!H228)","v":0}]
[{"$f":"IF('SUR IN'!A229=0,\"\",'SUR IN'!A229)","v":""},null,null,"",{"$f":"checkAcre('SUR IN'!G229)","v":0},{"$f":"checkAcre('SUR IN'!H229)","v":0}]
[{"$f":"IF('SUR IN'!A230=0,\"\",'SUR IN'!A230)","v":""},null,null,"",{"$f":"checkAcre('SUR IN'!G230)","v":0},{"$f":"checkAcre('SUR IN'!H230)","v":0}]
[{"$f":"IF('SUR IN'!A231=0,\"\",'SUR IN'!A231)","v":""},null,null,"",{"$f":"checkAcre('SUR IN'!G231)","v":0},{"$f":"checkAcre('SUR IN'!H231)","v":0}]
[{"$f":"IF('SUR IN'!A232=0,\"\",'SUR IN'!A232)","v":""},null,null,"",{"$f":"checkAcre('SUR IN'!G232)","v":0},{"$f":"checkAcre('SUR IN'!H232)","v":0}]
[{"$f":"IF('SUR IN'!A233=0,\"\",'SUR IN'!A233)","v":""},null,null,"",{"$f":"checkAcre('SUR IN'!G233)","v":0},{"$f":"checkAcre('SUR IN'!H233)","v":0}]
[{"$f":"IF('SUR IN'!A234=0,\"\",'SUR IN'!A234)","v":""},null,null,"",{"$f":"checkAcre('SUR IN'!G234)","v":0},{"$f":"checkAcre('SUR IN'!H234)","v":0}]
[{"$f":"IF('SUR IN'!A235=0,\"\",'SUR IN'!A235)","v":""},null,null,"",{"$f":"checkAcre('SUR IN'!G235)","v":0},{"$f":"checkAcre('SUR IN'!H235)","v":0}]
[{"$f":"IF('SUR IN'!A236=0,\"\",'SUR IN'!A236)","v":""},null,null,"",{"$f":"checkAcre('SUR IN'!G236)","v":0},{"$f":"checkAcre('SUR IN'!H236)","v":0}]
[{"$f":"IF('SUR IN'!A237=0,\"\",'SUR IN'!A237)","v":""},null,null,"",{"$f":"checkAcre('SUR IN'!G237)","v":0},{"$f":"checkAcre('SUR IN'!H237)","v":0}]
[{"$f":"IF('SUR IN'!A238=0,\"\",'SUR IN'!A238)","v":""},null,null,"",{"$f":"checkAcre('SUR IN'!G238)","v":0},{"$f":"checkAcre('SUR IN'!H238)","v":0}]
[{"$f":"IF('SUR IN'!A239=0,\"\",'SUR IN'!A239)","v":""},null,null,"",{"$f":"checkAcre('SUR IN'!G239)","v":0},{"$f":"checkAcre('SUR IN'!H239)","v":0}]
[{"$f":"IF('SUR IN'!A240=0,\"\",'SUR IN'!A240)","v":""},null,null,"",{"$f":"checkAcre('SUR IN'!G240)","v":0},{"$f":"checkAcre('SUR IN'!H240)","v":0}]
[{"$f":"IF('SUR IN'!A241=0,\"\",'SUR IN'!A241)","v":""},null,null,"",{"$f":"checkAcre('SUR IN'!G241)","v":0},{"$f":"checkAcre('SUR IN'!H241)","v":0}]
[{"$f":"IF('SUR IN'!A242=0,\"\",'SUR IN'!A242)","v":""},null,null,"",{"$f":"checkAcre('SUR IN'!G242)","v":0},{"$f":"checkAcre('SUR IN'!H242)","v":0}]
[{"$f":"IF('SUR IN'!A243=0,\"\",'SUR IN'!A243)","v":""},null,null,"",{"$f":"checkAcre('SUR IN'!G243)","v":0},{"$f":"checkAcre('SUR IN'!H243)","v":0}]
[{"$f":"IF('SUR IN'!A244=0,\"\",'SUR IN'!A244)","v":""},null,null,"",{"$f":"checkAcre('SUR IN'!G244)","v":0},{"$f":"checkAcre('SUR IN'!H244)","v":0}]
[{"$f":"IF('SUR IN'!A245=0,\"\",'SUR IN'!A245)","v":""},null,null,"",{"$f":"checkAcre('SUR IN'!G245)","v":0},{"$f":"checkAcre('SUR IN'!H245)","v":0}]
[{"$f":"IF('SUR IN'!A246=0,\"\",'SUR IN'!A246)","v":""},null,null,"",{"$f":"checkAcre('SUR IN'!G246)","v":0},{"$f":"checkAcre('SUR IN'!H246)","v":0}]
[{"$f":"IF('SUR IN'!A247=0,\"\",'SUR IN'!A247)","v":""},null,null,"",{"$f":"checkAcre('SUR IN'!G247)","v":0},{"$f":"checkAcre('SUR IN'!H247)","v":0}]
[{"$f":"IF('SUR IN'!A248=0,\"\",'SUR IN'!A248)","v":""},null,null,"",{"$f":"checkAcre('SUR IN'!G248)","v":0},{"$f":"checkAcre('SUR IN'!H248)","v":0}]
[{"$f":"IF('SUR IN'!A249=0,\"\",'SUR IN'!A249)","v":""},null,null,"",{"$f":"checkAcre('SUR IN'!G249)","v":0},{"$f":"checkAcre('SUR IN'!H249)","v":0}]
[{"$f":"IF('SUR IN'!A250=0,\"\",'SUR IN'!A250)","v":""},null,null,"",{"$f":"checkAcre('SUR IN'!G250)","v":0},{"$f":"checkAcre('SUR IN'!H250)","v":0}]
[{"$f":"IF('SUR IN'!A251=0,\"\",'SUR IN'!A251)","v":""},null,null,"",{"$f":"checkAcre('SUR IN'!G251)","v":0},{"$f":"checkAcre('SUR IN'!H251)","v":0}]
[{"$f":"IF('SUR IN'!A252=0,\"\",'SUR IN'!A252)","v":""},null,null,"",{"$f":"checkAcre('SUR IN'!G252)","v":0},{"$f":"checkAcre('SUR IN'!H252)","v":0}]
[{"$f":"IF('SUR IN'!A253=0,\"\",'SUR IN'!A253)","v":""},null,null,"",{"$f":"checkAcre('SUR IN'!G253)","v":0},{"$f":"checkAcre('SUR IN'!H253)","v":0}]
[{"$f":"IF('SUR IN'!A254=0,\"\",'SUR IN'!A254)","v":""},null,null,"",{"$f":"checkAcre('SUR IN'!G254)","v":0},{"$f":"checkAcre('SUR IN'!H254)","v":0},null,null,null,null,null,null,"Acq Table 5"]
[{"$f":"IF('SUR IN'!A255=0,\"\",'SUR IN'!A255)","v":""},null,null,"",{"$f":"checkAcre('SUR IN'!G255)","v":0},{"$f":"checkAcre('SUR IN'!H255)","v":0},null,null,null,null,null,null,"Acq Table 6"]
[{"$f":"IF('SUR IN'!A256=0,\"\",'SUR IN'!A256)","v":""},null,null,"",{"$f":"checkAcre('SUR IN'!G256)","v":0},{"$f":"checkAcre('SUR IN'!H256)","v":0}]
[{"$f":"IF('SUR IN'!A257=0,\"\",'SUR IN'!A257)","v":""},null,null,"",{"$f":"checkAcre('SUR IN'!G257)","v":0},{"$f":"checkAcre('SUR IN'!H257)","v":0}]
[{"$f":"IF('SUR IN'!A258=0,\"\",'SUR IN'!A258)","v":""},null,null,"",{"$f":"checkAcre('SUR IN'!G258)","v":0},{"$f":"checkAcre('SUR IN'!H258)","v":0}]
[{"$f":"IF('SUR IN'!A259=0,\"\",'SUR IN'!A259)","v":""},null,null,"",{"$f":"checkAcre('SUR IN'!G259)","v":0},{"$f":"checkAcre('SUR IN'!H259)","v":0}]
[{"$f":"IF('SUR IN'!A260=0,\"\",'SUR IN'!A260)","v":""},null,null,"",{"$f":"checkAcre('SUR IN'!G260)","v":0},{"$f":"checkAcre('SUR IN'!H260)","v":0}]
[{"$f":"IF('SUR IN'!A261=0,\"\",'SUR IN'!A261)","v":""},null,null,{"$f":"IF((E261-B261)<0,\"X\",IF((F261-C261)<0,\"X\",\"\"))","v":""},{"$f":"checkAcre('SUR IN'!G261)","v":0},{"$f":"checkAcre('SUR IN'!H261)","v":0}]
[{"$f":"IF('SUR IN'!A262=0,\"\",'SUR IN'!A262)","v":""},null,null,"",{"$f":"checkAcre('SUR IN'!G262)","v":0},{"$f":"checkAcre('SUR IN'!H262)","v":0}]
[{"$f":"IF('SUR IN'!A263=0,\"\",'SUR IN'!A263)","v":""},null,null,"",{"$f":"checkAcre('SUR IN'!G263)","v":0},{"$f":"checkAcre('SUR IN'!H263)","v":0}]
[{"$f":"IF('SUR IN'!A264=0,\"\",'SUR IN'!A264)","v":""},null,null,"",{"$f":"checkAcre('SUR IN'!G264)","v":0},{"$f":"checkAcre('SUR IN'!H264)","v":0}]
[{"$f":"IF('SUR IN'!A265=0,\"\",'SUR IN'!A265)","v":""},null,null,"",{"$f":"checkAcre('SUR IN'!G265)","v":0},{"$f":"checkAcre('SUR IN'!H265)","v":0}]
[{"$f":"IF('SUR IN'!A266=0,\"\",'SUR IN'!A266)","v":""},null,null,"",{"$f":"checkAcre('SUR IN'!G266)","v":0},{"$f":"checkAcre('SUR IN'!H266)","v":0}]
[{"$f":"IF('SUR IN'!A267=0,\"\",'SUR IN'!A267)","v":""},null,null,"",{"$f":"checkAcre('SUR IN'!G267)","v":0},{"$f":"checkAcre('SUR IN'!H267)","v":0}]
[{"$f":"IF('SUR IN'!A268=0,\"\",'SUR IN'!A268)","v":""},null,null,"",{"$f":"checkAcre('SUR IN'!G268)","v":0},{"$f":"checkAcre('SUR IN'!H268)","v":0}]
[{"$f":"IF('SUR IN'!A269=0,\"\",'SUR IN'!A269)","v":""},null,null,"",{"$f":"checkAcre('SUR IN'!G269)","v":0},{"$f":"checkAcre('SUR IN'!H269)","v":0}]
[{"$f":"IF('SUR IN'!A270=0,\"\",'SUR IN'!A270)","v":""},null,null,"",{"$f":"checkAcre('SUR IN'!G270)","v":0},{"$f":"checkAcre('SUR IN'!H270)","v":0}]
[{"$f":"IF('SUR IN'!A271=0,\"\",'SUR IN'!A271)","v":""},null,null,"",{"$f":"checkAcre('SUR IN'!G271)","v":0},{"$f":"checkAcre('SUR IN'!H271)","v":0}]
[{"$f":"IF('SUR IN'!A272=0,\"\",'SUR IN'!A272)","v":""},null,null,"",{"$f":"checkAcre('SUR IN'!G272)","v":0},{"$f":"checkAcre('SUR IN'!H272)","v":0}]
[{"$f":"IF('SUR IN'!A273=0,\"\",'SUR IN'!A273)","v":""},null,null,"",{"$f":"checkAcre('SUR IN'!G273)","v":0},{"$f":"checkAcre('SUR IN'!H273)","v":0}]
[{"$f":"IF('SUR IN'!A274=0,\"\",'SUR IN'!A274)","v":""},null,null,"",{"$f":"checkAcre('SUR IN'!G274)","v":0},{"$f":"checkAcre('SUR IN'!H274)","v":0}]
[{"$f":"IF('SUR IN'!A275=0,\"\",'SUR IN'!A275)","v":""},null,null,"",{"$f":"checkAcre('SUR IN'!G275)","v":0},{"$f":"checkAcre('SUR IN'!H275)","v":0}]
[{"$f":"IF('SUR IN'!A276=0,\"\",'SUR IN'!A276)","v":""},null,null,"",{"$f":"checkAcre('SUR IN'!G276)","v":0},{"$f":"checkAcre('SUR IN'!H276)","v":0}]
[{"$f":"IF('SUR IN'!A277=0,\"\",'SUR IN'!A277)","v":""},null,null,"",{"$f":"checkAcre('SUR IN'!G277)","v":0},{"$f":"checkAcre('SUR IN'!H277)","v":0}]
[{"$f":"IF('SUR IN'!A278=0,\"\",'SUR IN'!A278)","v":""},null,null,"",{"$f":"checkAcre('SUR IN'!G278)","v":0},{"$f":"checkAcre('SUR IN'!H278)","v":0}]
[{"$f":"IF('SUR IN'!A279=0,\"\",'SUR IN'!A279)","v":""},null,null,"",{"$f":"checkAcre('SUR IN'!G279)","v":0},{"$f":"checkAcre('SUR IN'!H279)","v":0}]
[{"$f":"IF('SUR IN'!A280=0,\"\",'SUR IN'!A280)","v":""},null,null,"",{"$f":"checkAcre('SUR IN'!G280)","v":0},{"$f":"checkAcre('SUR IN'!H280)","v":0}]
[{"$f":"IF('SUR IN'!A281=0,\"\",'SUR IN'!A281)","v":""},null,null,"",{"$f":"checkAcre('SUR IN'!G281)","v":0},{"$f":"checkAcre('SUR IN'!H281)","v":0}]
[{"$f":"IF('SUR IN'!A282=0,\"\",'SUR IN'!A282)","v":""},null,null,"",{"$f":"checkAcre('SUR IN'!G282)","v":0},{"$f":"checkAcre('SUR IN'!H282)","v":0}]
[{"$f":"IF('SUR IN'!A283=0,\"\",'SUR IN'!A283)","v":""},null,null,"",{"$f":"checkAcre('SUR IN'!G283)","v":0},{"$f":"checkAcre('SUR IN'!H283)","v":0}]
[{"$f":"IF('SUR IN'!A284=0,\"\",'SUR IN'!A284)","v":""},null,null,"",{"$f":"checkAcre('SUR IN'!G284)","v":0},{"$f":"checkAcre('SUR IN'!H284)","v":0}]
[{"$f":"IF('SUR IN'!A285=0,\"\",'SUR IN'!A285)","v":""},null,null,"",{"$f":"checkAcre('SUR IN'!G285)","v":0},{"$f":"checkAcre('SUR IN'!H285)","v":0}]
[{"$f":"IF('SUR IN'!A286=0,\"\",'SUR IN'!A286)","v":""},null,null,"",{"$f":"checkAcre('SUR IN'!G286)","v":0},{"$f":"checkAcre('SUR IN'!H286)","v":0}]
[{"$f":"IF('SUR IN'!A287=0,\"\",'SUR IN'!A287)","v":""},null,null,"",{"$f":"checkAcre('SUR IN'!G287)","v":0},{"$f":"checkAcre('SUR IN'!H287)","v":0}]
[{"$f":"IF('SUR IN'!A288=0,\"\",'SUR IN'!A288)","v":""},null,null,"",{"$f":"checkAcre('SUR IN'!G288)","v":0},{"$f":"checkAcre('SUR IN'!H288)","v":0}]
[{"$f":"IF('SUR IN'!A289=0,\"\",'SUR IN'!A289)","v":""},null,null,"",{"$f":"checkAcre('SUR IN'!G289)","v":0},{"$f":"checkAcre('SUR IN'!H289)","v":0}]
[{"$f":"IF('SUR IN'!A290=0,\"\",'SUR IN'!A290)","v":""},null,null,"",{"$f":"checkAcre('SUR IN'!G290)","v":0},{"$f":"checkAcre('SUR IN'!H290)","v":0}]
[{"$f":"IF('SUR IN'!A291=0,\"\",'SUR IN'!A291)","v":""},null,null,"",{"$f":"checkAcre('SUR IN'!G291)","v":0},{"$f":"checkAcre('SUR IN'!H291)","v":0}]
[{"$f":"IF('SUR IN'!A292=0,\"\",'SUR IN'!A292)","v":""},null,null,"",{"$f":"checkAcre('SUR IN'!G292)","v":0},{"$f":"checkAcre('SUR IN'!H292)","v":0}]
[{"$f":"IF('SUR IN'!A293=0,\"\",'SUR IN'!A293)","v":""},null,null,"",{"$f":"checkAcre('SUR IN'!G293)","v":0},{"$f":"checkAcre('SUR IN'!H293)","v":0}]
[{"$f":"IF('SUR IN'!A294=0,\"\",'SUR IN'!A294)","v":""},null,null,"",{"$f":"checkAcre('SUR IN'!G294)","v":0},{"$f":"checkAcre('SUR IN'!H294)","v":0}]
[{"$f":"IF('SUR IN'!A295=0,\"\",'SUR IN'!A295)","v":""},null,null,"",{"$f":"checkAcre('SUR IN'!G295)","v":0},{"$f":"checkAcre('SUR IN'!H295)","v":0}]
[{"$f":"IF('SUR IN'!A296=0,\"\",'SUR IN'!A296)","v":""},null,null,"",{"$f":"checkAcre('SUR IN'!G296)","v":0},{"$f":"checkAcre('SUR IN'!H296)","v":0}]
[{"$f":"IF('SUR IN'!A297=0,\"\",'SUR IN'!A297)","v":""},null,null,"",{"$f":"checkAcre('SUR IN'!G297)","v":0},{"$f":"checkAcre('SUR IN'!H297)","v":0}]
[{"$f":"IF('SUR IN'!A298=0,\"\",'SUR IN'!A298)","v":""},null,null,"",{"$f":"checkAcre('SUR IN'!G298)","v":0},{"$f":"checkAcre('SUR IN'!H298)","v":0}]
[{"$f":"IF('SUR IN'!A299=0,\"\",'SUR IN'!A299)","v":""},null,null,"",{"$f":"checkAcre('SUR IN'!G299)","v":0},{"$f":"checkAcre('SUR IN'!H299)","v":0}]
[{"$f":"IF('SUR IN'!A300=0,\"\",'SUR IN'!A300)","v":""},null,null,"",{"$f":"checkAcre('SUR IN'!G300)","v":0},{"$f":"checkAcre('SUR IN'!H300)","v":0}]
[{"$f":"IF('SUR IN'!A301=0,\"\",'SUR IN'!A301)","v":""},null,null,"",{"$f":"checkAcre('SUR IN'!G301)","v":0},{"$f":"checkAcre('SUR IN'!H301)","v":0}]
[{"$f":"IF('SUR IN'!A302=0,\"\",'SUR IN'!A302)","v":""},null,null,"",{"$f":"checkAcre('SUR IN'!G302)","v":0},{"$f":"checkAcre('SUR IN'!H302)","v":0}]
[{"$f":"IF('SUR IN'!A303=0,\"\",'SUR IN'!A303)","v":""},null,null,"",{"$f":"checkAcre('SUR IN'!G303)","v":0},{"$f":"checkAcre('SUR IN'!H303)","v":0}]
[{"$f":"IF('SUR IN'!A304=0,\"\",'SUR IN'!A304)","v":""},null,null,"",{"$f":"checkAcre('SUR IN'!G304)","v":0},{"$f":"checkAcre('SUR IN'!H304)","v":0},null,null,null,null,null,null,"Acq Table 6"]
[{"$f":"IF('SUR IN'!A305=0,\"\",'SUR IN'!A305)","v":""},null,null,"",{"$f":"checkAcre('SUR IN'!G305)","v":0},{"$f":"checkAcre('SUR IN'!H305)","v":0},null,null,null,null,null,null,"Acq Table 7"]
[{"$f":"IF('SUR IN'!A306=0,\"\",'SUR IN'!A306)","v":""},null,null,"",{"$f":"checkAcre('SUR IN'!G306)","v":0},{"$f":"checkAcre('SUR IN'!H306)","v":0}]
[{"$f":"IF('SUR IN'!A307=0,\"\",'SUR IN'!A307)","v":""},null,null,"",{"$f":"checkAcre('SUR IN'!G307)","v":0},{"$f":"checkAcre('SUR IN'!H307)","v":0}]
[{"$f":"IF('SUR IN'!A308=0,\"\",'SUR IN'!A308)","v":""},null,null,"",{"$f":"checkAcre('SUR IN'!G308)","v":0},{"$f":"checkAcre('SUR IN'!H308)","v":0}]
[{"$f":"IF('SUR IN'!A309=0,\"\",'SUR IN'!A309)","v":""},null,null,"",{"$f":"checkAcre('SUR IN'!G309)","v":0},{"$f":"checkAcre('SUR IN'!H309)","v":0}]
[{"$f":"IF('SUR IN'!A310=0,\"\",'SUR IN'!A310)","v":""},null,null,"",{"$f":"checkAcre('SUR IN'!G310)","v":0},{"$f":"checkAcre('SUR IN'!H310)","v":0}]
[{"$f":"IF('SUR IN'!A311=0,\"\",'SUR IN'!A311)","v":""},null,null,"",{"$f":"checkAcre('SUR IN'!G311)","v":0},{"$f":"checkAcre('SUR IN'!H311)","v":0}]
[{"$f":"IF('SUR IN'!A312=0,\"\",'SUR IN'!A312)","v":""},null,null,"",{"$f":"checkAcre('SUR IN'!G312)","v":0},{"$f":"checkAcre('SUR IN'!H312)","v":0}]
[{"$f":"IF('SUR IN'!A313=0,\"\",'SUR IN'!A313)","v":""},null,null,"",{"$f":"checkAcre('SUR IN'!G313)","v":0},{"$f":"checkAcre('SUR IN'!H313)","v":0}]
[{"$f":"IF('SUR IN'!A314=0,\"\",'SUR IN'!A314)","v":""},null,null,"",{"$f":"checkAcre('SUR IN'!G314)","v":0},{"$f":"checkAcre('SUR IN'!H314)","v":0}]
[{"$f":"IF('SUR IN'!A315=0,\"\",'SUR IN'!A315)","v":""},null,null,"",{"$f":"checkAcre('SUR IN'!G315)","v":0},{"$f":"checkAcre('SUR IN'!H315)","v":0}]
[{"$f":"IF('SUR IN'!A316=0,\"\",'SUR IN'!A316)","v":""},null,null,"",{"$f":"checkAcre('SUR IN'!G316)","v":0},{"$f":"checkAcre('SUR IN'!H316)","v":0}]
[{"$f":"IF('SUR IN'!A317=0,\"\",'SUR IN'!A317)","v":""},null,null,"",{"$f":"checkAcre('SUR IN'!G317)","v":0},{"$f":"checkAcre('SUR IN'!H317)","v":0}]
[{"$f":"IF('SUR IN'!A318=0,\"\",'SUR IN'!A318)","v":""},null,null,"",{"$f":"checkAcre('SUR IN'!G318)","v":0},{"$f":"checkAcre('SUR IN'!H318)","v":0}]
[{"$f":"IF('SUR IN'!A319=0,\"\",'SUR IN'!A319)","v":""},null,null,"",{"$f":"checkAcre('SUR IN'!G319)","v":0},{"$f":"checkAcre('SUR IN'!H319)","v":0}]
[{"$f":"IF('SUR IN'!A320=0,\"\",'SUR IN'!A320)","v":""},null,null,"",{"$f":"checkAcre('SUR IN'!G320)","v":0},{"$f":"checkAcre('SUR IN'!H320)","v":0}]
[{"$f":"IF('SUR IN'!A321=0,\"\",'SUR IN'!A321)","v":""},null,null,"",{"$f":"checkAcre('SUR IN'!G321)","v":0},{"$f":"checkAcre('SUR IN'!H321)","v":0}]
[{"$f":"IF('SUR IN'!A322=0,\"\",'SUR IN'!A322)","v":""},null,null,"",{"$f":"checkAcre('SUR IN'!G322)","v":0},{"$f":"checkAcre('SUR IN'!H322)","v":0}]
[{"$f":"IF('SUR IN'!A323=0,\"\",'SUR IN'!A323)","v":""},null,null,"",{"$f":"checkAcre('SUR IN'!G323)","v":0},{"$f":"checkAcre('SUR IN'!H323)","v":0}]
[{"$f":"IF('SUR IN'!A324=0,\"\",'SUR IN'!A324)","v":""},null,null,"",{"$f":"checkAcre('SUR IN'!G324)","v":0},{"$f":"checkAcre('SUR IN'!H324)","v":0}]
[{"$f":"IF('SUR IN'!A325=0,\"\",'SUR IN'!A325)","v":""},null,null,{"$f":"IF((E325-B325)<0,\"X\",IF((F325-C325)<0,\"X\",\"\"))","v":""},{"$f":"checkAcre('SUR IN'!G325)","v":0},{"$f":"checkAcre('SUR IN'!H325)","v":0}]
[{"$f":"IF('SUR IN'!A326=0,\"\",'SUR IN'!A326)","v":""},null,null,"",{"$f":"checkAcre('SUR IN'!G326)","v":0},{"$f":"checkAcre('SUR IN'!H326)","v":0}]
[{"$f":"IF('SUR IN'!A327=0,\"\",'SUR IN'!A327)","v":""},null,null,"",{"$f":"checkAcre('SUR IN'!G327)","v":0},{"$f":"checkAcre('SUR IN'!H327)","v":0}]
[{"$f":"IF('SUR IN'!A328=0,\"\",'SUR IN'!A328)","v":""},null,null,"",{"$f":"checkAcre('SUR IN'!G328)","v":0},{"$f":"checkAcre('SUR IN'!H328)","v":0}]
[{"$f":"IF('SUR IN'!A329=0,\"\",'SUR IN'!A329)","v":""},null,null,"",{"$f":"checkAcre('SUR IN'!G329)","v":0},{"$f":"checkAcre('SUR IN'!H329)","v":0}]
[{"$f":"IF('SUR IN'!A330=0,\"\",'SUR IN'!A330)","v":""},null,null,"",{"$f":"checkAcre('SUR IN'!G330)","v":0},{"$f":"checkAcre('SUR IN'!H330)","v":0}]
[{"$f":"IF('SUR IN'!A331=0,\"\",'SUR IN'!A331)","v":""},null,null,"",{"$f":"checkAcre('SUR IN'!G331)","v":0},{"$f":"checkAcre('SUR IN'!H331)","v":0}]
[{"$f":"IF('SUR IN'!A332=0,\"\",'SUR IN'!A332)","v":""},null,null,"",{"$f":"checkAcre('SUR IN'!G332)","v":0},{"$f":"checkAcre('SUR IN'!H332)","v":0}]
[{"$f":"IF('SUR IN'!A333=0,\"\",'SUR IN'!A333)","v":""},null,null,"",{"$f":"checkAcre('SUR IN'!G333)","v":0},{"$f":"checkAcre('SUR IN'!H333)","v":0}]
[{"$f":"IF('SUR IN'!A334=0,\"\",'SUR IN'!A334)","v":""},null,null,"",{"$f":"checkAcre('SUR IN'!G334)","v":0},{"$f":"checkAcre('SUR IN'!H334)","v":0}]
[{"$f":"IF('SUR IN'!A335=0,\"\",'SUR IN'!A335)","v":""},null,null,"",{"$f":"checkAcre('SUR IN'!G335)","v":0},{"$f":"checkAcre('SUR IN'!H335)","v":0}]
[{"$f":"IF('SUR IN'!A336=0,\"\",'SUR IN'!A336)","v":""},null,null,"",{"$f":"checkAcre('SUR IN'!G336)","v":0},{"$f":"checkAcre('SUR IN'!H336)","v":0}]
[{"$f":"IF('SUR IN'!A337=0,\"\",'SUR IN'!A337)","v":""},null,null,"",{"$f":"checkAcre('SUR IN'!G337)","v":0},{"$f":"checkAcre('SUR IN'!H337)","v":0}]
[{"$f":"IF('SUR IN'!A338=0,\"\",'SUR IN'!A338)","v":""},null,null,"",{"$f":"checkAcre('SUR IN'!G338)","v":0},{"$f":"checkAcre('SUR IN'!H338)","v":0}]
[{"$f":"IF('SUR IN'!A339=0,\"\",'SUR IN'!A339)","v":""},null,null,"",{"$f":"checkAcre('SUR IN'!G339)","v":0},{"$f":"checkAcre('SUR IN'!H339)","v":0}]
[{"$f":"IF('SUR IN'!A340=0,\"\",'SUR IN'!A340)","v":""},null,null,"",{"$f":"checkAcre('SUR IN'!G340)","v":0},{"$f":"checkAcre('SUR IN'!H340)","v":0}]
[{"$f":"IF('SUR IN'!A341=0,\"\",'SUR IN'!A341)","v":""},null,null,"",{"$f":"checkAcre('SUR IN'!G341)","v":0},{"$f":"checkAcre('SUR IN'!H341)","v":0}]
[{"$f":"IF('SUR IN'!A342=0,\"\",'SUR IN'!A342)","v":""},null,null,"",{"$f":"checkAcre('SUR IN'!G342)","v":0},{"$f":"checkAcre('SUR IN'!H342)","v":0}]
[{"$f":"IF('SUR IN'!A343=0,\"\",'SUR IN'!A343)","v":""},null,null,"",{"$f":"checkAcre('SUR IN'!G343)","v":0},{"$f":"checkAcre('SUR IN'!H343)","v":0}]
[{"$f":"IF('SUR IN'!A344=0,\"\",'SUR IN'!A344)","v":""},null,null,"",{"$f":"checkAcre('SUR IN'!G344)","v":0},{"$f":"checkAcre('SUR IN'!H344)","v":0}]
[{"$f":"IF('SUR IN'!A345=0,\"\",'SUR IN'!A345)","v":""},null,null,"",{"$f":"checkAcre('SUR IN'!G345)","v":0},{"$f":"checkAcre('SUR IN'!H345)","v":0}]
[{"$f":"IF('SUR IN'!A346=0,\"\",'SUR IN'!A346)","v":""},null,null,"",{"$f":"checkAcre('SUR IN'!G346)","v":0},{"$f":"checkAcre('SUR IN'!H346)","v":0}]
[{"$f":"IF('SUR IN'!A347=0,\"\",'SUR IN'!A347)","v":""},null,null,"",{"$f":"checkAcre('SUR IN'!G347)","v":0},{"$f":"checkAcre('SUR IN'!H347)","v":0}]
[{"$f":"IF('SUR IN'!A348=0,\"\",'SUR IN'!A348)","v":""},null,null,"",{"$f":"checkAcre('SUR IN'!G348)","v":0},{"$f":"checkAcre('SUR IN'!H348)","v":0}]
[{"$f":"IF('SUR IN'!A349=0,\"\",'SUR IN'!A349)","v":""},null,null,"",{"$f":"checkAcre('SUR IN'!G349)","v":0},{"$f":"checkAcre('SUR IN'!H349)","v":0}]
[{"$f":"IF('SUR IN'!A350=0,\"\",'SUR IN'!A350)","v":""},null,null,"",{"$f":"checkAcre('SUR IN'!G350)","v":0},{"$f":"checkAcre('SUR IN'!H350)","v":0}]
[{"$f":"IF('SUR IN'!A351=0,\"\",'SUR IN'!A351)","v":""},null,null,"",{"$f":"checkAcre('SUR IN'!G351)","v":0},{"$f":"checkAcre('SUR IN'!H351)","v":0}]
[{"$f":"IF('SUR IN'!A352=0,\"\",'SUR IN'!A352)","v":""},null,null,"",{"$f":"checkAcre('SUR IN'!G352)","v":0},{"$f":"checkAcre('SUR IN'!H352)","v":0}]
[{"$f":"IF('SUR IN'!A353=0,\"\",'SUR IN'!A353)","v":""},null,null,"",{"$f":"checkAcre('SUR IN'!G353)","v":0},{"$f":"checkAcre('SUR IN'!H353)","v":0}]
[{"$f":"IF('SUR IN'!A354=0,\"\",'SUR IN'!A354)","v":""},null,null,"",{"$f":"checkAcre('SUR IN'!G354)","v":0},{"$f":"checkAcre('SUR IN'!H354)","v":0},null,null,null,null,null,null,"Acq Table 7"]
[{"$f":"IF('SUR IN'!A355=0,\"\",'SUR IN'!A355)","v":""},null,null,"",{"$f":"checkAcre('SUR IN'!G355)","v":0},{"$f":"checkAcre('SUR IN'!H355)","v":0},null,null,null,null,null,null,"Acq Table 8"]
[{"$f":"IF('SUR IN'!A356=0,\"\",'SUR IN'!A356)","v":""},null,null,"",{"$f":"checkAcre('SUR IN'!G356)","v":0},{"$f":"checkAcre('SUR IN'!H356)","v":0}]
[{"$f":"IF('SUR IN'!A357=0,\"\",'SUR IN'!A357)","v":""},null,null,"",{"$f":"checkAcre('SUR IN'!G357)","v":0},{"$f":"checkAcre('SUR IN'!H357)","v":0}]
[{"$f":"IF('SUR IN'!A358=0,\"\",'SUR IN'!A358)","v":""},null,null,"",{"$f":"checkAcre('SUR IN'!G358)","v":0},{"$f":"checkAcre('SUR IN'!H358)","v":0}]
[{"$f":"IF('SUR IN'!A359=0,\"\",'SUR IN'!A359)","v":""},null,null,"",{"$f":"checkAcre('SUR IN'!G359)","v":0},{"$f":"checkAcre('SUR IN'!H359)","v":0}]
[{"$f":"IF('SUR IN'!A360=0,\"\",'SUR IN'!A360)","v":""},null,null,"",{"$f":"checkAcre('SUR IN'!G360)","v":0},{"$f":"checkAcre('SUR IN'!H360)","v":0}]
[{"$f":"IF('SUR IN'!A361=0,\"\",'SUR IN'!A361)","v":""},null,null,"",{"$f":"checkAcre('SUR IN'!G361)","v":0},{"$f":"checkAcre('SUR IN'!H361)","v":0}]
[{"$f":"IF('SUR IN'!A362=0,\"\",'SUR IN'!A362)","v":""},null,null,"",{"$f":"checkAcre('SUR IN'!G362)","v":0},{"$f":"checkAcre('SUR IN'!H362)","v":0}]
[{"$f":"IF('SUR IN'!A363=0,\"\",'SUR IN'!A363)","v":""},null,null,"",{"$f":"checkAcre('SUR IN'!G363)","v":0},{"$f":"checkAcre('SUR IN'!H363)","v":0}]
[{"$f":"IF('SUR IN'!A364=0,\"\",'SUR IN'!A364)","v":""},null,null,"",{"$f":"checkAcre('SUR IN'!G364)","v":0},{"$f":"checkAcre('SUR IN'!H364)","v":0}]
[{"$f":"IF('SUR IN'!A365=0,\"\",'SUR IN'!A365)","v":""},null,null,"",{"$f":"checkAcre('SUR IN'!G365)","v":0},{"$f":"checkAcre('SUR IN'!H365)","v":0}]
[{"$f":"IF('SUR IN'!A366=0,\"\",'SUR IN'!A366)","v":""},null,null,"",{"$f":"checkAcre('SUR IN'!G366)","v":0},{"$f":"checkAcre('SUR IN'!H366)","v":0}]
[{"$f":"IF('SUR IN'!A367=0,\"\",'SUR IN'!A367)","v":""},null,null,"",{"$f":"checkAcre('SUR IN'!G367)","v":0},{"$f":"checkAcre('SUR IN'!H367)","v":0}]
[{"$f":"IF('SUR IN'!A368=0,\"\",'SUR IN'!A368)","v":""},null,null,"",{"$f":"checkAcre('SUR IN'!G368)","v":0},{"$f":"checkAcre('SUR IN'!H368)","v":0}]
[{"$f":"IF('SUR IN'!A369=0,\"\",'SUR IN'!A369)","v":""},null,null,"",{"$f":"checkAcre('SUR IN'!G369)","v":0},{"$f":"checkAcre('SUR IN'!H369)","v":0}]
[{"$f":"IF('SUR IN'!A370=0,\"\",'SUR IN'!A370)","v":""},null,null,"",{"$f":"checkAcre('SUR IN'!G370)","v":0},{"$f":"checkAcre('SUR IN'!H370)","v":0}]
[{"$f":"IF('SUR IN'!A371=0,\"\",'SUR IN'!A371)","v":""},null,null,"",{"$f":"checkAcre('SUR IN'!G371)","v":0},{"$f":"checkAcre('SUR IN'!H371)","v":0}]
[{"$f":"IF('SUR IN'!A372=0,\"\",'SUR IN'!A372)","v":""},null,null,"",{"$f":"checkAcre('SUR IN'!G372)","v":0},{"$f":"checkAcre('SUR IN'!H372)","v":0}]
[{"$f":"IF('SUR IN'!A373=0,\"\",'SUR IN'!A373)","v":""},null,null,"",{"$f":"checkAcre('SUR IN'!G373)","v":0},{"$f":"checkAcre('SUR IN'!H373)","v":0}]
[{"$f":"IF('SUR IN'!A374=0,\"\",'SUR IN'!A374)","v":""},null,null,"",{"$f":"checkAcre('SUR IN'!G374)","v":0},{"$f":"checkAcre('SUR IN'!H374)","v":0}]
[{"$f":"IF('SUR IN'!A375=0,\"\",'SUR IN'!A375)","v":""},null,null,"",{"$f":"checkAcre('SUR IN'!G375)","v":0},{"$f":"checkAcre('SUR IN'!H375)","v":0}]
[{"$f":"IF('SUR IN'!A376=0,\"\",'SUR IN'!A376)","v":""},null,null,"",{"$f":"checkAcre('SUR IN'!G376)","v":0},{"$f":"checkAcre('SUR IN'!H376)","v":0}]
[{"$f":"IF('SUR IN'!A377=0,\"\",'SUR IN'!A377)","v":""},null,null,"",{"$f":"checkAcre('SUR IN'!G377)","v":0},{"$f":"checkAcre('SUR IN'!H377)","v":0}]
[{"$f":"IF('SUR IN'!A378=0,\"\",'SUR IN'!A378)","v":""},null,null,"",{"$f":"checkAcre('SUR IN'!G378)","v":0},{"$f":"checkAcre('SUR IN'!H378)","v":0}]
[{"$f":"IF('SUR IN'!A379=0,\"\",'SUR IN'!A379)","v":""},null,null,"",{"$f":"checkAcre('SUR IN'!G379)","v":0},{"$f":"checkAcre('SUR IN'!H379)","v":0}]
[{"$f":"IF('SUR IN'!A380=0,\"\",'SUR IN'!A380)","v":""},null,null,"",{"$f":"checkAcre('SUR IN'!G380)","v":0},{"$f":"checkAcre('SUR IN'!H380)","v":0}]
[{"$f":"IF('SUR IN'!A381=0,\"\",'SUR IN'!A381)","v":""},null,null,"",{"$f":"checkAcre('SUR IN'!G381)","v":0},{"$f":"checkAcre('SUR IN'!H381)","v":0}]
[{"$f":"IF('SUR IN'!A382=0,\"\",'SUR IN'!A382)","v":""},null,null,"",{"$f":"checkAcre('SUR IN'!G382)","v":0},{"$f":"checkAcre('SUR IN'!H382)","v":0}]
[{"$f":"IF('SUR IN'!A383=0,\"\",'SUR IN'!A383)","v":""},null,null,"",{"$f":"checkAcre('SUR IN'!G383)","v":0},{"$f":"checkAcre('SUR IN'!H383)","v":0}]
[{"$f":"IF('SUR IN'!A384=0,\"\",'SUR IN'!A384)","v":""},null,null,"",{"$f":"checkAcre('SUR IN'!G384)","v":0},{"$f":"checkAcre('SUR IN'!H384)","v":0}]
[{"$f":"IF('SUR IN'!A385=0,\"\",'SUR IN'!A385)","v":""},null,null,"",{"$f":"checkAcre('SUR IN'!G385)","v":0},{"$f":"checkAcre('SUR IN'!H385)","v":0}]
[{"$f":"IF('SUR IN'!A386=0,\"\",'SUR IN'!A386)","v":""},null,null,"",{"$f":"checkAcre('SUR IN'!G386)","v":0},{"$f":"checkAcre('SUR IN'!H386)","v":0}]
[{"$f":"IF('SUR IN'!A387=0,\"\",'SUR IN'!A387)","v":""},null,null,"",{"$f":"checkAcre('SUR IN'!G387)","v":0},{"$f":"checkAcre('SUR IN'!H387)","v":0}]
[{"$f":"IF('SUR IN'!A388=0,\"\",'SUR IN'!A388)","v":""},null,null,"",{"$f":"checkAcre('SUR IN'!G388)","v":0},{"$f":"checkAcre('SUR IN'!H388)","v":0}]
[{"$f":"IF('SUR IN'!A389=0,\"\",'SUR IN'!A389)","v":""},null,null,{"$f":"IF((E389-B389)<0,\"X\",IF((F389-C389)<0,\"X\",\"\"))","v":""},{"$f":"checkAcre('SUR IN'!G389)","v":0},{"$f":"checkAcre('SUR IN'!H389)","v":0}]
[{"$f":"IF('SUR IN'!A390=0,\"\",'SUR IN'!A390)","v":""},null,null,"",{"$f":"checkAcre('SUR IN'!G390)","v":0},{"$f":"checkAcre('SUR IN'!H390)","v":0}]
[{"$f":"IF('SUR IN'!A391=0,\"\",'SUR IN'!A391)","v":""},null,null,"",{"$f":"checkAcre('SUR IN'!G391)","v":0},{"$f":"checkAcre('SUR IN'!H391)","v":0}]
[{"$f":"IF('SUR IN'!A392=0,\"\",'SUR IN'!A392)","v":""},null,null,"",{"$f":"checkAcre('SUR IN'!G392)","v":0},{"$f":"checkAcre('SUR IN'!H392)","v":0}]
[{"$f":"IF('SUR IN'!A393=0,\"\",'SUR IN'!A393)","v":""},null,null,"",{"$f":"checkAcre('SUR IN'!G393)","v":0},{"$f":"checkAcre('SUR IN'!H393)","v":0}]
[{"$f":"IF('SUR IN'!A394=0,\"\",'SUR IN'!A394)","v":""},null,null,"",{"$f":"checkAcre('SUR IN'!G394)","v":0},{"$f":"checkAcre('SUR IN'!H394)","v":0}]
[{"$f":"IF('SUR IN'!A395=0,\"\",'SUR IN'!A395)","v":""},null,null,"",{"$f":"checkAcre('SUR IN'!G395)","v":0},{"$f":"checkAcre('SUR IN'!H395)","v":0}]
[{"$f":"IF('SUR IN'!A396=0,\"\",'SUR IN'!A396)","v":""},null,null,"",{"$f":"checkAcre('SUR IN'!G396)","v":0},{"$f":"checkAcre('SUR IN'!H396)","v":0}]
[{"$f":"IF('SUR IN'!A397=0,\"\",'SUR IN'!A397)","v":""},null,null,"",{"$f":"checkAcre('SUR IN'!G397)","v":0},{"$f":"checkAcre('SUR IN'!H397)","v":0}]
[{"$f":"IF('SUR IN'!A398=0,\"\",'SUR IN'!A398)","v":""},null,null,"",{"$f":"checkAcre('SUR IN'!G398)","v":0},{"$f":"checkAcre('SUR IN'!H398)","v":0}]
[{"$f":"IF('SUR IN'!A399=0,\"\",'SUR IN'!A399)","v":""},null,null,"",{"$f":"checkAcre('SUR IN'!G399)","v":0},{"$f":"checkAcre('SUR IN'!H399)","v":0}]
[{"$f":"IF('SUR IN'!A400=0,\"\",'SUR IN'!A400)","v":""},null,null,"",{"$f":"checkAcre('SUR IN'!G400)","v":0},{"$f":"checkAcre('SUR IN'!H400)","v":0}]
[{"$f":"IF('SUR IN'!A401=0,\"\",'SUR IN'!A401)","v":""},null,null,"",{"$f":"checkAcre('SUR IN'!G401)","v":0},{"$f":"checkAcre('SUR IN'!H401)","v":0}]
[{"$f":"IF('SUR IN'!A402=0,\"\",'SUR IN'!A402)","v":""},null,null,"",{"$f":"checkAcre('SUR IN'!G402)","v":0},{"$f":"checkAcre('SUR IN'!H402)","v":0}]
[{"$f":"IF('SUR IN'!A403=0,\"\",'SUR IN'!A403)","v":""},null,null,"",{"$f":"checkAcre('SUR IN'!G403)","v":0},{"$f":"checkAcre('SUR IN'!H403)","v":0}]
[{"$f":"IF('SUR IN'!A404=0,\"\",'SUR IN'!A404)","v":""},null,null,"",{"$f":"checkAcre('SUR IN'!G404)","v":0},{"$f":"checkAcre('SUR IN'!H404)","v":0},null,null,null,null,null,null,"Acq Table 8"]
[{"$f":"IF('SUR IN'!A405=0,\"\",'SUR IN'!A405)","v":""},null,null,"",{"$f":"checkAcre('SUR IN'!G405)","v":0},{"$f":"checkAcre('SUR IN'!H405)","v":0},null,null,null,null,null,null,"Acq Table 9"]
[{"$f":"IF('SUR IN'!A406=0,\"\",'SUR IN'!A406)","v":""},null,null,"",{"$f":"checkAcre('SUR IN'!G406)","v":0},{"$f":"checkAcre('SUR IN'!H406)","v":0}]
[{"$f":"IF('SUR IN'!A407=0,\"\",'SUR IN'!A407)","v":""},null,null,"",{"$f":"checkAcre('SUR IN'!G407)","v":0},{"$f":"checkAcre('SUR IN'!H407)","v":0}]
[{"$f":"IF('SUR IN'!A408=0,\"\",'SUR IN'!A408)","v":""},null,null,"",{"$f":"checkAcre('SUR IN'!G408)","v":0},{"$f":"checkAcre('SUR IN'!H408)","v":0}]
[{"$f":"IF('SUR IN'!A409=0,\"\",'SUR IN'!A409)","v":""},null,null,"",{"$f":"checkAcre('SUR IN'!G409)","v":0},{"$f":"checkAcre('SUR IN'!H409)","v":0}]
[{"$f":"IF('SUR IN'!A410=0,\"\",'SUR IN'!A410)","v":""},null,null,"",{"$f":"checkAcre('SUR IN'!G410)","v":0},{"$f":"checkAcre('SUR IN'!H410)","v":0}]
[{"$f":"IF('SUR IN'!A411=0,\"\",'SUR IN'!A411)","v":""},null,null,"",{"$f":"checkAcre('SUR IN'!G411)","v":0},{"$f":"checkAcre('SUR IN'!H411)","v":0}]
[{"$f":"IF('SUR IN'!A412=0,\"\",'SUR IN'!A412)","v":""},null,null,"",{"$f":"checkAcre('SUR IN'!G412)","v":0},{"$f":"checkAcre('SUR IN'!H412)","v":0}]
[{"$f":"IF('SUR IN'!A413=0,\"\",'SUR IN'!A413)","v":""},null,null,"",{"$f":"checkAcre('SUR IN'!G413)","v":0},{"$f":"checkAcre('SUR IN'!H413)","v":0}]
[{"$f":"IF('SUR IN'!A414=0,\"\",'SUR IN'!A414)","v":""},null,null,"",{"$f":"checkAcre('SUR IN'!G414)","v":0},{"$f":"checkAcre('SUR IN'!H414)","v":0}]
[{"$f":"IF('SUR IN'!A415=0,\"\",'SUR IN'!A415)","v":""},null,null,"",{"$f":"checkAcre('SUR IN'!G415)","v":0},{"$f":"checkAcre('SUR IN'!H415)","v":0}]
[{"$f":"IF('SUR IN'!A416=0,\"\",'SUR IN'!A416)","v":""},null,null,"",{"$f":"checkAcre('SUR IN'!G416)","v":0},{"$f":"checkAcre('SUR IN'!H416)","v":0}]
[{"$f":"IF('SUR IN'!A417=0,\"\",'SUR IN'!A417)","v":""},null,null,"",{"$f":"checkAcre('SUR IN'!G417)","v":0},{"$f":"checkAcre('SUR IN'!H417)","v":0}]
[{"$f":"IF('SUR IN'!A418=0,\"\",'SUR IN'!A418)","v":""},null,null,"",{"$f":"checkAcre('SUR IN'!G418)","v":0},{"$f":"checkAcre('SUR IN'!H418)","v":0}]
[{"$f":"IF('SUR IN'!A419=0,\"\",'SUR IN'!A419)","v":""},null,null,"",{"$f":"checkAcre('SUR IN'!G419)","v":0},{"$f":"checkAcre('SUR IN'!H419)","v":0}]
[{"$f":"IF('SUR IN'!A420=0,\"\",'SUR IN'!A420)","v":""},null,null,"",{"$f":"checkAcre('SUR IN'!G420)","v":0},{"$f":"checkAcre('SUR IN'!H420)","v":0}]
[{"$f":"IF('SUR IN'!A421=0,\"\",'SUR IN'!A421)","v":""},null,null,"",{"$f":"checkAcre('SUR IN'!G421)","v":0},{"$f":"checkAcre('SUR IN'!H421)","v":0}]
[{"$f":"IF('SUR IN'!A422=0,\"\",'SUR IN'!A422)","v":""},null,null,"",{"$f":"checkAcre('SUR IN'!G422)","v":0},{"$f":"checkAcre('SUR IN'!H422)","v":0}]
[{"$f":"IF('SUR IN'!A423=0,\"\",'SUR IN'!A423)","v":""},null,null,"",{"$f":"checkAcre('SUR IN'!G423)","v":0},{"$f":"checkAcre('SUR IN'!H423)","v":0}]
[{"$f":"IF('SUR IN'!A424=0,\"\",'SUR IN'!A424)","v":""},null,null,"",{"$f":"checkAcre('SUR IN'!G424)","v":0},{"$f":"checkAcre('SUR IN'!H424)","v":0}]
[{"$f":"IF('SUR IN'!A425=0,\"\",'SUR IN'!A425)","v":""},null,null,"",{"$f":"checkAcre('SUR IN'!G425)","v":0},{"$f":"checkAcre('SUR IN'!H425)","v":0}]
[{"$f":"IF('SUR IN'!A426=0,\"\",'SUR IN'!A426)","v":""},null,null,"",{"$f":"checkAcre('SUR IN'!G426)","v":0},{"$f":"checkAcre('SUR IN'!H426)","v":0}]
[{"$f":"IF('SUR IN'!A427=0,\"\",'SUR IN'!A427)","v":""},null,null,"",{"$f":"checkAcre('SUR IN'!G427)","v":0},{"$f":"checkAcre('SUR IN'!H427)","v":0}]
[{"$f":"IF('SUR IN'!A428=0,\"\",'SUR IN'!A428)","v":""},null,null,"",{"$f":"checkAcre('SUR IN'!G428)","v":0},{"$f":"checkAcre('SUR IN'!H428)","v":0}]
[{"$f":"IF('SUR IN'!A429=0,\"\",'SUR IN'!A429)","v":""},null,null,"",{"$f":"checkAcre('SUR IN'!G429)","v":0},{"$f":"checkAcre('SUR IN'!H429)","v":0}]
[{"$f":"IF('SUR IN'!A430=0,\"\",'SUR IN'!A430)","v":""},null,null,"",{"$f":"checkAcre('SUR IN'!G430)","v":0},{"$f":"checkAcre('SUR IN'!H430)","v":0}]
[{"$f":"IF('SUR IN'!A431=0,\"\",'SUR IN'!A431)","v":""},null,null,"",{"$f":"checkAcre('SUR IN'!G431)","v":0},{"$f":"checkAcre('SUR IN'!H431)","v":0}]
[{"$f":"IF('SUR IN'!A432=0,\"\",'SUR IN'!A432)","v":""},null,null,"",{"$f":"checkAcre('SUR IN'!G432)","v":0},{"$f":"checkAcre('SUR IN'!H432)","v":0}]
[{"$f":"IF('SUR IN'!A433=0,\"\",'SUR IN'!A433)","v":""},null,null,"",{"$f":"checkAcre('SUR IN'!G433)","v":0},{"$f":"checkAcre('SUR IN'!H433)","v":0}]
[{"$f":"IF('SUR IN'!A434=0,\"\",'SUR IN'!A434)","v":""},null,null,"",{"$f":"checkAcre('SUR IN'!G434)","v":0},{"$f":"checkAcre('SUR IN'!H434)","v":0}]
[{"$f":"IF('SUR IN'!A435=0,\"\",'SUR IN'!A435)","v":""},null,null,"",{"$f":"checkAcre('SUR IN'!G435)","v":0},{"$f":"checkAcre('SUR IN'!H435)","v":0}]
[{"$f":"IF('SUR IN'!A436=0,\"\",'SUR IN'!A436)","v":""},null,null,"",{"$f":"checkAcre('SUR IN'!G436)","v":0},{"$f":"checkAcre('SUR IN'!H436)","v":0}]
[{"$f":"IF('SUR IN'!A437=0,\"\",'SUR IN'!A437)","v":""},null,null,"",{"$f":"checkAcre('SUR IN'!G437)","v":0},{"$f":"checkAcre('SUR IN'!H437)","v":0}]
[{"$f":"IF('SUR IN'!A438=0,\"\",'SUR IN'!A438)","v":""},null,null,"",{"$f":"checkAcre('SUR IN'!G438)","v":0},{"$f":"checkAcre('SUR IN'!H438)","v":0}]
[{"$f":"IF('SUR IN'!A439=0,\"\",'SUR IN'!A439)","v":""},null,null,"",{"$f":"checkAcre('SUR IN'!G439)","v":0},{"$f":"checkAcre('SUR IN'!H439)","v":0}]
[{"$f":"IF('SUR IN'!A440=0,\"\",'SUR IN'!A440)","v":""},null,null,"",{"$f":"checkAcre('SUR IN'!G440)","v":0},{"$f":"checkAcre('SUR IN'!H440)","v":0}]
[{"$f":"IF('SUR IN'!A441=0,\"\",'SUR IN'!A441)","v":""},null,null,"",{"$f":"checkAcre('SUR IN'!G441)","v":0},{"$f":"checkAcre('SUR IN'!H441)","v":0}]
[{"$f":"IF('SUR IN'!A442=0,\"\",'SUR IN'!A442)","v":""},null,null,"",{"$f":"checkAcre('SUR IN'!G442)","v":0},{"$f":"checkAcre('SUR IN'!H442)","v":0}]
[{"$f":"IF('SUR IN'!A443=0,\"\",'SUR IN'!A443)","v":""},null,null,"",{"$f":"checkAcre('SUR IN'!G443)","v":0},{"$f":"checkAcre('SUR IN'!H443)","v":0}]
[{"$f":"IF('SUR IN'!A444=0,\"\",'SUR IN'!A444)","v":""},null,null,"",{"$f":"checkAcre('SUR IN'!G444)","v":0},{"$f":"checkAcre('SUR IN'!H444)","v":0}]
[{"$f":"IF('SUR IN'!A445=0,\"\",'SUR IN'!A445)","v":""},null,null,"",{"$f":"checkAcre('SUR IN'!G445)","v":0},{"$f":"checkAcre('SUR IN'!H445)","v":0}]
[{"$f":"IF('SUR IN'!A446=0,\"\",'SUR IN'!A446)","v":""},null,null,"",{"$f":"checkAcre('SUR IN'!G446)","v":0},{"$f":"checkAcre('SUR IN'!H446)","v":0}]
[{"$f":"IF('SUR IN'!A447=0,\"\",'SUR IN'!A447)","v":""},null,null,"",{"$f":"checkAcre('SUR IN'!G447)","v":0},{"$f":"checkAcre('SUR IN'!H447)","v":0}]
[{"$f":"IF('SUR IN'!A448=0,\"\",'SUR IN'!A448)","v":""},null,null,"",{"$f":"checkAcre('SUR IN'!G448)","v":0},{"$f":"checkAcre('SUR IN'!H448)","v":0}]
[{"$f":"IF('SUR IN'!A449=0,\"\",'SUR IN'!A449)","v":""},null,null,"",{"$f":"checkAcre('SUR IN'!G449)","v":0},{"$f":"checkAcre('SUR IN'!H449)","v":0}]
[{"$f":"IF('SUR IN'!A450=0,\"\",'SUR IN'!A450)","v":""},null,null,"",{"$f":"checkAcre('SUR IN'!G450)","v":0},{"$f":"checkAcre('SUR IN'!H450)","v":0}]
[{"$f":"IF('SUR IN'!A451=0,\"\",'SUR IN'!A451)","v":""},null,null,"",{"$f":"checkAcre('SUR IN'!G451)","v":0},{"$f":"checkAcre('SUR IN'!H451)","v":0}]
[{"$f":"IF('SUR IN'!A452=0,\"\",'SUR IN'!A452)","v":""},null,null,"",{"$f":"checkAcre('SUR IN'!G452)","v":0},{"$f":"checkAcre('SUR IN'!H452)","v":0}]
[{"$f":"IF('SUR IN'!A453=0,\"\",'SUR IN'!A453)","v":""},null,null,{"$f":"IF((E453-B453)<0,\"X\",IF((F453-C453)<0,\"X\",\"\"))","v":""},{"$f":"checkAcre('SUR IN'!G453)","v":0},{"$f":"checkAcre('SUR IN'!H453)","v":0}]
[{"$f":"IF('SUR IN'!A454=0,\"\",'SUR IN'!A454)","v":""},null,null,"",{"$f":"checkAcre('SUR IN'!G454)","v":0},{"$f":"checkAcre('SUR IN'!H454)","v":0},null,null,null,null,null,null,"Acq Table 9"]
[{"$f":"IF('SUR IN'!A455=0,\"\",'SUR IN'!A455)","v":""},null,null,"",{"$f":"checkAcre('SUR IN'!G455)","v":0},{"$f":"checkAcre('SUR IN'!H455)","v":0},null,null,null,null,null,null,"Acq Table 10"]
[{"$f":"IF('SUR IN'!A456=0,\"\",'SUR IN'!A456)","v":""},null,null,"",{"$f":"checkAcre('SUR IN'!G456)","v":0},{"$f":"checkAcre('SUR IN'!H456)","v":0}]
[{"$f":"IF('SUR IN'!A457=0,\"\",'SUR IN'!A457)","v":""},null,null,"",{"$f":"checkAcre('SUR IN'!G457)","v":0},{"$f":"checkAcre('SUR IN'!H457)","v":0}]
[{"$f":"IF('SUR IN'!A458=0,\"\",'SUR IN'!A458)","v":""},null,null,"",{"$f":"checkAcre('SUR IN'!G458)","v":0},{"$f":"checkAcre('SUR IN'!H458)","v":0}]
[{"$f":"IF('SUR IN'!A459=0,\"\",'SUR IN'!A459)","v":""},null,null,"",{"$f":"checkAcre('SUR IN'!G459)","v":0},{"$f":"checkAcre('SUR IN'!H459)","v":0}]
[{"$f":"IF('SUR IN'!A460=0,\"\",'SUR IN'!A460)","v":""},null,null,"",{"$f":"checkAcre('SUR IN'!G460)","v":0},{"$f":"checkAcre('SUR IN'!H460)","v":0}]
[{"$f":"IF('SUR IN'!A461=0,\"\",'SUR IN'!A461)","v":""},null,null,"",{"$f":"checkAcre('SUR IN'!G461)","v":0},{"$f":"checkAcre('SUR IN'!H461)","v":0}]
[{"$f":"IF('SUR IN'!A462=0,\"\",'SUR IN'!A462)","v":""},null,null,"",{"$f":"checkAcre('SUR IN'!G462)","v":0},{"$f":"checkAcre('SUR IN'!H462)","v":0}]
[{"$f":"IF('SUR IN'!A463=0,\"\",'SUR IN'!A463)","v":""},null,null,"",{"$f":"checkAcre('SUR IN'!G463)","v":0},{"$f":"checkAcre('SUR IN'!H463)","v":0}]
[{"$f":"IF('SUR IN'!A464=0,\"\",'SUR IN'!A464)","v":""},null,null,"",{"$f":"checkAcre('SUR IN'!G464)","v":0},{"$f":"checkAcre('SUR IN'!H464)","v":0}]
[{"$f":"IF('SUR IN'!A465=0,\"\",'SUR IN'!A465)","v":""},null,null,"",{"$f":"checkAcre('SUR IN'!G465)","v":0},{"$f":"checkAcre('SUR IN'!H465)","v":0}]
[{"$f":"IF('SUR IN'!A466=0,\"\",'SUR IN'!A466)","v":""},null,null,"",{"$f":"checkAcre('SUR IN'!G466)","v":0},{"$f":"checkAcre('SUR IN'!H466)","v":0}]
[{"$f":"IF('SUR IN'!A467=0,\"\",'SUR IN'!A467)","v":""},null,null,"",{"$f":"checkAcre('SUR IN'!G467)","v":0},{"$f":"checkAcre('SUR IN'!H467)","v":0}]
[{"$f":"IF('SUR IN'!A468=0,\"\",'SUR IN'!A468)","v":""},null,null,"",{"$f":"checkAcre('SUR IN'!G468)","v":0},{"$f":"checkAcre('SUR IN'!H468)","v":0}]
[{"$f":"IF('SUR IN'!A469=0,\"\",'SUR IN'!A469)","v":""},null,null,"",{"$f":"checkAcre('SUR IN'!G469)","v":0},{"$f":"checkAcre('SUR IN'!H469)","v":0}]
[{"$f":"IF('SUR IN'!A470=0,\"\",'SUR IN'!A470)","v":""},null,null,"",{"$f":"checkAcre('SUR IN'!G470)","v":0},{"$f":"checkAcre('SUR IN'!H470)","v":0}]
[{"$f":"IF('SUR IN'!A471=0,\"\",'SUR IN'!A471)","v":""},null,null,"",{"$f":"checkAcre('SUR IN'!G471)","v":0},{"$f":"checkAcre('SUR IN'!H471)","v":0}]
[{"$f":"IF('SUR IN'!A472=0,\"\",'SUR IN'!A472)","v":""},null,null,"",{"$f":"checkAcre('SUR IN'!G472)","v":0},{"$f":"checkAcre('SUR IN'!H472)","v":0}]
[{"$f":"IF('SUR IN'!A473=0,\"\",'SUR IN'!A473)","v":""},null,null,"",{"$f":"checkAcre('SUR IN'!G473)","v":0},{"$f":"checkAcre('SUR IN'!H473)","v":0}]
[{"$f":"IF('SUR IN'!A474=0,\"\",'SUR IN'!A474)","v":""},null,null,"",{"$f":"checkAcre('SUR IN'!G474)","v":0},{"$f":"checkAcre('SUR IN'!H474)","v":0}]
[{"$f":"IF('SUR IN'!A475=0,\"\",'SUR IN'!A475)","v":""},null,null,"",{"$f":"checkAcre('SUR IN'!G475)","v":0},{"$f":"checkAcre('SUR IN'!H475)","v":0}]
[{"$f":"IF('SUR IN'!A476=0,\"\",'SUR IN'!A476)","v":""},null,null,"",{"$f":"checkAcre('SUR IN'!G476)","v":0},{"$f":"checkAcre('SUR IN'!H476)","v":0}]
[{"$f":"IF('SUR IN'!A477=0,\"\",'SUR IN'!A477)","v":""},null,null,"",{"$f":"checkAcre('SUR IN'!G477)","v":0},{"$f":"checkAcre('SUR IN'!H477)","v":0}]
[{"$f":"IF('SUR IN'!A478=0,\"\",'SUR IN'!A478)","v":""},null,null,"",{"$f":"checkAcre('SUR IN'!G478)","v":0},{"$f":"checkAcre('SUR IN'!H478)","v":0}]
[{"$f":"IF('SUR IN'!A479=0,\"\",'SUR IN'!A479)","v":""},null,null,"",{"$f":"checkAcre('SUR IN'!G479)","v":0},{"$f":"checkAcre('SUR IN'!H479)","v":0}]
[{"$f":"IF('SUR IN'!A480=0,\"\",'SUR IN'!A480)","v":""},null,null,"",{"$f":"checkAcre('SUR IN'!G480)","v":0},{"$f":"checkAcre('SUR IN'!H480)","v":0}]
[{"$f":"IF('SUR IN'!A481=0,\"\",'SUR IN'!A481)","v":""},null,null,"",{"$f":"checkAcre('SUR IN'!G481)","v":0},{"$f":"checkAcre('SUR IN'!H481)","v":0}]
[{"$f":"IF('SUR IN'!A482=0,\"\",'SUR IN'!A482)","v":""},null,null,"",{"$f":"checkAcre('SUR IN'!G482)","v":0},{"$f":"checkAcre('SUR IN'!H482)","v":0}]
[{"$f":"IF('SUR IN'!A483=0,\"\",'SUR IN'!A483)","v":""},null,null,"",{"$f":"checkAcre('SUR IN'!G483)","v":0},{"$f":"checkAcre('SUR IN'!H483)","v":0}]
[{"$f":"IF('SUR IN'!A484=0,\"\",'SUR IN'!A484)","v":""},null,null,"",{"$f":"checkAcre('SUR IN'!G484)","v":0},{"$f":"checkAcre('SUR IN'!H484)","v":0}]
[{"$f":"IF('SUR IN'!A485=0,\"\",'SUR IN'!A485)","v":""},null,null,"",{"$f":"checkAcre('SUR IN'!G485)","v":0},{"$f":"checkAcre('SUR IN'!H485)","v":0}]
[{"$f":"IF('SUR IN'!A486=0,\"\",'SUR IN'!A486)","v":""},null,null,"",{"$f":"checkAcre('SUR IN'!G486)","v":0},{"$f":"checkAcre('SUR IN'!H486)","v":0}]
[{"$f":"IF('SUR IN'!A487=0,\"\",'SUR IN'!A487)","v":""},null,null,"",{"$f":"checkAcre('SUR IN'!G487)","v":0},{"$f":"checkAcre('SUR IN'!H487)","v":0}]
[{"$f":"IF('SUR IN'!A488=0,\"\",'SUR IN'!A488)","v":""},null,null,"",{"$f":"checkAcre('SUR IN'!G488)","v":0},{"$f":"checkAcre('SUR IN'!H488)","v":0}]
[{"$f":"IF('SUR IN'!A489=0,\"\",'SUR IN'!A489)","v":""},null,null,"",{"$f":"checkAcre('SUR IN'!G489)","v":0},{"$f":"checkAcre('SUR IN'!H489)","v":0}]
[{"$f":"IF('SUR IN'!A490=0,\"\",'SUR IN'!A490)","v":""},null,null,"",{"$f":"checkAcre('SUR IN'!G490)","v":0},{"$f":"checkAcre('SUR IN'!H490)","v":0}]
[{"$f":"IF('SUR IN'!A491=0,\"\",'SUR IN'!A491)","v":""},null,null,"",{"$f":"checkAcre('SUR IN'!G491)","v":0},{"$f":"checkAcre('SUR IN'!H491)","v":0}]
[{"$f":"IF('SUR IN'!A492=0,\"\",'SUR IN'!A492)","v":""},null,null,"",{"$f":"checkAcre('SUR IN'!G492)","v":0},{"$f":"checkAcre('SUR IN'!H492)","v":0}]
[{"$f":"IF('SUR IN'!A493=0,\"\",'SUR IN'!A493)","v":""},null,null,"",{"$f":"checkAcre('SUR IN'!G493)","v":0},{"$f":"checkAcre('SUR IN'!H493)","v":0}]
[{"$f":"IF('SUR IN'!A494=0,\"\",'SUR IN'!A494)","v":""},null,null,"",{"$f":"checkAcre('SUR IN'!G494)","v":0},{"$f":"checkAcre('SUR IN'!H494)","v":0}]
[{"$f":"IF('SUR IN'!A495=0,\"\",'SUR IN'!A495)","v":""},null,null,"",{"$f":"checkAcre('SUR IN'!G495)","v":0},{"$f":"checkAcre('SUR IN'!H495)","v":0}]
[{"$f":"IF('SUR IN'!A496=0,\"\",'SUR IN'!A496)","v":""},null,null,"",{"$f":"checkAcre('SUR IN'!G496)","v":0},{"$f":"checkAcre('SUR IN'!H496)","v":0}]
[{"$f":"IF('SUR IN'!A497=0,\"\",'SUR IN'!A497)","v":""},null,null,"",{"$f":"checkAcre('SUR IN'!G497)","v":0},{"$f":"checkAcre('SUR IN'!H497)","v":0}]
[{"$f":"IF('SUR IN'!A498=0,\"\",'SUR IN'!A498)","v":""},null,null,"",{"$f":"checkAcre('SUR IN'!G498)","v":0},{"$f":"checkAcre('SUR IN'!H498)","v":0}]
[{"$f":"IF('SUR IN'!A499=0,\"\",'SUR IN'!A499)","v":""},null,null,"",{"$f":"checkAcre('SUR IN'!G499)","v":0},{"$f":"checkAcre('SUR IN'!H499)","v":0}]
[{"$f":"IF('SUR IN'!A500=0,\"\",'SUR IN'!A500)","v":""},null,null,"",{"$f":"checkAcre('SUR IN'!G500)","v":0},{"$f":"checkAcre('SUR IN'!H500)","v":0}]
[{"$f":"IF('SUR IN'!A501=0,\"\",'SUR IN'!A501)","v":""},null,null,"",{"$f":"checkAcre('SUR IN'!G501)","v":0},{"$f":"checkAcre('SUR IN'!H501)","v":0}]
[{"$f":"IF('SUR IN'!A502=0,\"\",'SUR IN'!A502)","v":""},null,null,"",{"$f":"checkAcre('SUR IN'!G502)","v":0},{"$f":"checkAcre('SUR IN'!H502)","v":0}]
[{"$f":"IF('SUR IN'!A503=0,\"\",'SUR IN'!A503)","v":""},null,null,"",{"$f":"checkAcre('SUR IN'!G503)","v":0},{"$f":"checkAcre('SUR IN'!H503)","v":0}]
[{"$f":"IF('SUR IN'!A504=0,\"\",'SUR IN'!A504)","v":""},null,null,"",{"$f":"checkAcre('SUR IN'!G504)","v":0},{"$f":"checkAcre('SUR IN'!H504)","v":0},null,null,null,null,null,null,"Acq Table 10"]

{"sheet":"ACQ TABLE(1)","index":2,"n_rows":59,"n_cols":20,"rows_kept":59,"cut":false,"hidden":false,"merged":[[58,1,58,6],[58,7,58,9],[3,15,4,19],[58,13,58,14],[6,13,7,13],[6,14,7,14],[58,10,58,12],[6,15,7,15],[6,16,7,16],[6,17,7,17],[6,11,7,11],[6,18,7,18],[6,19,7,19],[1,1,1,19],[0,0,0,19],[2,1,7,1],[2,2,7,2],[2,3,5,6],[2,7,5,9],[2,10,5,12],[2,13,5,14],[6,3,7,3],[6,4,7,4],[6,7,7,7],[6,8,7,8],[6,9,7,9],[6,10,7,10],[6,5,6,6],[6,12,7,12]]}
[]
[null,"R.O.W. ACQUISITION TABLE"]
[null,"TRACT NO.","PROPERTY OWNERS","COUNTY RECORDS",null,null,null,"TOTAL AREA (ACRES)",null,null,"AREA TO BE ACQUIRED (ACRES)",null,null,"AREA REMAINING (ACRES)",null,"EASEMENT (ACRES)"]
[null,null,null,null,null,null,null,null,null,null,null,null,null,null,null,"EASEMENT (SQUARE FEET)"]
[]
[]
[null,null,null,"TAX MAP NO.","PARCEL NO.","DEED DOCUMENT REFERENCE",null,"LEFT","RIGHT","TOTAL","LEFT","RIGHT","TOTAL","LEFT","RIGHT","PERM DRAINAGE","PERM  SLOPE","CONST","AIR RIGHTS","PERM   HIGHWAY"]
[null,null,null,null,null,"BOOK","PAGE"]
[null,{"$f":"sameinfo('SUR IN'!A5)","v":""},{"$f":"sameinfo('SUR IN'!B5)","v":""},{"$f":"sameinfo('SUR IN'!C5)","v":""},{"$f":"sameinfo('SUR IN'!D5)","v":""},{"$f":"sameinfo('SUR IN'!E5)","v":""},{"$f":"sameinfo('SUR IN'!F5)","v":""},{"$f":"ftoa('SUR IN'!G5)","v":""},{"$f":"ftoa('SUR IN'!H5)","v":""},{"$f":"DesLtRtTot('SUR IN'!G5,'SUR IN'!H5)","v":""},{"$f":"ftoa('DES IN'!B5)","v":""},{"$f":"ftoa('DES IN'!C5)","v":""},{"$f":"DesLtRtTot('DES IN'!B5,'DES IN'!C5)","v":""},{"$f":"arearem('SUR IN'!G5,'DES IN'!B5)","v":""},{"$f":"arearem('SUR IN'!H5,'DES IN'!C5)","v":""},{"$f":"ftof('DES IN'!G5)","v":""},{"$f":"ftof('DES IN'!H5)","v":""},{"$f":"ftof('DES IN'!I5)","v":""},{"$f":"ftof('DES IN'!J5)","v":""},{"$f":"ftof('DES IN'!K5)","v":""}]
[null,{"$f":"sameinfo('SUR IN'!A6)","v":""},{"$f":"sameinfo('SUR IN'!B6)","v":""},{"$f":"sameinfo('SUR IN'!C6)","v":""},{"$f":"sameinfo('SUR IN'!D6)","v":""},{"$f":"sameinfo('SUR IN'!E6)","v":""},{"$f":"sameinfo('SUR IN'!F6)","v":""},{"$f":"ftoa('SUR IN'!G6)","v":""},{"$f":"ftoa('SUR IN'!H6)","v":""},{"$f":"DesLtRtTot('SUR IN'!G6,'SUR IN'!H6)","v":""},{"$f":"ftoa('DES IN'!B6)","v":""},{"$f":"ftoa('DES IN'!C6)","v":""},{"$f":"DesLtRtTot('DES IN'!B6,'DES IN'!C6)","v":""},{"$f":"arearem('SUR IN'!G6,'DES IN'!B6)","v":""},{"$f":"arearem('SUR IN'!H6,'DES IN'!C6)","v":""},{"$f":"ftof('DES IN'!G6)","v":""},{"$f":"ftof('DES IN'!H6)","v":""},{"$f":"ftof('DES IN'!I6)","v":""},{"$f":"ftof('DES IN'!J6)","v":""},{"$f":"ftof('DES IN'!K6)","v":""}]
[null,{"$f":"sameinfo('SUR IN'!A7)","v":""},{"$f":"sameinfo('SUR IN'!B7)","v":""},{"$f":"sameinfo('SUR IN'!C7)","v":""},{"$f":"sameinfo('SUR IN'!D7)","v":""},{"$f":"sameinfo('SUR IN'!E7)","v":""},{"$f":"sameinfo('SUR IN'!F7)","v":""},{"$f":"ftoa('SUR IN'!G7)","v":""},{"$f":"ftoa('SUR IN'!H7)","v":""},{"$f":"DesLtRtTot('SUR IN'!G7,'SUR IN'!H7)","v":""},{"$f":"ftoa('DES IN'!B7)","v":""},{"$f":"ftoa('DES IN'!C7)","v":""},{"$f":"DesLtRtTot('DES IN'!B7,'DES IN'!C7)","v":""},{"$f":"arearem('SUR IN'!G7,'DES IN'!B7)","v":""},{"$f":"arearem('SUR IN'!H7,'DES IN'!C7)","v":""},{"$f":"ftof('DES IN'!G7)","v":""},{"$f":"ftof('DES IN'!H7)","v":""},{"$f":"ftof('DES IN'!I7)","v":""},{"$f":"ftof('DES IN'!J7)","v":""},{"$f":"ftof('DES IN'!K7)","v":""}]
[null,{"$f":"sameinfo('SUR IN'!A8)","v":""},{"$f":"sameinfo('SUR IN'!B8)","v":""},{"$f":"sameinfo('SUR IN'!C8)","v":""},{"$f":"sameinfo('SUR IN'!D8)","v":""},{"$f":"sameinfo('SUR IN'!E8)","v":""},{"$f":"sameinfo('SUR IN'!F8)","v":""},{"$f":"ftoa('SUR IN'!G8)","v":""},{"$f":"ftoa('SUR IN'!H8)","v":""},{"$f":"DesLtRtTot('SUR IN'!G8,'SUR IN'!H8)","v":""},{"$f":"ftoa('DES IN'!B8)","v":""},{"$f":"ftoa('DES IN'!C8)","v":""},{"$f":"DesLtRtTot('DES IN'!B8,'DES IN'!C8)","v":""},{"$f":"arearem('SUR IN'!G8,'DES IN'!B8)","v":""},{"$f":"arearem('SUR IN'!H8,'DES IN'!C8)","v":""},{"$f":"ftof('DES IN'!G8)","v":""},{"$f":"ftof('DES IN'!H8)","v":""},{"$f":"ftof('DES IN'!I8)","v":""},{"$f":"ftof('DES IN'!J8)","v":""},{"$f":"ftof('DES IN'!K8)","v":""}]
[null,{"$f":"sameinfo('SUR IN'!A9)","v":""},{"$f":"sameinfo('SUR IN'!B9)","v":""},{"$f":"sameinfo('SUR IN'!C9)","v":""},{"$f":"sameinfo('SUR IN'!D9)","v":""},{"$f":"sameinfo('SUR IN'!E9)","v":""},{"$f":"sameinfo('SUR IN'!F9)","v":""},{"$f":"ftoa('SUR IN'!G9)","v":""},{"$f":"ftoa('SUR IN'!H9)","v":""},{"$f":"DesLtRtTot('SUR IN'!G9,'SUR IN'!H9)","v":""},{"$f":"ftoa('DES IN'!B9)","v":""},{"$f":"ftoa('DES IN'!C9)","v":""},{"$f":"DesLtRtTot('DES IN'!B9,'DES IN'!C9)","v":""},{"$f":"arearem('SUR IN'!G9,'DES IN'!B9)","v":""},{"$f":"arearem('SUR IN'!H9,'DES IN'!C9)","v":""},{"$f":"ftof('DES IN'!G9)","v":""},{"$f":"ftof('DES IN'!H9)","v":""},{"$f":"ftof('DES IN'!I9)","v":""},{"$f":"ftof('DES IN'!J9)","v":""},{"$f":"ftof('DES IN'!K9)","v":""}]
[null,{"$f":"sameinfo('SUR IN'!A10)","v":""},{"$f":"sameinfo('SUR IN'!B10)","v":""},{"$f":"sameinfo('SUR IN'!C10)","v":""},{"$f":"sameinfo('SUR IN'!D10)","v":""},{"$f":"sameinfo('SUR IN'!E10)","v":""},{"$f":"sameinfo('SUR IN'!F10)","v":""},{"$f":"ftoa('SUR IN'!G10)","v":""},{"$f":"ftoa('SUR IN'!H10)","v":""},{"$f":"DesLtRtTot('SUR IN'!G10,'SUR IN'!H10)","v":""},{"$f":"ftoa('DES IN'!B10)","v":""},{"$f":"ftoa('DES IN'!C10)","v":""},{"$f":"DesLtRtTot('DES IN'!B10,'DES IN'!C10)","v":""},{"$f":"arearem('SUR IN'!G10,'DES IN'!B10)","v":""},{"$f":"arearem('SUR IN'!H10,'DES IN'!C10)","v":""},{"$f":"ftof('DES IN'!G10)","v":""},{"$f":"ftof('DES IN'!H10)","v":""},{"$f":"ftof('DES IN'!I10)","v":""},{"$f":"ftof('DES IN'!J10)","v":""},{"$f":"ftof('DES IN'!K10)","v":""}]
[null,{"$f":"sameinfo('SUR IN'!A11)","v":""},{"$f":"sameinfo('SUR IN'!B11)","v":""},{"$f":"sameinfo('SUR IN'!C11)","v":""},{"$f":"sameinfo('SUR IN'!D11)","v":""},{"$f":"sameinfo('SUR IN'!E11)","v":""},{"$f":"sameinfo('SUR IN'!F11)","v":""},{"$f":"ftoa('SUR IN'!G11)","v":""},{"$f":"ftoa('SUR IN'!H11)","v":""},{"$f":"DesLtRtTot('SUR IN'!G11,'SUR IN'!H11)","v":""},{"$f":"ftoa('DES IN'!B11)","v":""},{"$f":"ftoa('DES IN'!C11)","v":""},{"$f":"DesLtRtTot('DES IN'!B11,'DES IN'!C11)","v":""},{"$f":"arearem('SUR IN'!G11,'DES IN'!B11)","v":""},{"$f":"arearem('SUR IN'!H11,'DES IN'!C11)","v":""},{"$f":"ftof('DES IN'!G11)","v":""},{"$f":"ftof('DES IN'!H11)","v":""},{"$f":"ftof('DES IN'!I11)","v":""},{"$f":"ftof('DES IN'!J11)","v":""},{"$f":"ftof('DES IN'!K11)","v":""}]
[null,{"$f":"sameinfo('SUR IN'!A12)","v":""},{"$f":"sameinfo('SUR IN'!B12)","v":""},{"$f":"sameinfo('SUR IN'!C12)","v":""},{"$f":"sameinfo('SUR IN'!D12)","v":""},{"$f":"sameinfo('SUR IN'!E12)","v":""},{"$f":"sameinfo('SUR IN'!F12)","v":""},{"$f":"ftoa('SUR IN'!G12)","v":""},{"$f":"ftoa('SUR IN'!H12)","v":""},{"$f":"DesLtRtTot('SUR IN'!G12,'SUR IN'!H12)","v":""},{"$f":"ftoa('DES IN'!B12)","v":""},{"$f":"ftoa('DES IN'!C12)","v":""},{"$f":"DesLtRtTot('DES IN'!B12,'DES IN'!C12)","v":""},{"$f":"arearem('SUR IN'!G12,'DES IN'!B12)","v":""},{"$f":"arearem('SUR IN'!H12,'DES IN'!C12)","v":""},{"$f":"ftof('DES IN'!G12)","v":""},{"$f":"ftof('DES IN'!H12)","v":""},{"$f":"ftof('DES IN'!I12)","v":""},{"$f":"ftof('DES IN'!J12)","v":""},{"$f":"ftof('DES IN'!K12)","v":""}]
[null,{"$f":"sameinfo('SUR IN'!A13)","v":""},{"$f":"sameinfo('SUR IN'!B13)","v":""},{"$f":"sameinfo('SUR IN'!C13)","v":""},{"$f":"sameinfo('SUR IN'!D13)","v":""},{"$f":"sameinfo('SUR IN'!E13)","v":""},{"$f":"sameinfo('SUR IN'!F13)","v":""},{"$f":"ftoa('SUR IN'!G13)","v":""},{"$f":"ftoa('SUR IN'!H13)","v":""},{"$f":"DesLtRtTot('SUR IN'!G13,'SUR IN'!H13)","v":""},{"$f":"ftoa('DES IN'!B13)","v":""},{"$f":"ftoa('DES IN'!C13)","v":""},{"$f":"DesLtRtTot('DES IN'!B13,'DES IN'!C13)","v":""},{"$f":"arearem('SUR IN'!G13,'DES IN'!B13)","v":""},{"$f":"arearem('SUR IN'!H13,'DES IN'!C13)","v":""},{"$f":"ftof('DES IN'!G13)","v":""},{"$f":"ftof('DES IN'!H13)","v":""},{"$f":"ftof('DES IN'!I13)","v":""},{"$f":"ftof('DES IN'!J13)","v":""},{"$f":"ftof('DES IN'!K13)","v":""}]
[null,{"$f":"sameinfo('SUR IN'!A14)","v":""},{"$f":"sameinfo('SUR IN'!B14)","v":""},{"$f":"sameinfo('SUR IN'!C14)","v":""},{"$f":"sameinfo('SUR IN'!D14)","v":""},{"$f":"sameinfo('SUR IN'!E14)","v":""},{"$f":"sameinfo('SUR IN'!F14)","v":""},{"$f":"ftoa('SUR IN'!G14)","v":""},{"$f":"ftoa('SUR IN'!H14)","v":""},{"$f":"DesLtRtTot('SUR IN'!G14,'SUR IN'!H14)","v":""},{"$f":"ftoa('DES IN'!B14)","v":""},{"$f":"ftoa('DES IN'!C14)","v":""},{"$f":"DesLtRtTot('DES IN'!B14,'DES IN'!C14)","v":""},{"$f":"arearem('SUR IN'!G14,'DES IN'!B14)","v":""},{"$f":"arearem('SUR IN'!H14,'DES IN'!C14)","v":""},{"$f":"ftof('DES IN'!G14)","v":""},{"$f":"ftof('DES IN'!H14)","v":""},{"$f":"ftof('DES IN'!I14)","v":""},{"$f":"ftof('DES IN'!J14)","v":""},{"$f":"ftof('DES IN'!K14)","v":""}]
[null,{"$f":"sameinfo('SUR IN'!A15)","v":""},{"$f":"sameinfo('SUR IN'!B15)","v":""},{"$f":"sameinfo('SUR IN'!C15)","v":""},{"$f":"sameinfo('SUR IN'!D15)","v":""},{"$f":"sameinfo('SUR IN'!E15)","v":""},{"$f":"sameinfo('SUR IN'!F15)","v":""},{"$f":"ftoa('SUR IN'!G15)","v":""},{"$f":"ftoa('SUR IN'!H15)","v":""},{"$f":"DesLtRtTot('SUR IN'!G15,'SUR IN'!H15)","v":""},{"$f":"ftoa('DES IN'!B15)","v":""},{"$f":"ftoa('DES IN'!C15)","v":""},null,{"$f":"arearem('SUR IN'!G15,'DES IN'!B15)","v":""},{"$f":"arearem('SUR IN'!H15,'DES IN'!C15)","v":""},{"$f":"ftof('DES IN'!G15)","v":""},{"$f":"ftof('DES IN'!H15)","v":""},{"$f":"ftof('DES IN'!I15)","v":""},{"$f":"ftof('DES IN'!J15)","v":""},{"$f":"ftof('DES IN'!K15)","v":""}]
[null,{"$f":"sameinfo('SUR IN'!A16)","v":""},{"$f":"sameinfo('SUR IN'!B16)","v":""},{"$f":"sameinfo('SUR IN'!C16)","v":""},{"$f":"sameinfo('SUR IN'!D16)","v":""},{"$f":"sameinfo('SUR IN'!E16)","v":""},{"$f":"sameinfo('SUR IN'!F16)","v":""},{"$f":"ftoa('SUR IN'!G16)","v":""},{"$f":"ftoa('SUR IN'!H16)","v":""},{"$f":"DesLtRtTot('SUR IN'!G16,'SUR IN'!H16)","v":""},{"$f":"ftoa('DES IN'!B16)","v":""},{"$f":"ftoa('DES IN'!C16)","v":""},null,{"$f":"arearem('SUR IN'!G16,'DES IN'!B16)","v":""},{"$f":"arearem('SUR IN'!H16,'DES IN'!C16)","v":""},{"$f":"ftof('DES IN'!G16)","v":""},{"$f":"ftof('DES IN'!H16)","v":""},{"$f":"ftof('DES IN'!I16)","v":""},{"$f":"ftof('DES IN'!J16)","v":""},{"$f":"ftof('DES IN'!K16)","v":""}]
[null,{"$f":"sameinfo('SUR IN'!A17)","v":""},{"$f":"sameinfo('SUR IN'!B17)","v":""},{"$f":"sameinfo('SUR IN'!C17)","v":""},{"$f":"sameinfo('SUR IN'!D17)","v":""},{"$f":"sameinfo('SUR IN'!E17)","v":""},{"$f":"sameinfo('SUR IN'!F17)","v":""},{"$f":"ftoa('SUR IN'!G17)","v":""},{"$f":"ftoa('SUR IN'!H17)","v":""},{"$f":"DesLtRtTot('SUR IN'!G17,'SUR IN'!H17)","v":""},{"$f":"ftoa('DES IN'!B17)","v":""},{"$f":"ftoa('DES IN'!C17)","v":""},{"$f":"DesLtRtTot('DES IN'!B17,'DES IN'!C17)","v":""},{"$f":"arearem('SUR IN'!G17,'DES IN'!B17)","v":""},{"$f":"arearem('SUR IN'!H17,'DES IN'!C17)","v":""},{"$f":"ftof('DES IN'!G17)","v":""},{"$f":"ftof('DES IN'!H17)","v":""},{"$f":"ftof('DES IN'!I17)","v":""},{"$f":"ftof('DES IN'!J17)","v":""},{"$f":"ftof('DES IN'!K17)","v":""}]
[null,{"$f":"sameinfo('SUR IN'!A18)","v":""},{"$f":"sameinfo('SUR IN'!B18)","v":""},{"$f":"sameinfo('SUR IN'!C18)","v":""},{"$f":"sameinfo('SUR IN'!D18)","v":""},{"$f":"sameinfo('SUR IN'!E18)","v":""},{"$f":"sameinfo('SUR IN'!F18)","v":""},{"$f":"ftoa('SUR IN'!G18)","v":""},{"$f":"ftoa('SUR IN'!H18)","v":""},{"$f":"DesLtRtTot('SUR IN'!G18,'SUR IN'!H18)","v":""},{"$f":"ftoa('DES IN'!B18)","v":""},{"$f":"ftoa('DES IN'!C18)","v":""},{"$f":"DesLtRtTot('DES IN'!B18,'DES IN'!C18)","v":""},{"$f":"arearem('SUR IN'!G18,'DES IN'!B18)","v":""},{"$f":"arearem('SUR IN'!H18,'DES IN'!C18)","v":""},{"$f":"ftof('DES IN'!G18)","v":""},{"$f":"ftof('DES IN'!H18)","v":""},{"$f":"ftof('DES IN'!I18)","v":""},{"$f":"ftof('DES IN'!J18)","v":""},{"$f":"ftof('DES IN'!K18)","v":""}]
[null,{"$f":"sameinfo('SUR IN'!A19)","v":""},{"$f":"sameinfo('SUR IN'!B19)","v":""},{"$f":"sameinfo('SUR IN'!C19)","v":""},{"$f":"sameinfo('SUR IN'!D19)","v":""},{"$f":"sameinfo('SUR IN'!E19)","v":""},{"$f":"sameinfo('SUR IN'!F19)","v":""},{"$f":"ftoa('SUR IN'!G19)","v":""},{"$f":"ftoa('SUR IN'!H19)","v":""},{"$f":"DesLtRtTot('SUR IN'!G19,'SUR IN'!H19)","v":""},{"$f":"ftoa('DES IN'!B19)","v":""},{"$f":"ftoa('DES IN'!C19)","v":""},{"$f":"DesLtRtTot('DES IN'!B19,'DES IN'!C19)","v":""},{"$f":"arearem('SUR IN'!G19,'DES IN'!B19)","v":""},{"$f":"arearem('SUR IN'!H19,'DES IN'!C19)","v":""},{"$f":"ftof('DES IN'!G19)","v":""},{"$f":"ftof('DES IN'!H19)","v":""},{"$f":"ftof('DES IN'!I19)","v":""},{"$f":"ftof('DES IN'!J19)","v":""},{"$f":"ftof('DES IN'!K19)","v":""}]
[null,{"$f":"sameinfo('SUR IN'!A20)","v":""},{"$f":"sameinfo('SUR IN'!B20)","v":""},{"$f":"sameinfo('SUR IN'!C20)","v":""},{"$f":"sameinfo('SUR IN'!D20)","v":""},{"$f":"sameinfo('SUR IN'!E20)","v":""},{"$f":"sameinfo('SUR IN'!F20)","v":""},{"$f":"ftoa('SUR IN'!G20)","v":""},{"$f":"ftoa('SUR IN'!H20)","v":""},{"$f":"DesLtRtTot('SUR IN'!G20,'SUR IN'!H20)","v":""},{"$f":"ftoa('DES IN'!B20)","v":""},{"$f":"ftoa('DES IN'!C20)","v":""},{"$f":"DesLtRtTot('DES IN'!B20,'DES IN'!C20)","v":""},{"$f":"arearem('SUR IN'!G20,'DES IN'!B20)","v":""},{"$f":"arearem('SUR IN'!H20,'DES IN'!C20)","v":""},{"$f":"ftof('DES IN'!G20)","v":""},{"$f":"ftof('DES IN'!H20)","v":""},{"$f":"ftof('DES IN'!I20)","v":""},{"$f":"ftof('DES IN'!J20)","v":""},{"$f":"ftof('DES IN'!K20)","v":""}]
[null,{"$f":"sameinfo('SUR IN'!A21)","v":""},{"$f":"sameinfo('SUR IN'!B21)","v":""},{"$f":"sameinfo('SUR IN'!C21)","v":""},{"$f":"sameinfo('SUR IN'!D21)","v":""},{"$f":"sameinfo('SUR IN'!E21)","v":""},{"$f":"sameinfo('SUR IN'!F21)","v":""},{"$f":"ftoa('SUR IN'!G21)","v":""},{"$f":"ftoa('SUR IN'!H21)","v":""},{"$f":"DesLtRtTot('SUR IN'!G21,'SUR IN'!H21)","v":""},{"$f":"ftoa('DES IN'!B21)","v":""},{"$f":"ftoa('DES IN'!C21)","v":""},{"$f":"DesLtRtTot('DES IN'!B21,'DES IN'!C21)","v":""},{"$f":"arearem('SUR IN'!G21,'DES IN'!B21)","v":""},{"$f":"arearem('SUR IN'!H21,'DES IN'!C21)","v":""},{"$f":"ftof('DES IN'!G21)","v":""},{"$f":"ftof('DES IN'!H21)","v":""},{"$f":"ftof('DES IN'!I21)","v":""},{"$f":"ftof('DES IN'!J21)","v":""},{"$f":"ftof('DES IN'!K21)","v":""}]
[null,{"$f":"sameinfo('SUR IN'!A22)","v":""},{"$f":"sameinfo('SUR IN'!B22)","v":""},{"$f":"sameinfo('SUR IN'!C22)","v":""},{"$f":"sameinfo('SUR IN'!D22)","v":""},{"$f":"sameinfo('SUR IN'!E22)","v":""},{"$f":"sameinfo('SUR IN'!F22)","v":""},{"$f":"ftoa('SUR IN'!G22)","v":""},{"$f":"ftoa('SUR IN'!H22)","v":""},{"$f":"DesLtRtTot('SUR IN'!G22,'SUR IN'!H22)","v":""},{"$f":"ftoa('DES IN'!B22)","v":""},{"$f":"ftoa('DES IN'!C22)","v":""},{"$f":"DesLtRtTot('DES IN'!B22,'DES IN'!C22)","v":""},{"$f":"arearem('SUR IN'!G22,'DES IN'!B22)","v":""},{"$f":"arearem('SUR IN'!H22,'DES IN'!C22)","v":""},{"$f":"ftof('DES IN'!G22)","v":""},{"$f":"ftof('DES IN'!H22)","v":""},{"$f":"ftof('DES IN'!I22)","v":""},{"$f":"ftof('DES IN'!J22)","v":""},{"$f":"ftof('DES IN'!K22)","v":""}]
[null,{"$f":"sameinfo('SUR IN'!A23)","v":""},{"$f":"sameinfo('SUR IN'!B23)","v":""},{"$f":"sameinfo('SUR IN'!C23)","v":""},{"$f":"sameinfo('SUR IN'!D23)","v":""},{"$f":"sameinfo('SUR IN'!E23)","v":""},{"$f":"sameinfo('SUR IN'!F23)","v":""},{"$f":"ftoa('SUR IN'!G23)","v":""},{"$f":"ftoa('SUR IN'!H23)","v":""},{"$f":"DesLtRtTot('SUR IN'!G23,'SUR IN'!H23)","v":""},{"$f":"ftoa('DES IN'!B23)","v":""},{"$f":"ftoa('DES IN'!C23)","v":""},{"$f":"DesLtRtTot('DES IN'!B23,'DES IN'!C23)","v":""},{"$f":"arearem('SUR IN'!G23,'DES IN'!B23)","v":""},{"$f":"arearem('SUR IN'!H23,'DES IN'!C23)","v":""},{"$f":"ftof('DES IN'!G23)","v":""},{"$f":"ftof('DES IN'!H23)","v":""},{"$f":"ftof('DES IN'!I23)","v":""},{"$f":"ftof('DES IN'!J23)","v":""},{"$f":"ftof('DES IN'!K23)","v":""}]
[null,{"$f":"sameinfo('SUR IN'!A24)","v":""},{"$f":"sameinfo('SUR IN'!B24)","v":""},{"$f":"sameinfo('SUR IN'!C24)","v":""},{"$f":"sameinfo('SUR IN'!D24)","v":""},{"$f":"sameinfo('SUR IN'!E24)","v":""},{"$f":"sameinfo('SUR IN'!F24)","v":""},{"$f":"ftoa('SUR IN'!G24)","v":""},{"$f":"ftoa('SUR IN'!H24)","v":""},{"$f":"DesLtRtTot('SUR IN'!G24,'SUR IN'!H24)","v":""},{"$f":"ftoa('DES IN'!B24)","v":""},{"$f":"ftoa('DES IN'!C24)","v":""},{"$f":"DesLtRtTot('DES IN'!B24,'DES IN'!C24)","v":""},{"$f":"arearem('SUR IN'!G24,'DES IN'!B24)","v":""},{"$f":"arearem('SUR IN'!H24,'DES IN'!C24)","v":""},{"$f":"ftof('DES IN'!G24)","v":""},{"$f":"ftof('DES IN'!H24)","v":""},{"$f":"ftof('DES IN'!I24)","v":""},{"$f":"ftof('DES IN'!J24)","v":""},{"$f":"ftof('DES IN'!K24)","v":""}]
[null,{"$f":"sameinfo('SUR IN'!A25)","v":""},{"$f":"sameinfo('SUR IN'!B25)","v":""},{"$f":"sameinfo('SUR IN'!C25)","v":""},{"$f":"sameinfo('SUR IN'!D25)","v":""},{"$f":"sameinfo('SUR IN'!E25)","v":""},{"$f":"sameinfo('SUR IN'!F25)","v":""},{"$f":"ftoa('SUR IN'!G25)","v":""},{"$f":"ftoa('SUR IN'!H25)","v":""},{"$f":"DesLtRtTot('SUR IN'!G25,'SUR IN'!H25)","v":""},{"$f":"ftoa('DES IN'!B25)","v":""},{"$f":"ftoa('DES IN'!C25)","v":""},{"$f":"DesLtRtTot('DES IN'!B25,'DES IN'!C25)","v":""},{"$f":"arearem('SUR IN'!G25,'DES IN'!B25)","v":""},{"$f":"arearem('SUR IN'!H25,'DES IN'!C25)","v":""},{"$f":"ftof('DES IN'!G25)","v":""},{"$f":"ftof('DES IN'!H25)","v":""},{"$f":"ftof('DES IN'!I25)","v":""},{"$f":"ftof('DES IN'!J25)","v":""},{"$f":"ftof('DES IN'!K25)","v":""}]
[null,{"$f":"sameinfo('SUR IN'!A26)","v":""},{"$f":"sameinfo('SUR IN'!B26)","v":""},{"$f":"sameinfo('SUR IN'!C26)","v":""},{"$f":"sameinfo('SUR IN'!D26)","v":""},{"$f":"sameinfo('SUR IN'!E26)","v":""},{"$f":"sameinfo('SUR IN'!F26)","v":""},{"$f":"ftoa('SUR IN'!G26)","v":""},{"$f":"ftoa('SUR IN'!H26)","v":""},{"$f":"DesLtRtTot('SUR IN'!G26,'SUR IN'!H26)","v":""},{"$f":"ftoa('DES IN'!B26)","v":""},{"$f":"ftoa('DES IN'!C26)","v":""},{"$f":"DesLtRtTot('DES IN'!B26,'DES IN'!C26)","v":""},{"$f":"arearem('SUR IN'!G26,'DES IN'!B26)","v":""},{"$f":"arearem('SUR IN'!H26,'DES IN'!C26)","v":""},{"$f":"ftof('DES IN'!G26)","v":""},{"$f":"ftof('DES IN'!H26)","v":""},{"$f":"ftof('DES IN'!I26)","v":""},{"$f":"ftof('DES IN'!J26)","v":""},{"$f":"ftof('DES IN'!K26)","v":""}]
[null,{"$f":"sameinfo('SUR IN'!A27)","v":""},{"$f":"sameinfo('SUR IN'!B27)","v":""},{"$f":"sameinfo('SUR IN'!C27)","v":""},{"$f":"sameinfo('SUR IN'!D27)","v":""},{"$f":"sameinfo('SUR IN'!E27)","v":""},{"$f":"sameinfo('SUR IN'!F27)","v":""},{"$f":"ftoa('SUR IN'!G27)","v":""},{"$f":"ftoa('SUR IN'!H27)","v":""},{"$f":"DesLtRtTot('SUR IN'!G27,'SUR IN'!H27)","v":""},{"$f":"ftoa('DES IN'!B27)","v":""},{"$f":"ftoa('DES IN'!C27)","v":""},{"$f":"DesLtRtTot('DES IN'!B27,'DES IN'!C27)","v":""},{"$f":"arearem('SUR IN'!G27,'DES IN'!B27)","v":""},{"$f":"arearem('SUR IN'!H27,'DES IN'!C27)","v":""},{"$f":"ftof('DES IN'!G27)","v":""},{"$f":"ftof('DES IN'!H27)","v":""},{"$f":"ftof('DES IN'!I27)","v":""},{"$f":"ftof('DES IN'!J27)","v":""},{"$f":"ftof('DES IN'!K27)","v":""}]
[null,{"$f":"sameinfo('SUR IN'!A28)","v":""},{"$f":"sameinfo('SUR IN'!B28)","v":""},{"$f":"sameinfo('SUR IN'!C28)","v":""},{"$f":"sameinfo('SUR IN'!D28)","v":""},{"$f":"sameinfo('SUR IN'!E28)","v":""},{"$f":"sameinfo('SUR IN'!F28)","v":""},{"$f":"ftoa('SUR IN'!G28)","v":""},{"$f":"ftoa('SUR IN'!H28)","v":""},{"$f":"DesLtRtTot('SUR IN'!G28,'SUR IN'!H28)","v":""},{"$f":"ftoa('DES IN'!B28)","v":""},{"$f":"ftoa('DES IN'!C28)","v":""},{"$f":"DesLtRtTot('DES IN'!B28,'DES IN'!C28)","v":""},{"$f":"arearem('SUR IN'!G28,'DES IN'!B28)","v":""},{"$f":"arearem('SUR IN'!H28,'DES IN'!C28)","v":""},{"$f":"ftof('DES IN'!G28)","v":""},{"$f":"ftof('DES IN'!H28)","v":""},{"$f":"ftof('DES IN'!I28)","v":""},{"$f":"ftof('DES IN'!J28)","v":""},{"$f":"ftof('DES IN'!K28)","v":""}]
[null,{"$f":"sameinfo('SUR IN'!A29)","v":""},{"$f":"sameinfo('SUR IN'!B29)","v":""},{"$f":"sameinfo('SUR IN'!C29)","v":""},{"$f":"sameinfo('SUR IN'!D29)","v":""},{"$f":"sameinfo('SUR IN'!E29)","v":""},{"$f":"sameinfo('SUR IN'!F29)","v":""},{"$f":"ftoa('SUR IN'!G29)","v":""},{"$f":"ftoa('SUR IN'!H29)","v":""},{"$f":"DesLtRtTot('SUR IN'!G29,'SUR IN'!H29)","v":""},{"$f":"ftoa('DES IN'!B29)","v":""},{"$f":"ftoa('DES IN'!C29)","v":""},{"$f":"DesLtRtTot('DES IN'!B29,'DES IN'!C29)","v":""},{"$f":"arearem('SUR IN'!G29,'DES IN'!B29)","v":""},{"$f":"arearem('SUR IN'!H29,'DES IN'!C29)","v":""},{"$f":"ftof('DES IN'!G29)","v":""},{"$f":"ftof('DES IN'!H29)","v":""},{"$f":"ftof('DES IN'!I29)","v":""},{"$f":"ftof('DES IN'!J29)","v":""},{"$f":"ftof('DES IN'!K29)","v":""}]
[null,{"$f":"sameinfo('SUR IN'!A30)","v":""},{"$f":"sameinfo('SUR IN'!B30)","v":""},{"$f":"sameinfo('SUR IN'!C30)","v":""},{"$f":"sameinfo('SUR IN'!D30)","v":""},{"$f":"sameinfo('SUR IN'!E30)","v":""},{"$f":"sameinfo('SUR IN'!F30)","v":""},{"$f":"ftoa('SUR IN'!G30)","v":""},{"$f":"ftoa('SUR IN'!H30)","v":""},{"$f":"DesLtRtTot('SUR IN'!G30,'SUR IN'!H30)","v":""},{"$f":"ftoa('DES IN'!B30)","v":""},{"$f":"ftoa('DES IN'!C30)","v":""},{"$f":"DesLtRtTot('DES IN'!B30,'DES IN'!C30)","v":""},{"$f":"arearem('SUR IN'!G30,'DES IN'!B30)","v":""},{"$f":"arearem('SUR IN'!H30,'DES IN'!C30)","v":""},{"$f":"ftof('DES IN'!G30)","v":""},{"$f":"ftof('DES IN'!H30)","v":""},{"$f":"ftof('DES IN'!I30)","v":""},{"$f":"ftof('DES IN'!J30)","v":""},{"$f":"ftof('DES IN'!K30)","v":""}]
[null,{"$f":"sameinfo('SUR IN'!A31)","v":""},{"$f":"sameinfo('SUR IN'!B31)","v":""},{"$f":"sameinfo('SUR IN'!C31)","v":""},{"$f":"sameinfo('SUR IN'!D31)","v":""},{"$f":"sameinfo('SUR IN'!E31)","v":""},{"$f":"sameinfo('SUR IN'!F31)","v":""},{"$f":"ftoa('SUR IN'!G31)","v":""},{"$f":"ftoa('SUR IN'!H31)","v":""},{"$f":"DesLtRtTot('SUR IN'!G31,'SUR IN'!H31)","v":""},{"$f":"ftoa('DES IN'!B31)","v":""},{"$f":"ftoa('DES IN'!C31)","v":""},{"$f":"DesLtRtTot('DES IN'!B31,'DES IN'!C31)","v":""},{"$f":"arearem('SUR IN'!G31,'DES IN'!B31)","v":""},{"$f":"arearem('SUR IN'!H31,'DES IN'!C31)","v":""},{"$f":"ftof('DES IN'!G31)","v":""},{"$f":"ftof('DES IN'!H31)","v":""},{"$f":"ftof('DES IN'!I31)","v":""},{"$f":"ftof('DES IN'!J31)","v":""},{"$f":"ftof('DES IN'!K31)","v":""}]
[null,{"$f":"sameinfo('SUR IN'!A32)","v":""},{"$f":"sameinfo('SUR IN'!B32)","v":""},{"$f":"sameinfo('SUR IN'!C32)","v":""},{"$f":"sameinfo('SUR IN'!D32)","v":""},{"$f":"sameinfo('SUR IN'!E32)","v":""},{"$f":"sameinfo('SUR IN'!F32)","v":""},{"$f":"ftoa('SUR IN'!G32)","v":""},{"$f":"ftoa('SUR IN'!H32)","v":""},{"$f":"DesLtRtTot('SUR IN'!G32,'SUR IN'!H32)","v":""},{"$f":"ftoa('DES IN'!B32)","v":""},null,{"$f":"DesLtRtTot('DES IN'!B32,'DES IN'!C32)","v":""},{"$f":"arearem('SUR IN'!G32,'DES IN'!B32)","v":""},{"$f":"arearem('SUR IN'!H32,'DES IN'!C32)","v":""},{"$f":"ftof('DES IN'!G32)","v":""},{"$f":"ftof('DES IN'!H32)","v":""},{"$f":"ftof('DES IN'!I32)","v":""},{"$f":"ftof('DES IN'!J32)","v":""},{"$f":"ftof('DES IN'!K32)","v":""}]
[null,{"$f":"sameinfo('SUR IN'!A33)","v":""},{"$f":"sameinfo('SUR IN'!B33)","v":""},{"$f":"sameinfo('SUR IN'!C33)","v":""},{"$f":"sameinfo('SUR IN'!D33)","v":""},{"$f":"sameinfo('SUR IN'!E33)","v":""},{"$f":"sameinfo('SUR IN'!F33)","v":""},{"$f":"ftoa('SUR IN'!G33)","v":""},{"$f":"ftoa('SUR IN'!H33)","v":""},{"$f":"DesLtRtTot('SUR IN'!G33,'SUR IN'!H33)","v":""},{"$f":"ftoa('DES IN'!B33)","v":""},{"$f":"ftoa('DES IN'!C33)","v":""},{"$f":"DesLtRtTot('DES IN'!B33,'DES IN'!C33)","v":""},{"$f":"arearem('SUR IN'!G33,'DES IN'!B33)","v":""},{"$f":"arearem('SUR IN'!H33,'DES IN'!C33)","v":""},{"$f":"ftof('DES IN'!G33)","v":""},{"$f":"ftof('DES IN'!H33)","v":""},{"$f":"ftof('DES IN'!I33)","v":""},{"$f":"ftof('DES IN'!J33)","v":""},{"$f":"ftof('DES IN'!K33)","v":""}]
[null,{"$f":"sameinfo('SUR IN'!A34)","v":""},{"$f":"sameinfo('SUR IN'!B34)","v":""},{"$f":"sameinfo('SUR IN'!C34)","v":""},{"$f":"sameinfo('SUR IN'!D34)","v":""},{"$f":"sameinfo('SUR IN'!E34)","v":""},{"$f":"sameinfo('SUR IN'!F34)","v":""},{"$f":"ftoa('SUR IN'!G34)","v":""},{"$f":"ftoa('SUR IN'!H34)","v":""},{"$f":"DesLtRtTot('SUR IN'!G34,'SUR IN'!H34)","v":""},{"$f":"ftoa('DES IN'!B34)","v":""},{"$f":"ftoa('DES IN'!C34)","v":""},{"$f":"DesLtRtTot('DES IN'!B34,'DES IN'!C34)","v":""},{"$f":"arearem('SUR IN'!G34,'DES IN'!B34)","v":""},{"$f":"arearem('SUR IN'!H34,'DES IN'!C34)","v":""},{"$f":"ftof('DES IN'!G34)","v":""},{"$f":"ftof('DES IN'!H34)","v":""},{"$f":"ftof('DES IN'!I34)","v":""},{"$f":"ftof('DES IN'!J34)","v":""},{"$f":"ftof('DES IN'!K34)","v":""}]
[null,{"$f":"sameinfo('SUR IN'!A35)","v":""},{"$f":"sameinfo('SUR IN'!B35)","v":""},{"$f":"sameinfo('SUR IN'!C35)","v":""},{"$f":"sameinfo('SUR IN'!D35)","v":""},{"$f":"sameinfo('SUR IN'!E35)","v":""},{"$f":"sameinfo('SUR IN'!F35)","v":""},{"$f":"ftoa('SUR IN'!G35)","v":""},{"$f":"ftoa('SUR IN'!H35)","v":""},{"$f":"DesLtRtTot('SUR IN'!G35,'SUR IN'!H35)","v":""},{"$f":"ftoa('DES IN'!B35)","v":""},{"$f":"ftoa('DES IN'!C35)","v":""},{"$f":"DesLtRtTot('DES IN'!B35,'DES IN'!C35)","v":""},{"$f":"arearem('SUR IN'!G35,'DES IN'!B35)","v":""},{"$f":"arearem('SUR IN'!H35,'DES IN'!C35)","v":""},{"$f":"ftof('DES IN'!G35)","v":""},{"$f":"ftof('DES IN'!H35)","v":""},{"$f":"ftof('DES IN'!I35)","v":""},{"$f":"ftof('DES IN'!J35)","v":""},{"$f":"ftof('DES IN'!K35)","v":""}]
[null,{"$f":"sameinfo('SUR IN'!A36)","v":""},{"$f":"sameinfo('SUR IN'!B36)","v":""},{"$f":"sameinfo('SUR IN'!C36)","v":""},{"$f":"sameinfo('SUR IN'!D36)","v":""},{"$f":"sameinfo('SUR IN'!E36)","v":""},{"$f":"sameinfo('SUR IN'!F36)","v":""},{"$f":"ftoa('SUR IN'!G36)","v":""},{"$f":"ftoa('SUR IN'!H36)","v":""},{"$f":"DesLtRtTot('SUR IN'!G36,'SUR IN'!H36)","v":""},{"$f":"ftoa('DES IN'!B36)","v":""},{"$f":"ftoa('DES IN'!C36)","v":""},{"$f":"DesLtRtTot('DES IN'!B36,'DES IN'!C36)","v":""},{"$f":"arearem('SUR IN'!G36,'DES IN'!B36)","v":""},{"$f":"arearem('SUR IN'!H36,'DES IN'!C36)","v":""},{"$f":"ftof('DES IN'!G36)","v":""},{"$f":"ftof('DES IN'!H36)","v":""},{"$f":"ftof('DES IN'!I36)","v":""},{"$f":"ftof('DES IN'!J36)","v":""},{"$f":"ftof('DES IN'!K36)","v":""}]
[null,{"$f":"sameinfo('SUR IN'!A37)","v":""},{"$f":"sameinfo('SUR IN'!B37)","v":""},{"$f":"sameinfo('SUR IN'!C37)","v":""},{"$f":"sameinfo('SUR IN'!D37)","v":""},{"$f":"sameinfo('SUR IN'!E37)","v":""},{"$f":"sameinfo('SUR IN'!F37)","v":""},{"$f":"ftoa('SUR IN'!G37)","v":""},{"$f":"ftoa('SUR IN'!H37)","v":""},{"$f":"DesLtRtTot('SUR IN'!G37,'SUR IN'!H37)","v":""},{"$f":"ftoa('DES IN'!B37)","v":""},{"$f":"ftoa('DES IN'!C37)","v":""},{"$f":"DesLtRtTot('DES IN'!B37,'DES IN'!C37)","v":""},{"$f":"arearem('SUR IN'!G37,'DES IN'!B37)","v":""},{"$f":"arearem('SUR IN'!H37,'DES IN'!C37)","v":""},{"$f":"ftof('DES IN'!G37)","v":""},{"$f":"ftof('DES IN'!H37)","v":""},{"$f":"ftof('DES IN'!I37)","v":""},{"$f":"ftof('DES IN'!J37)","v":""},{"$f":"ftof('DES IN'!K37)","v":""}]
[null,{"$f":"sameinfo('SUR IN'!A38)","v":""},{"$f":"sameinfo('SUR IN'!B38)","v":""},{"$f":"sameinfo('SUR IN'!C38)","v":""},{"$f":"sameinfo('SUR IN'!D38)","v":""},{"$f":"sameinfo('SUR IN'!E38)","v":""},{"$f":"sameinfo('SUR IN'!F38)","v":""},{"$f":"ftoa('SUR IN'!G38)","v":""},{"$f":"ftoa('SUR IN'!H38)","v":""},{"$f":"DesLtRtTot('SUR IN'!G38,'SUR IN'!H38)","v":""},{"$f":"ftoa('DES IN'!B38)","v":""},{"$f":"ftoa('DES IN'!C38)","v":""},{"$f":"DesLtRtTot('DES IN'!B38,'DES IN'!C38)","v":""},{"$f":"arearem('SUR IN'!G38,'DES IN'!B38)","v":""},{"$f":"arearem('SUR IN'!H38,'DES IN'!C38)","v":""},{"$f":"ftof('DES IN'!G38)","v":""},{"$f":"ftof('DES IN'!H38)","v":""},{"$f":"ftof('DES IN'!I38)","v":""},{"$f":"ftof('DES IN'!J38)","v":""},{"$f":"ftof('DES IN'!K38)","v":""}]
[null,{"$f":"sameinfo('SUR IN'!A39)","v":""},{"$f":"sameinfo('SUR IN'!B39)","v":""},{"$f":"sameinfo('SUR IN'!C39)","v":""},{"$f":"sameinfo('SUR IN'!D39)","v":""},{"$f":"sameinfo('SUR IN'!E39)","v":""},{"$f":"sameinfo('SUR IN'!F39)","v":""},{"$f":"ftoa('SUR IN'!G39)","v":""},{"$f":"ftoa('SUR IN'!H39)","v":""},{"$f":"DesLtRtTot('SUR IN'!G39,'SUR IN'!H39)","v":""},{"$f":"ftoa('DES IN'!B39)","v":""},{"$f":"ftoa('DES IN'!C39)","v":""},{"$f":"DesLtRtTot('DES IN'!B39,'DES IN'!C39)","v":""},{"$f":"arearem('SUR IN'!G39,'DES IN'!B39)","v":""},{"$f":"arearem('SUR IN'!H39,'DES IN'!C39)","v":""},{"$f":"ftof('DES IN'!G39)","v":""},{"$f":"ftof('DES IN'!H39)","v":""},{"$f":"ftof('DES IN'!I39)","v":""},{"$f":"ftof('DES IN'!J39)","v":""},{"$f":"ftof('DES IN'!K39)","v":""}]
[null,{"$f":"sameinfo('SUR IN'!A40)","v":""},{"$f":"sameinfo('SUR IN'!B40)","v":""},{"$f":"sameinfo('SUR IN'!C40)","v":""},{"$f":"sameinfo('SUR IN'!D40)","v":""},{"$f":"sameinfo('SUR IN'!E40)","v":""},{"$f":"sameinfo('SUR IN'!F40)","v":""},{"$f":"ftoa('SUR IN'!G40)","v":""},{"$f":"ftoa('SUR IN'!H40)","v":""},{"$f":"DesLtRtTot('SUR IN'!G40,'SUR IN'!H40)","v":""},{"$f":"ftoa('DES IN'!B40)","v":""},{"$f":"ftoa('DES IN'!C40)","v":""},{"$f":"DesLtRtTot('DES IN'!B40,'DES IN'!C40)","v":""},{"$f":"arearem('SUR IN'!G40,'DES IN'!B40)","v":""},{"$f":"arearem('SUR IN'!H40,'DES IN'!C40)","v":""},{"$f":"ftof('DES IN'!G40)","v":""},{"$f":"ftof('DES IN'!H40)","v":""},{"$f":"ftof('DES IN'!I40)","v":""},{"$f":"ftof('DES IN'!J40)","v":""},{"$f":"ftof('DES IN'!K40)","v":""}]
[null,{"$f":"sameinfo('SUR IN'!A41)","v":""},{"$f":"sameinfo('SUR IN'!B41)","v":""},{"$f":"sameinfo('SUR IN'!C41)","v":""},{"$f":"sameinfo('SUR IN'!D41)","v":""},{"$f":"sameinfo('SUR IN'!E41)","v":""},{"$f":"sameinfo('SUR IN'!F41)","v":""},{"$f":"ftoa('SUR IN'!G41)","v":""},{"$f":"ftoa('SUR IN'!H41)","v":""},{"$f":"DesLtRtTot('SUR IN'!G41,'SUR IN'!H41)","v":""},{"$f":"ftoa('DES IN'!B41)","v":""},{"$f":"ftoa('DES IN'!C41)","v":""},{"$f":"DesLtRtTot('DES IN'!B41,'DES IN'!C41)","v":""},{"$f":"arearem('SUR IN'!G41,'DES IN'!B41)","v":""},{"$f":"arearem('SUR IN'!H41,'DES IN'!C41)","v":""},{"$f":"ftof('DES IN'!G41)","v":""},{"$f":"ftof('DES IN'!H41)","v":""},{"$f":"ftof('DES IN'!I41)","v":""},{"$f":"ftof('DES IN'!J41)","v":""},{"$f":"ftof('DES IN'!K41)","v":""}]
[null,{"$f":"sameinfo('SUR IN'!A42)","v":""},{"$f":"sameinfo('SUR IN'!B42)","v":""},{"$f":"sameinfo('SUR IN'!C42)","v":""},{"$f":"sameinfo('SUR IN'!D42)","v":""},{"$f":"sameinfo('SUR IN'!E42)","v":""},{"$f":"sameinfo('SUR IN'!F42)","v":""},{"$f":"ftoa('SUR IN'!G42)","v":""},{"$f":"ftoa('SUR IN'!H42)","v":""},{"$f":"DesLtRtTot('SUR IN'!G42,'SUR IN'!H42)","v":""},{"$f":"ftoa('DES IN'!B42)","v":""},{"$f":"ftoa('DES IN'!C42)","v":""},{"$f":"DesLtRtTot('DES IN'!B42,'DES IN'!C42)","v":""},{"$f":"arearem('SUR IN'!G42,'DES IN'!B42)","v":""},{"$f":"arearem('SUR IN'!H42,'DES IN'!C42)","v":""},{"$f":"ftof('DES IN'!G42)","v":""},{"$f":"ftof('DES IN'!H42)","v":""},{"$f":"ftof('DES IN'!I42)","v":""},{"$f":"ftof('DES IN'!J42)","v":""},{"$f":"ftof('DES IN'!K42)","v":""}]
[null,{"$f":"sameinfo('SUR IN'!A43)","v":""},{"$f":"sameinfo('SUR IN'!B43)","v":""},{"$f":"sameinfo('SUR IN'!C43)","v":""},{"$f":"sameinfo('SUR IN'!D43)","v":""},{"$f":"sameinfo('SUR IN'!E43)","v":""},{"$f":"sameinfo('SUR IN'!F43)","v":""},{"$f":"ftoa('SUR IN'!G43)","v":""},{"$f":"ftoa('SUR IN'!H43)","v":""},{"$f":"DesLtRtTot('SUR IN'!G43,'SUR IN'!H43)","v":""},{"$f":"ftoa('DES IN'!B43)","v":""},{"$f":"ftoa('DES IN'!C43)","v":""},{"$f":"DesLtRtTot('DES IN'!B43,'DES IN'!C43)","v":""},{"$f":"arearem('SUR IN'!G43,'DES IN'!B43)","v":""},{"$f":"arearem('SUR IN'!H43,'DES IN'!C43)","v":""},{"$f":"ftof('DES IN'!G43)","v":""},{"$f":"ftof('DES IN'!H43)","v":""},{"$f":"ftof('DES IN'!I43)","v":""},{"$f":"ftof('DES IN'!J43)","v":""},{"$f":"ftof('DES IN'!K43)","v":""}]
[null,{"$f":"sameinfo('SUR IN'!A44)","v":""},{"$f":"sameinfo('SUR IN'!B44)","v":""},{"$f":"sameinfo('SUR IN'!C44)","v":""},{"$f":"sameinfo('SUR IN'!D44)","v":""},{"$f":"sameinfo('SUR IN'!E44)","v":""},{"$f":"sameinfo('SUR IN'!F44)","v":""},{"$f":"ftoa('SUR IN'!G44)","v":""},{"$f":"ftoa('SUR IN'!H44)","v":""},{"$f":"DesLtRtTot('SUR IN'!G44,'SUR IN'!H44)","v":""},{"$f":"ftoa('DES IN'!B44)","v":""},{"$f":"ftoa('DES IN'!C44)","v":""},{"$f":"DesLtRtTot('DES IN'!B44,'DES IN'!C44)","v":""},{"$f":"arearem('SUR IN'!G44,'DES IN'!B44)","v":""},{"$f":"arearem('SUR IN'!H44,'DES IN'!C44)","v":""},{"$f":"ftof('DES IN'!G44)","v":""},{"$f":"ftof('DES IN'!H44)","v":""},{"$f":"ftof('DES IN'!I44)","v":""},{"$f":"ftof('DES IN'!J44)","v":""},{"$f":"ftof('DES IN'!K44)","v":""}]
[null,{"$f":"sameinfo('SUR IN'!A45)","v":""},{"$f":"sameinfo('SUR IN'!B45)","v":""},{"$f":"sameinfo('SUR IN'!C45)","v":""},{"$f":"sameinfo('SUR IN'!D45)","v":""},{"$f":"sameinfo('SUR IN'!E45)","v":""},{"$f":"sameinfo('SUR IN'!F45)","v":""},{"$f":"ftoa('SUR IN'!G45)","v":""},{"$f":"ftoa('SUR IN'!H45)","v":""},{"$f":"DesLtRtTot('SUR IN'!G45,'SUR IN'!H45)","v":""},{"$f":"ftoa('DES IN'!B45)","v":""},{"$f":"ftoa('DES IN'!C45)","v":""},{"$f":"DesLtRtTot('DES IN'!B45,'DES IN'!C45)","v":""},{"$f":"arearem('SUR IN'!G45,'DES IN'!B45)","v":""},{"$f":"arearem('SUR IN'!H45,'DES IN'!C45)","v":""},{"$f":"ftof('DES IN'!G45)","v":""},{"$f":"ftof('DES IN'!H45)","v":""},{"$f":"ftof('DES IN'!I45)","v":""},{"$f":"ftof('DES IN'!J45)","v":""},{"$f":"ftof('DES IN'!K45)","v":""}]
[null,{"$f":"sameinfo('SUR IN'!A46)","v":""},{"$f":"sameinfo('SUR IN'!B46)","v":""},{"$f":"sameinfo('SUR IN'!C46)","v":""},{"$f":"sameinfo('SUR IN'!D46)","v":""},{"$f":"sameinfo('SUR IN'!E46)","v":""},{"$f":"sameinfo('SUR IN'!F46)","v":""},{"$f":"ftoa('SUR IN'!G46)","v":""},{"$f":"ftoa('SUR IN'!H46)","v":""},{"$f":"DesLtRtTot('SUR IN'!G46,'SUR IN'!H46)","v":""},{"$f":"ftoa('DES IN'!B46)","v":""},{"$f":"ftoa('DES IN'!C46)","v":""},{"$f":"DesLtRtTot('DES IN'!B46,'DES IN'!C46)","v":""},{"$f":"arearem('SUR IN'!G46,'DES IN'!B46)","v":""},{"$f":"arearem('SUR IN'!H46,'DES IN'!C46)","v":""},{"$f":"ftof('DES IN'!G46)","v":""},{"$f":"ftof('DES IN'!H46)","v":""},{"$f":"ftof('DES IN'!I46)","v":""},{"$f":"ftof('DES IN'!J46)","v":""},{"$f":"ftof('DES IN'!K46)","v":""}]
[null,{"$f":"sameinfo('SUR IN'!A47)","v":""},{"$f":"sameinfo('SUR IN'!B47)","v":""},{"$f":"sameinfo('SUR IN'!C47)","v":""},{"$f":"sameinfo('SUR IN'!D47)","v":""},{"$f":"sameinfo('SUR IN'!E47)","v":""},{"$f":"sameinfo('SUR IN'!F47)","v":""},{"$f":"ftoa('SUR IN'!G47)","v":""},{"$f":"ftoa('SUR IN'!H47)","v":""},{"$f":"DesLtRtTot('SUR IN'!G47,'SUR IN'!H47)","v":""},{"$f":"ftoa('DES IN'!B47)","v":""},{"$f":"ftoa('DES IN'!C47)","v":""},{"$f":"DesLtRtTot('DES IN'!B47,'DES IN'!C47)","v":""},{"$f":"arearem('SUR IN'!G47,'DES IN'!B47)","v":""},{"$f":"arearem('SUR IN'!H47,'DES IN'!C47)","v":""},{"$f":"ftof('DES IN'!G47)","v":""},{"$f":"ftof('DES IN'!H47)","v":""},{"$f":"ftof('DES IN'!I47)","v":""},{"$f":"ftof('DES IN'!J47)","v":""},{"$f":"ftof('DES IN'!K47)","v":""}]
[null,{"$f":"sameinfo('SUR IN'!A48)","v":""},{"$f":"sameinfo('SUR IN'!B48)","v":""},{"$f":"sameinfo('SUR IN'!C48)","v":""},{"$f":"sameinfo('SUR IN'!D48)","v":""},{"$f":"sameinfo('SUR IN'!E48)","v":""},{"$f":"sameinfo('SUR IN'!F48)","v":""},{"$f":"ftoa('SUR IN'!G48)","v":""},{"$f":"ftoa('SUR IN'!H48)","v":""},{"$f":"DesLtRtTot('SUR IN'!G48,'SUR IN'!H48)","v":""},{"$f":"ftoa('DES IN'!B48)","v":""},{"$f":"ftoa('DES IN'!C48)","v":""},{"$f":"DesLtRtTot('DES IN'!B48,'DES IN'!C48)","v":""},{"$f":"arearem('SUR IN'!G48,'DES IN'!B48)","v":""},{"$f":"arearem('SUR IN'!H48,'DES IN'!C48)","v":""},{"$f":"ftof('DES IN'!G48)","v":""},{"$f":"ftof('DES IN'!H48)","v":""},{"$f":"ftof('DES IN'!I48)","v":""},{"$f":"ftof('DES IN'!J48)","v":""},{"$f":"ftof('DES IN'!K48)","v":""}]
[null,{"$f":"sameinfo('SUR IN'!A49)","v":""},{"$f":"sameinfo('SUR IN'!B49)","v":""},{"$f":"sameinfo('SUR IN'!C49)","v":""},{"$f":"sameinfo('SUR IN'!D49)","v":""},{"$f":"sameinfo('SUR IN'!E49)","v":""},{"$f":"sameinfo('SUR IN'!F49)","v":""},{"$f":"ftoa('SUR IN'!G49)","v":""},{"$f":"ftoa('SUR IN'!H49)","v":""},{"$f":"DesLtRtTot('SUR IN'!G49,'SUR IN'!H49)","v":""},{"$f":"ftoa('DES IN'!B49)","v":""},{"$f":"ftoa('DES IN'!C49)","v":""},{"$f":"DesLtRtTot('DES IN'!B49,'DES IN'!C49)","v":""},{"$f":"arearem('SUR IN'!G49,'DES IN'!B49)","v":""},{"$f":"arearem('SUR IN'!H49,'DES IN'!C49)","v":""},{"$f":"ftof('DES IN'!G49)","v":""},{"$f":"ftof('DES IN'!H49)","v":""},{"$f":"ftof('DES IN'!I49)","v":""},{"$f":"ftof('DES IN'!J49)","v":""},{"$f":"ftof('DES IN'!K49)","v":""}]
[null,{"$f":"sameinfo('SUR IN'!A50)","v":""},{"$f":"sameinfo('SUR IN'!B50)","v":""},{"$f":"sameinfo('SUR IN'!C50)","v":""},{"$f":"sameinfo('SUR IN'!D50)","v":""},{"$f":"sameinfo('SUR IN'!E50)","v":""},{"$f":"sameinfo('SUR IN'!F50)","v":""},{"$f":"ftoa('SUR IN'!G50)","v":""},{"$f":"ftoa('SUR IN'!H50)","v":""},{"$f":"DesLtRtTot('SUR IN'!G50,'SUR IN'!H50)","v":""},{"$f":"ftoa('DES IN'!B50)","v":""},{"$f":"ftoa('DES IN'!C50)","v":""},{"$f":"DesLtRtTot('DES IN'!B50,'DES IN'!C50)","v":""},{"$f":"arearem('SUR IN'!G50,'DES IN'!B50)","v":""},{"$f":"arearem('SUR IN'!H50,'DES IN'!C50)","v":""},{"$f":"ftof('DES IN'!G50)","v":""},{"$f":"ftof('DES IN'!H50)","v":""},{"$f":"ftof('DES IN'!I50)","v":""},{"$f":"ftof('DES IN'!J50)","v":""},{"$f":"ftof('DES IN'!K50)","v":""}]
[null,{"$f":"sameinfo('SUR IN'!A51)","v":""},{"$f":"sameinfo('SUR IN'!B51)","v":""},{"$f":"sameinfo('SUR IN'!C51)","v":""},{"$f":"sameinfo('SUR IN'!D51)","v":""},{"$f":"sameinfo('SUR IN'!E51)","v":""},{"$f":"sameinfo('SUR IN'!F51)","v":""},{"$f":"ftoa('SUR IN'!G51)","v":""},{"$f":"ftoa('SUR IN'!H51)","v":""},{"$f":"DesLtRtTot('SUR IN'!G51,'SUR IN'!H51)","v":""},{"$f":"ftoa('DES IN'!B51)","v":""},{"$f":"ftoa('DES IN'!C51)","v":""},{"$f":"DesLtRtTot('DES IN'!B51,'DES IN'!C51)","v":""},{"$f":"arearem('SUR IN'!G51,'DES IN'!B51)","v":""},{"$f":"arearem('SUR IN'!H51,'DES IN'!C51)","v":""},{"$f":"ftof('DES IN'!G51)","v":""},{"$f":"ftof('DES IN'!H51)","v":""},{"$f":"ftof('DES IN'!I51)","v":""},{"$f":"ftof('DES IN'!J51)","v":""},{"$f":"ftof('DES IN'!K51)","v":""}]
[null,{"$f":"sameinfo('SUR IN'!A52)","v":""},{"$f":"sameinfo('SUR IN'!B52)","v":""},{"$f":"sameinfo('SUR IN'!C52)","v":""},{"$f":"sameinfo('SUR IN'!D52)","v":""},{"$f":"sameinfo('SUR IN'!E52)","v":""},{"$f":"sameinfo('SUR IN'!F52)","v":""},{"$f":"ftoa('SUR IN'!G52)","v":""},{"$f":"ftoa('SUR IN'!H52)","v":""},{"$f":"DesLtRtTot('SUR IN'!G52,'SUR IN'!H52)","v":""},{"$f":"ftoa('DES IN'!B52)","v":""},{"$f":"ftoa('DES IN'!C52)","v":""},{"$f":"DesLtRtTot('DES IN'!B52,'DES IN'!C52)","v":""},{"$f":"arearem('SUR IN'!G52,'DES IN'!B52)","v":""},{"$f":"arearem('SUR IN'!H52,'DES IN'!C52)","v":""},{"$f":"ftof('DES IN'!G52)","v":""},{"$f":"ftof('DES IN'!H52)","v":""},{"$f":"ftof('DES IN'!I52)","v":""},{"$f":"ftof('DES IN'!J52)","v":""},{"$f":"ftof('DES IN'!K52)","v":""}]
[null,{"$f":"sameinfo('SUR IN'!A53)","v":""},{"$f":"sameinfo('SUR IN'!B53)","v":""},{"$f":"sameinfo('SUR IN'!C53)","v":""},{"$f":"sameinfo('SUR IN'!D53)","v":""},{"$f":"sameinfo('SUR IN'!E53)","v":""},{"$f":"sameinfo('SUR IN'!F53)","v":""},{"$f":"ftoa('SUR IN'!G53)","v":""},{"$f":"ftoa('SUR IN'!H53)","v":""},{"$f":"DesLtRtTot('SUR IN'!G53,'SUR IN'!H53)","v":""},{"$f":"ftoa('DES IN'!B53)","v":""},{"$f":"ftoa('DES IN'!C53)","v":""},{"$f":"DesLtRtTot('DES IN'!B53,'DES IN'!C53)","v":""},{"$f":"arearem('SUR IN'!G53,'DES IN'!B53)","v":""},{"$f":"arearem('SUR IN'!H53,'DES IN'!C53)","v":""},{"$f":"ftof('DES IN'!G53)","v":""},{"$f":"ftof('DES IN'!H53)","v":""},{"$f":"ftof('DES IN'!I53)","v":""},{"$f":"ftof('DES IN'!J53)","v":""},{"$f":"ftof('DES IN'!K53)","v":""}]
[null,{"$f":"sameinfo('SUR IN'!A54)","v":""},{"$f":"sameinfo('SUR IN'!B54)","v":""},{"$f":"sameinfo('SUR IN'!C54)","v":""},{"$f":"sameinfo('SUR IN'!D54)","v":""},{"$f":"sameinfo('SUR IN'!E54)","v":""},{"$f":"sameinfo('SUR IN'!F54)","v":""},{"$f":"ftoa('SUR IN'!G54)","v":""},{"$f":"ftoa('SUR IN'!H54)","v":""},{"$f":"DesLtRtTot('SUR IN'!G54,'SUR IN'!H54)","v":""},{"$f":"ftoa('DES IN'!B54)","v":""},{"$f":"ftoa('DES IN'!C54)","v":""},{"$f":"DesLtRtTot('DES IN'!B54,'DES IN'!C54)","v":""},{"$f":"arearem('SUR IN'!G54,'DES IN'!B54)","v":""},{"$f":"arearem('SUR IN'!H54,'DES IN'!C54)","v":""},{"$f":"ftof('DES IN'!G54)","v":""},{"$f":"ftof('DES IN'!H54)","v":""},{"$f":"ftof('DES IN'!I54)","v":""},{"$f":"ftof('DES IN'!J54)","v":""},{"$f":"ftof('DES IN'!K54)","v":""}]
[null,"ACQUISITION TOTALS (ACRES)",null,null,null,null,null,null,null,null,{"$f":"TotalAcquired(5)","v":""},null,null,null,null,{"$f":"TotalPermanent(5)","v":""},{"$f":"TotalSlope(5)","v":""},{"$f":"TotalConstruction(5)","v":""},{"$f":"totalAirRights(5)","v":""},{"$f":"TotalRailroad(5)","v":""}]

{"sheet":"Add Sheets","index":3,"n_rows":0,"n_cols":0,"rows_kept":0,"cut":false,"hidden":false,"merged":[[0,0,0,18],[2,1,7,1],[2,2,7,2],[2,3,5,6],[2,7,5,9],[2,10,5,12],[2,13,5,14],[2,15,5,17],[6,3,7,3],[6,4,7,4],[6,15,7,15],[6,16,7,16],[6,17,7,17],[6,5,6,6],[6,7,7,7],[6,8,7,8],[58,1,58,6],[58,7,58,9],[58,13,58,14],[6,12,7,12],[6,13,7,13],[6,14,7,14],[6,9,7,9],[6,10,7,10],[6,11,7,11]]}

{"sheet":"OWNERS","index":4,"n_rows":504,"n_cols":6,"rows_kept":504,"cut":false,"hidden":false,"merged":[]}
[null,"Create Geopak owner input file and save to the project working folder",null,null,null,"Recreate the links to the \"SUR IN\" worksheet"]
["Filename:",{"$f":"\"Owners\"&A3&\".i\"&A4","v":"Owners001.iSU"}]
["001","Geopak job number"]
["SU","Operator initials"]
[{"$f":"IF('SUR IN'!A5=0,\" \",\"OWNER PAR\")","v":" "},{"$f":"IF('SUR IN'!A5=0,\"\",'SUR IN'!A5)","v":""},{"$f":"IF('SUR IN'!B5=0,\"\",'SUR IN'!B5)","v":""}]
[{"$f":"IF('SUR IN'!A6=0,\" \",\"OWNER PAR\")","v":" "},{"$f":"IF('SUR IN'!A6=0,\"\",'SUR IN'!A6)","v":""},{"$f":"IF('SUR IN'!B6=0,\"\",'SUR IN'!B6)","v":""}]
[{"$f":"IF('SUR IN'!A7=0,\" \",\"OWNER PAR\")","v":" "},{"$f":"IF('SUR IN'!A7=0,\"\",'SUR IN'!A7)","v":""},{"$f":"IF('SUR IN'!B7=0,\"\",'SUR IN'!B7)","v":""}]
[{"$f":"IF('SUR IN'!A8=0,\" \",\"OWNER PAR\")","v":" "},{"$f":"IF('SUR IN'!A8=0,\"\",'SUR IN'!A8)","v":""},{"$f":"IF('SUR IN'!B8=0,\"\",'SUR IN'!B8)","v":""}]
[{"$f":"IF('SUR IN'!A9=0,\" \",\"OWNER PAR\")","v":" "},{"$f":"IF('SUR IN'!A9=0,\"\",'SUR IN'!A9)","v":""},{"$f":"IF('SUR IN'!B9=0,\"\",'SUR IN'!B9)","v":""}]
[{"$f":"IF('SUR IN'!A10=0,\" \",\"OWNER PAR\")","v":" "},{"$f":"IF('SUR IN'!A10=0,\"\",'SUR IN'!A10)","v":""},{"$f":"IF('SUR IN'!B10=0,\"\",'SUR IN'!B10)","v":""}]
[{"$f":"IF('SUR IN'!A11=0,\" \",\"OWNER PAR\")","v":" "},{"$f":"IF('SUR IN'!A11=0,\"\",'SUR IN'!A11)","v":""},{"$f":"IF('SUR IN'!B11=0,\"\",'SUR IN'!B11)","v":""}]
[{"$f":"IF('SUR IN'!A12=0,\" \",\"OWNER PAR\")","v":" "},{"$f":"IF('SUR IN'!A12=0,\"\",'SUR IN'!A12)","v":""},{"$f":"IF('SUR IN'!B12=0,\"\",'SUR IN'!B12)","v":""}]
[{"$f":"IF('SUR IN'!A13=0,\" \",\"OWNER PAR\")","v":" "},{"$f":"IF('SUR IN'!A13=0,\"\",'SUR IN'!A13)","v":""},{"$f":"IF('SUR IN'!B13=0,\"\",'SUR IN'!B13)","v":""}]
[{"$f":"IF('SUR IN'!A14=0,\" \",\"OWNER PAR\")","v":" "},{"$f":"IF('SUR IN'!A14=0,\"\",'SUR IN'!A14)","v":""},{"$f":"IF('SUR IN'!B14=0,\"\",'SUR IN'!B14)","v":""}]
[{"$f":"IF('SUR IN'!A15=0,\" \",\"OWNER PAR\")","v":" "},{"$f":"IF('SUR IN'!A15=0,\"\",'SUR IN'!A15)","v":""},{"$f":"IF('SUR IN'!B15=0,\"\",'SUR IN'!B15)","v":""}]
[{"$f":"IF('SUR IN'!A16=0,\" \",\"OWNER PAR\")","v":" "},{"$f":"IF('SUR IN'!A16=0,\"\",'SUR IN'!A16)","v":""},{"$f":"IF('SUR IN'!B16=0,\"\",'SUR IN'!B16)","v":""}]
[{"$f":"IF('SUR IN'!A17=0,\" \",\"OWNER PAR\")","v":" "},{"$f":"IF('SUR IN'!A17=0,\"\",'SUR IN'!A17)","v":""},{"$f":"IF('SUR IN'!B17=0,\"\",'SUR IN'!B17)","v":""}]
[{"$f":"IF('SUR IN'!A18=0,\" \",\"OWNER PAR\")","v":" "},{"$f":"IF('SUR IN'!A18=0,\"\",'SUR IN'!A18)","v":""},{"$f":"IF('SUR IN'!B18=0,\"\",'SUR IN'!B18)","v":""}]
[{"$f":"IF('SUR IN'!A19=0,\" \",\"OWNER PAR\")","v":" "},{"$f":"IF('SUR IN'!A19=0,\"\",'SUR IN'!A19)","v":""},{"$f":"IF('SUR IN'!B19=0,\"\",'SUR IN'!B19)","v":""}]
[{"$f":"IF('SUR IN'!A20=0,\" \",\"OWNER PAR\")","v":" "},{"$f":"IF('SUR IN'!A20=0,\"\",'SUR IN'!A20)","v":""},{"$f":"IF('SUR IN'!B20=0,\"\",'SUR IN'!B20)","v":""}]
[{"$f":"IF('SUR IN'!A21=0,\" \",\"OWNER PAR\")","v":" "},{"$f":"IF('SUR IN'!A21=0,\"\",'SUR IN'!A21)","v":""},{"$f":"IF('SUR IN'!B21=0,\"\",'SUR IN'!B21)","v":""}]
[{"$f":"IF('SUR IN'!A22=0,\" \",\"OWNER PAR\")","v":" "},{"$f":"IF('SUR IN'!A22=0,\"\",'SUR IN'!A22)","v":""},{"$f":"IF('SUR IN'!B22=0,\"\",'SUR IN'!B22)","v":""}]
[{"$f":"IF('SUR IN'!A23=0,\" \",\"OWNER PAR\")","v":" "},{"$f":"IF('SUR IN'!A23=0,\"\",'SUR IN'!A23)","v":""},{"$f":"IF('SUR IN'!B23=0,\"\",'SUR IN'!B23)","v":""}]
[{"$f":"IF('SUR IN'!A24=0,\" \",\"OWNER PAR\")","v":" "},{"$f":"IF('SUR IN'!A24=0,\"\",'SUR IN'!A24)","v":""},{"$f":"IF('SUR IN'!B24=0,\"\",'SUR IN'!B24)","v":""}]
[{"$f":"IF('SUR IN'!A25=0,\" \",\"OWNER PAR\")","v":" "},{"$f":"IF('SUR IN'!A25=0,\"\",'SUR IN'!A25)","v":""},{"$f":"IF('SUR IN'!B25=0,\"\",'SUR IN'!B25)","v":""}]
[{"$f":"IF('SUR IN'!A26=0,\" \",\"OWNER PAR\")","v":" "},{"$f":"IF('SUR IN'!A26=0,\"\",'SUR IN'!A26)","v":""},{"$f":"IF('SUR IN'!B26=0,\"\",'SUR IN'!B26)","v":""}]
[{"$f":"IF('SUR IN'!A27=0,\" \",\"OWNER PAR\")","v":" "},{"$f":"IF('SUR IN'!A27=0,\"\",'SUR IN'!A27)","v":""},{"$f":"IF('SUR IN'!B27=0,\"\",'SUR IN'!B27)","v":""}]
[{"$f":"IF('SUR IN'!A28=0,\" \",\"OWNER PAR\")","v":" "},{"$f":"IF('SUR IN'!A28=0,\"\",'SUR IN'!A28)","v":""},{"$f":"IF('SUR IN'!B28=0,\"\",'SUR IN'!B28)","v":""}]
[{"$f":"IF('SUR IN'!A29=0,\" \",\"OWNER PAR\")","v":" "},{"$f":"IF('SUR IN'!A29=0,\"\",'SUR IN'!A29)","v":""},{"$f":"IF('SUR IN'!B29=0,\"\",'SUR IN'!B29)","v":""}]
[{"$f":"IF('SUR IN'!A30=0,\" \",\"OWNER PAR\")","v":" "},{"$f":"IF('SUR IN'!A30=0,\"\",'SUR IN'!A30)","v":""},{"$f":"IF('SUR IN'!B30=0,\"\",'SUR IN'!B30)","v":""}]
[{"$f":"IF('SUR IN'!A31=0,\" \",\"OWNER PAR\")","v":" "},{"$f":"IF('SUR IN'!A31=0,\"\",'SUR IN'!A31)","v":""},{"$f":"IF('SUR IN'!B31=0,\"\",'SUR IN'!B31)","v":""}]
[{"$f":"IF('SUR IN'!A32=0,\" \",\"OWNER PAR\")","v":" "},{"$f":"IF('SUR IN'!A32=0,\"\",'SUR IN'!A32)","v":""},{"$f":"IF('SUR IN'!B32=0,\"\",'SUR IN'!B32)","v":""}]
[{"$f":"IF('SUR IN'!A33=0,\" \",\"OWNER PAR\")","v":" "},{"$f":"IF('SUR IN'!A33=0,\"\",'SUR IN'!A33)","v":""},{"$f":"IF('SUR IN'!B33=0,\"\",'SUR IN'!B33)","v":""}]
[{"$f":"IF('SUR IN'!A34=0,\" \",\"OWNER PAR\")","v":" "},{"$f":"IF('SUR IN'!A34=0,\"\",'SUR IN'!A34)","v":""},{"$f":"IF('SUR IN'!B34=0,\"\",'SUR IN'!B34)","v":""}]
[{"$f":"IF('SUR IN'!A35=0,\" \",\"OWNER PAR\")","v":" "},{"$f":"IF('SUR IN'!A35=0,\"\",'SUR IN'!A35)","v":""},{"$f":"IF('SUR IN'!B35=0,\"\",'SUR IN'!B35)","v":""}]
[{"$f":"IF('SUR IN'!A36=0,\" \",\"OWNER PAR\")","v":" "},{"$f":"IF('SUR IN'!A36=0,\"\",'SUR IN'!A36)","v":""},{"$f":"IF('SUR IN'!B36=0,\"\",'SUR IN'!B36)","v":""}]
[{"$f":"IF('SUR IN'!A37=0,\" \",\"OWNER PAR\")","v":" "},{"$f":"IF('SUR IN'!A37=0,\"\",'SUR IN'!A37)","v":""},{"$f":"IF('SUR IN'!B37=0,\"\",'SUR IN'!B37)","v":""}]
[{"$f":"IF('SUR IN'!A38=0,\" \",\"OWNER PAR\")","v":" "},{"$f":"IF('SUR IN'!A38=0,\"\",'SUR IN'!A38)","v":""},{"$f":"IF('SUR IN'!B38=0,\"\",'SUR IN'!B38)","v":""}]
[{"$f":"IF('SUR IN'!A39=0,\" \",\"OWNER PAR\")","v":" "},{"$f":"IF('SUR IN'!A39=0,\"\",'SUR IN'!A39)","v":""},{"$f":"IF('SUR IN'!B39=0,\"\",'SUR IN'!B39)","v":""}]
[{"$f":"IF('SUR IN'!A40=0,\" \",\"OWNER PAR\")","v":" "},{"$f":"IF('SUR IN'!A40=0,\"\",'SUR IN'!A40)","v":""},{"$f":"IF('SUR IN'!B40=0,\"\",'SUR IN'!B40)","v":""}]
[{"$f":"IF('SUR IN'!A41=0,\" \",\"OWNER PAR\")","v":" "},{"$f":"IF('SUR IN'!A41=0,\"\",'SUR IN'!A41)","v":""},{"$f":"IF('SUR IN'!B41=0,\"\",'SUR IN'!B41)","v":""}]
[{"$f":"IF('SUR IN'!A42=0,\" \",\"OWNER PAR\")","v":" "},{"$f":"IF('SUR IN'!A42=0,\"\",'SUR IN'!A42)","v":""},{"$f":"IF('SUR IN'!B42=0,\"\",'SUR IN'!B42)","v":""}]
[{"$f":"IF('SUR IN'!A43=0,\" \",\"OWNER PAR\")","v":" "},{"$f":"IF('SUR IN'!A43=0,\"\",'SUR IN'!A43)","v":""},{"$f":"IF('SUR IN'!B43=0,\"\",'SUR IN'!B43)","v":""}]
[{"$f":"IF('SUR IN'!A44=0,\" \",\"OWNER PAR\")","v":" "},{"$f":"IF('SUR IN'!A44=0,\"\",'SUR IN'!A44)","v":""},{"$f":"IF('SUR IN'!B44=0,\"\",'SUR IN'!B44)","v":""}]
[{"$f":"IF('SUR IN'!A45=0,\" \",\"OWNER PAR\")","v":" "},{"$f":"IF('SUR IN'!A45=0,\"\",'SUR IN'!A45)","v":""},{"$f":"IF('SUR IN'!B45=0,\"\",'SUR IN'!B45)","v":""}]
[{"$f":"IF('SUR IN'!A46=0,\" \",\"OWNER PAR\")","v":" "},{"$f":"IF('SUR IN'!A46=0,\"\",'SUR IN'!A46)","v":""},{"$f":"IF('SUR IN'!B46=0,\"\",'SUR IN'!B46)","v":""}]
[{"$f":"IF('SUR IN'!A47=0,\" \",\"OWNER PAR\")","v":" "},{"$f":"IF('SUR IN'!A47=0,\"\",'SUR IN'!A47)","v":""},{"$f":"IF('SUR IN'!B47=0,\"\",'SUR IN'!B47)","v":""}]
[{"$f":"IF('SUR IN'!A48=0,\" \",\"OWNER PAR\")","v":" "},{"$f":"IF('SUR IN'!A48=0,\"\",'SUR IN'!A48)","v":""},{"$f":"IF('SUR IN'!B48=0,\"\",'SUR IN'!B48)","v":""}]
[{"$f":"IF('SUR IN'!A49=0,\" \",\"OWNER PAR\")","v":" "},{"$f":"IF('SUR IN'!A49=0,\"\",'SUR IN'!A49)","v":""},{"$f":"IF('SUR IN'!B49=0,\"\",'SUR IN'!B49)","v":""}]
[{"$f":"IF('SUR IN'!A50=0,\" \",\"OWNER PAR\")","v":" "},{"$f":"IF('SUR IN'!A50=0,\"\",'SUR IN'!A50)","v":""},{"$f":"IF('SUR IN'!B50=0,\"\",'SUR IN'!B50)","v":""}]
[{"$f":"IF('SUR IN'!A51=0,\" \",\"OWNER PAR\")","v":" "},{"$f":"IF('SUR IN'!A51=0,\"\",'SUR IN'!A51)","v":""},{"$f":"IF('SUR IN'!B51=0,\"\",'SUR IN'!B51)","v":""}]
[{"$f":"IF('SUR IN'!A52=0,\" \",\"OWNER PAR\")","v":" "},{"$f":"IF('SUR IN'!A52=0,\"\",'SUR IN'!A52)","v":""},{"$f":"IF('SUR IN'!B52=0,\"\",'SUR IN'!B52)","v":""}]
[{"$f":"IF('SUR IN'!A53=0,\" \",\"OWNER PAR\")","v":" "},{"$f":"IF('SUR IN'!A53=0,\"\",'SUR IN'!A53)","v":""},{"$f":"IF('SUR IN'!B53=0,\"\",'SUR IN'!B53)","v":""}]
[{"$f":"IF('SUR IN'!A54=0,\" \",\"OWNER PAR\")","v":" "},{"$f":"IF('SUR IN'!A54=0,\"\",'SUR IN'!A54)","v":""},{"$f":"IF('SUR IN'!B54=0,\"\",'SUR IN'!B54)","v":""}]
[{"$f":"IF('SUR IN'!A55=0,\" \",\"OWNER PAR\")","v":" "},{"$f":"IF('SUR IN'!A55=0,\"\",'SUR IN'!A55)","v":""},{"$f":"IF('SUR IN'!B55=0,\"\",'SUR IN'!B55)","v":""}]
[{"$f":"IF('SUR IN'!A56=0,\" \",\"OWNER PAR\")","v":" "},{"$f":"IF('SUR IN'!A56=0,\"\",'SUR IN'!A56)","v":""},{"$f":"IF('SUR IN'!B56=0,\"\",'SUR IN'!B56)","v":""}]
[{"$f":"IF('SUR IN'!A57=0,\" \",\"OWNER PAR\")","v":" "},{"$f":"IF('SUR IN'!A57=0,\"\",'SUR IN'!A57)","v":""},{"$f":"IF('SUR IN'!B57=0,\"\",'SUR IN'!B57)","v":""}]
[{"$f":"IF('SUR IN'!A58=0,\" \",\"OWNER PAR\")","v":" "},{"$f":"IF('SUR IN'!A58=0,\"\",'SUR IN'!A58)","v":""},{"$f":"IF('SUR IN'!B58=0,\"\",'SUR IN'!B58)","v":""}]
[{"$f":"IF('SUR IN'!A59=0,\" \",\"OWNER PAR\")","v":" "},{"$f":"IF('SUR IN'!A59=0,\"\",'SUR IN'!A59)","v":""},{"$f":"IF('SUR IN'!B59=0,\"\",'SUR IN'!B59)","v":""}]
[{"$f":"IF('SUR IN'!A60=0,\" \",\"OWNER PAR\")","v":" "},{"$f":"IF('SUR IN'!A60=0,\"\",'SUR IN'!A60)","v":""},{"$f":"IF('SUR IN'!B60=0,\"\",'SUR IN'!B60)","v":""}]
[{"$f":"IF('SUR IN'!A61=0,\" \",\"OWNER PAR\")","v":" "},{"$f":"IF('SUR IN'!A61=0,\"\",'SUR IN'!A61)","v":""},{"$f":"IF('SUR IN'!B61=0,\"\",'SUR IN'!B61)","v":""}]
[{"$f":"IF('SUR IN'!A62=0,\" \",\"OWNER PAR\")","v":" "},{"$f":"IF('SUR IN'!A62=0,\"\",'SUR IN'!A62)","v":""},{"$f":"IF('SUR IN'!B62=0,\"\",'SUR IN'!B62)","v":""}]
[{"$f":"IF('SUR IN'!A63=0,\" \",\"OWNER PAR\")","v":" "},{"$f":"IF('SUR IN'!A63=0,\"\",'SUR IN'!A63)","v":""},{"$f":"IF('SUR IN'!B63=0,\"\",'SUR IN'!B63)","v":""}]
[{"$f":"IF('SUR IN'!A64=0,\" \",\"OWNER PAR\")","v":" "},{"$f":"IF('SUR IN'!A64=0,\"\",'SUR IN'!A64)","v":""},{"$f":"IF('SUR IN'!B64=0,\"\",'SUR IN'!B64)","v":""}]
[{"$f":"IF('SUR IN'!A65=0,\" \",\"OWNER PAR\")","v":" "},{"$f":"IF('SUR IN'!A65=0,\"\",'SUR IN'!A65)","v":""},{"$f":"IF('SUR IN'!B65=0,\"\",'SUR IN'!B65)","v":""}]
[{"$f":"IF('SUR IN'!A66=0,\" \",\"OWNER PAR\")","v":" "},{"$f":"IF('SUR IN'!A66=0,\"\",'SUR IN'!A66)","v":""},{"$f":"IF('SUR IN'!B66=0,\"\",'SUR IN'!B66)","v":""}]
[{"$f":"IF('SUR IN'!A67=0,\" \",\"OWNER PAR\")","v":" "},{"$f":"IF('SUR IN'!A67=0,\"\",'SUR IN'!A67)","v":""},{"$f":"IF('SUR IN'!B67=0,\"\",'SUR IN'!B67)","v":""}]
[{"$f":"IF('SUR IN'!A68=0,\" \",\"OWNER PAR\")","v":" "},{"$f":"IF('SUR IN'!A68=0,\"\",'SUR IN'!A68)","v":""},{"$f":"IF('SUR IN'!B68=0,\"\",'SUR IN'!B68)","v":""}]
[{"$f":"IF('SUR IN'!A69=0,\" \",\"OWNER PAR\")","v":" "},{"$f":"IF('SUR IN'!A69=0,\"\",'SUR IN'!A69)","v":""},{"$f":"IF('SUR IN'!B69=0,\"\",'SUR IN'!B69)","v":""}]
[{"$f":"IF('SUR IN'!A70=0,\" \",\"OWNER PAR\")","v":" "},{"$f":"IF('SUR IN'!A70=0,\"\",'SUR IN'!A70)","v":""},{"$f":"IF('SUR IN'!B70=0,\"\",'SUR IN'!B70)","v":""}]
[{"$f":"IF('SUR IN'!A71=0,\" \",\"OWNER PAR\")","v":" "},{"$f":"IF('SUR IN'!A71=0,\"\",'SUR IN'!A71)","v":""},{"$f":"IF('SUR IN'!B71=0,\"\",'SUR IN'!B71)","v":""}]
[{"$f":"IF('SUR IN'!A72=0,\" \",\"OWNER PAR\")","v":" "},{"$f":"IF('SUR IN'!A72=0,\"\",'SUR IN'!A72)","v":""},{"$f":"IF('SUR IN'!B72=0,\"\",'SUR IN'!B72)","v":""}]
[{"$f":"IF('SUR IN'!A73=0,\" \",\"OWNER PAR\")","v":" "},{"$f":"IF('SUR IN'!A73=0,\"\",'SUR IN'!A73)","v":""},{"$f":"IF('SUR IN'!B73=0,\"\",'SUR IN'!B73)","v":""}]
[{"$f":"IF('SUR IN'!A74=0,\" \",\"OWNER PAR\")","v":" "},{"$f":"IF('SUR IN'!A74=0,\"\",'SUR IN'!A74)","v":""},{"$f":"IF('SUR IN'!B74=0,\"\",'SUR IN'!B74)","v":""}]
[{"$f":"IF('SUR IN'!A75=0,\" \",\"OWNER PAR\")","v":" "},{"$f":"IF('SUR IN'!A75=0,\"\",'SUR IN'!A75)","v":""},{"$f":"IF('SUR IN'!B75=0,\"\",'SUR IN'!B75)","v":""}]
[{"$f":"IF('SUR IN'!A76=0,\" \",\"OWNER PAR\")","v":" "},{"$f":"IF('SUR IN'!A76=0,\"\",'SUR IN'!A76)","v":""},{"$f":"IF('SUR IN'!B76=0,\"\",'SUR IN'!B76)","v":""}]
[{"$f":"IF('SUR IN'!A77=0,\" \",\"OWNER PAR\")","v":" "},{"$f":"IF('SUR IN'!A77=0,\"\",'SUR IN'!A77)","v":""},{"$f":"IF('SUR IN'!B77=0,\"\",'SUR IN'!B77)","v":""}]
[{"$f":"IF('SUR IN'!A78=0,\" \",\"OWNER PAR\")","v":" "},{"$f":"IF('SUR IN'!A78=0,\"\",'SUR IN'!A78)","v":""},{"$f":"IF('SUR IN'!B78=0,\"\",'SUR IN'!B78)","v":""}]
[{"$f":"IF('SUR IN'!A79=0,\" \",\"OWNER PAR\")","v":" "},{"$f":"IF('SUR IN'!A79=0,\"\",'SUR IN'!A79)","v":""},{"$f":"IF('SUR IN'!B79=0,\"\",'SUR IN'!B79)","v":""}]
[{"$f":"IF('SUR IN'!A80=0,\" \",\"OWNER PAR\")","v":" "},{"$f":"IF('SUR IN'!A80=0,\"\",'SUR IN'!A80)","v":""},{"$f":"IF('SUR IN'!B80=0,\"\",'SUR IN'!B80)","v":""}]
[{"$f":"IF('SUR IN'!A81=0,\" \",\"OWNER PAR\")","v":" "},{"$f":"IF('SUR IN'!A81=0,\"\",'SUR IN'!A81)","v":""},{"$f":"IF('SUR IN'!B81=0,\"\",'SUR IN'!B81)","v":""}]
[{"$f":"IF('SUR IN'!A82=0,\" \",\"OWNER PAR\")","v":" "},{"$f":"IF('SUR IN'!A82=0,\"\",'SUR IN'!A82)","v":""},{"$f":"IF('SUR IN'!B82=0,\"\",'SUR IN'!B82)","v":""}]
[{"$f":"IF('SUR IN'!A83=0,\" \",\"OWNER PAR\")","v":" "},{"$f":"IF('SUR IN'!A83=0,\"\",'SUR IN'!A83)","v":""},{"$f":"IF('SUR IN'!B83=0,\"\",'SUR IN'!B83)","v":""}]
[{"$f":"IF('SUR IN'!A84=0,\" \",\"OWNER PAR\")","v":" "},{"$f":"IF('SUR IN'!A84=0,\"\",'SUR IN'!A84)","v":""},{"$f":"IF('SUR IN'!B84=0,\"\",'SUR IN'!B84)","v":""}]
[{"$f":"IF('SUR IN'!A85=0,\" \",\"OWNER PAR\")","v":" "},{"$f":"IF('SUR IN'!A85=0,\"\",'SUR IN'!A85)","v":""},{"$f":"IF('SUR IN'!B85=0,\"\",'SUR IN'!B85)","v":""}]
[{"$f":"IF('SUR IN'!A86=0,\" \",\"OWNER PAR\")","v":" "},{"$f":"IF('SUR IN'!A86=0,\"\",'SUR IN'!A86)","v":""},{"$f":"IF('SUR IN'!B86=0,\"\",'SUR IN'!B86)","v":""}]
[{"$f":"IF('SUR IN'!A87=0,\" \",\"OWNER PAR\")","v":" "},{"$f":"IF('SUR IN'!A87=0,\"\",'SUR IN'!A87)","v":""},{"$f":"IF('SUR IN'!B87=0,\"\",'SUR IN'!B87)","v":""}]
[{"$f":"IF('SUR IN'!A88=0,\" \",\"OWNER PAR\")","v":" "},{"$f":"IF('SUR IN'!A88=0,\"\",'SUR IN'!A88)","v":""},{"$f":"IF('SUR IN'!B88=0,\"\",'SUR IN'!B88)","v":""}]
[{"$f":"IF('SUR IN'!A89=0,\" \",\"OWNER PAR\")","v":" "},{"$f":"IF('SUR IN'!A89=0,\"\",'SUR IN'!A89)","v":""},{"$f":"IF('SUR IN'!B89=0,\"\",'SUR IN'!B89)","v":""}]
[{"$f":"IF('SUR IN'!A90=0,\" \",\"OWNER PAR\")","v":" "},{"$f":"IF('SUR IN'!A90=0,\"\",'SUR IN'!A90)","v":""},{"$f":"IF('SUR IN'!B90=0,\"\",'SUR IN'!B90)","v":""}]
[{"$f":"IF('SUR IN'!A91=0,\" \",\"OWNER PAR\")","v":" "},{"$f":"IF('SUR IN'!A91=0,\"\",'SUR IN'!A91)","v":""},{"$f":"IF('SUR IN'!B91=0,\"\",'SUR IN'!B91)","v":""}]
[{"$f":"IF('SUR IN'!A92=0,\" \",\"OWNER PAR\")","v":" "},{"$f":"IF('SUR IN'!A92=0,\"\",'SUR IN'!A92)","v":""},{"$f":"IF('SUR IN'!B92=0,\"\",'SUR IN'!B92)","v":""}]
[{"$f":"IF('SUR IN'!A93=0,\" \",\"OWNER PAR\")","v":" "},{"$f":"IF('SUR IN'!A93=0,\"\",'SUR IN'!A93)","v":""},{"$f":"IF('SUR IN'!B93=0,\"\",'SUR IN'!B93)","v":""}]
[{"$f":"IF('SUR IN'!A94=0,\" \",\"OWNER PAR\")","v":" "},{"$f":"IF('SUR IN'!A94=0,\"\",'SUR IN'!A94)","v":""},{"$f":"IF('SUR IN'!B94=0,\"\",'SUR IN'!B94)","v":""}]
[{"$f":"IF('SUR IN'!A95=0,\" \",\"OWNER PAR\")","v":" "},{"$f":"IF('SUR IN'!A95=0,\"\",'SUR IN'!A95)","v":""},{"$f":"IF('SUR IN'!B95=0,\"\",'SUR IN'!B95)","v":""}]
[{"$f":"IF('SUR IN'!A96=0,\" \",\"OWNER PAR\")","v":" "},{"$f":"IF('SUR IN'!A96=0,\"\",'SUR IN'!A96)","v":""},{"$f":"IF('SUR IN'!B96=0,\"\",'SUR IN'!B96)","v":""}]
[{"$f":"IF('SUR IN'!A97=0,\" \",\"OWNER PAR\")","v":" "},{"$f":"IF('SUR IN'!A97=0,\"\",'SUR IN'!A97)","v":""},{"$f":"IF('SUR IN'!B97=0,\"\",'SUR IN'!B97)","v":""}]
[{"$f":"IF('SUR IN'!A98=0,\" \",\"OWNER PAR\")","v":" "},{"$f":"IF('SUR IN'!A98=0,\"\",'SUR IN'!A98)","v":""},{"$f":"IF('SUR IN'!B98=0,\"\",'SUR IN'!B98)","v":""}]
[{"$f":"IF('SUR IN'!A99=0,\" \",\"OWNER PAR\")","v":" "},{"$f":"IF('SUR IN'!A99=0,\"\",'SUR IN'!A99)","v":""},{"$f":"IF('SUR IN'!B99=0,\"\",'SUR IN'!B99)","v":""}]
[{"$f":"IF('SUR IN'!A100=0,\" \",\"OWNER PAR\")","v":" "},{"$f":"IF('SUR IN'!A100=0,\"\",'SUR IN'!A100)","v":""},{"$f":"IF('SUR IN'!B100=0,\"\",'SUR IN'!B100)","v":""}]
[{"$f":"IF('SUR IN'!A101=0,\" \",\"OWNER PAR\")","v":" "},{"$f":"IF('SUR IN'!A101=0,\"\",'SUR IN'!A101)","v":""},{"$f":"IF('SUR IN'!B101=0,\"\",'SUR IN'!B101)","v":""}]
[{"$f":"IF('SUR IN'!A102=0,\" \",\"OWNER PAR\")","v":" "},{"$f":"IF('SUR IN'!A102=0,\"\",'SUR IN'!A102)","v":""},{"$f":"IF('SUR IN'!B102=0,\"\",'SUR IN'!B102)","v":""}]
[{"$f":"IF('SUR IN'!A103=0,\" \",\"OWNER PAR\")","v":" "},{"$f":"IF('SUR IN'!A103=0,\"\",'SUR IN'!A103)","v":""},{"$f":"IF('SUR IN'!B103=0,\"\",'SUR IN'!B103)","v":""}]
[{"$f":"IF('SUR IN'!A104=0,\" \",\"OWNER PAR\")","v":" "},{"$f":"IF('SUR IN'!A104=0,\"\",'SUR IN'!A104)","v":""},{"$f":"IF('SUR IN'!B104=0,\"\",'SUR IN'!B104)","v":""}]
[{"$f":"IF('SUR IN'!A105=0,\" \",\"OWNER PAR\")","v":" "},{"$f":"IF('SUR IN'!A105=0,\"\",'SUR IN'!A105)","v":""},{"$f":"IF('SUR IN'!B105=0,\"\",'SUR IN'!B105)","v":""}]
[{"$f":"IF('SUR IN'!A106=0,\" \",\"OWNER PAR\")","v":" "},{"$f":"IF('SUR IN'!A106=0,\"\",'SUR IN'!A106)","v":""},{"$f":"IF('SUR IN'!B106=0,\"\",'SUR IN'!B106)","v":""}]
[{"$f":"IF('SUR IN'!A107=0,\" \",\"OWNER PAR\")","v":" "},{"$f":"IF('SUR IN'!A107=0,\"\",'SUR IN'!A107)","v":""},{"$f":"IF('SUR IN'!B107=0,\"\",'SUR IN'!B107)","v":""}]
[{"$f":"IF('SUR IN'!A108=0,\" \",\"OWNER PAR\")","v":" "},{"$f":"IF('SUR IN'!A108=0,\"\",'SUR IN'!A108)","v":""},{"$f":"IF('SUR IN'!B108=0,\"\",'SUR IN'!B108)","v":""}]
[{"$f":"IF('SUR IN'!A109=0,\" \",\"OWNER PAR\")","v":" "},{"$f":"IF('SUR IN'!A109=0,\"\",'SUR IN'!A109)","v":""},{"$f":"IF('SUR IN'!B109=0,\"\",'SUR IN'!B109)","v":""}]
[{"$f":"IF('SUR IN'!A110=0,\" \",\"OWNER PAR\")","v":" "},{"$f":"IF('SUR IN'!A110=0,\"\",'SUR IN'!A110)","v":""},{"$f":"IF('SUR IN'!B110=0,\"\",'SUR IN'!B110)","v":""}]
[{"$f":"IF('SUR IN'!A111=0,\" \",\"OWNER PAR\")","v":" "},{"$f":"IF('SUR IN'!A111=0,\"\",'SUR IN'!A111)","v":""},{"$f":"IF('SUR IN'!B111=0,\"\",'SUR IN'!B111)","v":""}]
[{"$f":"IF('SUR IN'!A112=0,\" \",\"OWNER PAR\")","v":" "},{"$f":"IF('SUR IN'!A112=0,\"\",'SUR IN'!A112)","v":""},{"$f":"IF('SUR IN'!B112=0,\"\",'SUR IN'!B112)","v":""}]
[{"$f":"IF('SUR IN'!A113=0,\" \",\"OWNER PAR\")","v":" "},{"$f":"IF('SUR IN'!A113=0,\"\",'SUR IN'!A113)","v":""},{"$f":"IF('SUR IN'!B113=0,\"\",'SUR IN'!B113)","v":""}]
[{"$f":"IF('SUR IN'!A114=0,\" \",\"OWNER PAR\")","v":" "},{"$f":"IF('SUR IN'!A114=0,\"\",'SUR IN'!A114)","v":""},{"$f":"IF('SUR IN'!B114=0,\"\",'SUR IN'!B114)","v":""}]
[{"$f":"IF('SUR IN'!A115=0,\" \",\"OWNER PAR\")","v":" "},{"$f":"IF('SUR IN'!A115=0,\"\",'SUR IN'!A115)","v":""},{"$f":"IF('SUR IN'!B115=0,\"\",'SUR IN'!B115)","v":""}]
[{"$f":"IF('SUR IN'!A116=0,\" \",\"OWNER PAR\")","v":" "},{"$f":"IF('SUR IN'!A116=0,\"\",'SUR IN'!A116)","v":""},{"$f":"IF('SUR IN'!B116=0,\"\",'SUR IN'!B116)","v":""}]
[{"$f":"IF('SUR IN'!A117=0,\" \",\"OWNER PAR\")","v":" "},{"$f":"IF('SUR IN'!A117=0,\"\",'SUR IN'!A117)","v":""},{"$f":"IF('SUR IN'!B117=0,\"\",'SUR IN'!B117)","v":""}]
[{"$f":"IF('SUR IN'!A118=0,\" \",\"OWNER PAR\")","v":" "},{"$f":"IF('SUR IN'!A118=0,\"\",'SUR IN'!A118)","v":""},{"$f":"IF('SUR IN'!B118=0,\"\",'SUR IN'!B118)","v":""}]
[{"$f":"IF('SUR IN'!A119=0,\" \",\"OWNER PAR\")","v":" "},{"$f":"IF('SUR IN'!A119=0,\"\",'SUR IN'!A119)","v":""},{"$f":"IF('SUR IN'!B119=0,\"\",'SUR IN'!B119)","v":""}]
[{"$f":"IF('SUR IN'!A120=0,\" \",\"OWNER PAR\")","v":" "},{"$f":"IF('SUR IN'!A120=0,\"\",'SUR IN'!A120)","v":""},{"$f":"IF('SUR IN'!B120=0,\"\",'SUR IN'!B120)","v":""}]
[{"$f":"IF('SUR IN'!A121=0,\" \",\"OWNER PAR\")","v":" "},{"$f":"IF('SUR IN'!A121=0,\"\",'SUR IN'!A121)","v":""},{"$f":"IF('SUR IN'!B121=0,\"\",'SUR IN'!B121)","v":""}]
[{"$f":"IF('SUR IN'!A122=0,\" \",\"OWNER PAR\")","v":" "},{"$f":"IF('SUR IN'!A122=0,\"\",'SUR IN'!A122)","v":""},{"$f":"IF('SUR IN'!B122=0,\"\",'SUR IN'!B122)","v":""}]
[{"$f":"IF('SUR IN'!A123=0,\" \",\"OWNER PAR\")","v":" "},{"$f":"IF('SUR IN'!A123=0,\"\",'SUR IN'!A123)","v":""},{"$f":"IF('SUR IN'!B123=0,\"\",'SUR IN'!B123)","v":""}]
[{"$f":"IF('SUR IN'!A124=0,\" \",\"OWNER PAR\")","v":" "},{"$f":"IF('SUR IN'!A124=0,\"\",'SUR IN'!A124)","v":""},{"$f":"IF('SUR IN'!B124=0,\"\",'SUR IN'!B124)","v":""}]
[{"$f":"IF('SUR IN'!A125=0,\" \",\"OWNER PAR\")","v":" "},{"$f":"IF('SUR IN'!A125=0,\"\",'SUR IN'!A125)","v":""},{"$f":"IF('SUR IN'!B125=0,\"\",'SUR IN'!B125)","v":""}]
[{"$f":"IF('SUR IN'!A126=0,\" \",\"OWNER PAR\")","v":" "},{"$f":"IF('SUR IN'!A126=0,\"\",'SUR IN'!A126)","v":""},{"$f":"IF('SUR IN'!B126=0,\"\",'SUR IN'!B126)","v":""}]
[{"$f":"IF('SUR IN'!A127=0,\" \",\"OWNER PAR\")","v":" "},{"$f":"IF('SUR IN'!A127=0,\"\",'SUR IN'!A127)","v":""},{"$f":"IF('SUR IN'!B127=0,\"\",'SUR IN'!B127)","v":""}]
[{"$f":"IF('SUR IN'!A128=0,\" \",\"OWNER PAR\")","v":" "},{"$f":"IF('SUR IN'!A128=0,\"\",'SUR IN'!A128)","v":""},{"$f":"IF('SUR IN'!B128=0,\"\",'SUR IN'!B128)","v":""}]
[{"$f":"IF('SUR IN'!A129=0,\" \",\"OWNER PAR\")","v":" "},{"$f":"IF('SUR IN'!A129=0,\"\",'SUR IN'!A129)","v":""},{"$f":"IF('SUR IN'!B129=0,\"\",'SUR IN'!B129)","v":""}]
[{"$f":"IF('SUR IN'!A130=0,\" \",\"OWNER PAR\")","v":" "},{"$f":"IF('SUR IN'!A130=0,\"\",'SUR IN'!A130)","v":""},{"$f":"IF('SUR IN'!B130=0,\"\",'SUR IN'!B130)","v":""}]
[{"$f":"IF('SUR IN'!A131=0,\" \",\"OWNER PAR\")","v":" "},{"$f":"IF('SUR IN'!A131=0,\"\",'SUR IN'!A131)","v":""},{"$f":"IF('SUR IN'!B131=0,\"\",'SUR IN'!B131)","v":""}]
[{"$f":"IF('SUR IN'!A132=0,\" \",\"OWNER PAR\")","v":" "},{"$f":"IF('SUR IN'!A132=0,\"\",'SUR IN'!A132)","v":""},{"$f":"IF('SUR IN'!B132=0,\"\",'SUR IN'!B132)","v":""}]
[{"$f":"IF('SUR IN'!A133=0,\" \",\"OWNER PAR\")","v":" "},{"$f":"IF('SUR IN'!A133=0,\"\",'SUR IN'!A133)","v":""},{"$f":"IF('SUR IN'!B133=0,\"\",'SUR IN'!B133)","v":""}]
[{"$f":"IF('SUR IN'!A134=0,\" \",\"OWNER PAR\")","v":" "},{"$f":"IF('SUR IN'!A134=0,\"\",'SUR IN'!A134)","v":""},{"$f":"IF('SUR IN'!B134=0,\"\",'SUR IN'!B134)","v":""}]
[{"$f":"IF('SUR IN'!A135=0,\" \",\"OWNER PAR\")","v":" "},{"$f":"IF('SUR IN'!A135=0,\"\",'SUR IN'!A135)","v":""},{"$f":"IF('SUR IN'!B135=0,\"\",'SUR IN'!B135)","v":""}]
[{"$f":"IF('SUR IN'!A136=0,\" \",\"OWNER PAR\")","v":" "},{"$f":"IF('SUR IN'!A136=0,\"\",'SUR IN'!A136)","v":""},{"$f":"IF('SUR IN'!B136=0,\"\",'SUR IN'!B136)","v":""}]
[{"$f":"IF('SUR IN'!A137=0,\" \",\"OWNER PAR\")","v":" "},{"$f":"IF('SUR IN'!A137=0,\"\",'SUR IN'!A137)","v":""},{"$f":"IF('SUR IN'!B137=0,\"\",'SUR IN'!B137)","v":""}]
[{"$f":"IF('SUR IN'!A138=0,\" \",\"OWNER PAR\")","v":" "},{"$f":"IF('SUR IN'!A138=0,\"\",'SUR IN'!A138)","v":""},{"$f":"IF('SUR IN'!B138=0,\"\",'SUR IN'!B138)","v":""}]
[{"$f":"IF('SUR IN'!A139=0,\" \",\"OWNER PAR\")","v":" "},{"$f":"IF('SUR IN'!A139=0,\"\",'SUR IN'!A139)","v":""},{"$f":"IF('SUR IN'!B139=0,\"\",'SUR IN'!B139)","v":""}]
[{"$f":"IF('SUR IN'!A140=0,\" \",\"OWNER PAR\")","v":" "},{"$f":"IF('SUR IN'!A140=0,\"\",'SUR IN'!A140)","v":""},{"$f":"IF('SUR IN'!B140=0,\"\",'SUR IN'!B140)","v":""}]
[{"$f":"IF('SUR IN'!A141=0,\" \",\"OWNER PAR\")","v":" "},{"$f":"IF('SUR IN'!A141=0,\"\",'SUR IN'!A141)","v":""},{"$f":"IF('SUR IN'!B141=0,\"\",'SUR IN'!B141)","v":""}]
[{"$f":"IF('SUR IN'!A142=0,\" \",\"OWNER PAR\")","v":" "},{"$f":"IF('SUR IN'!A142=0,\"\",'SUR IN'!A142)","v":""},{"$f":"IF('SUR IN'!B142=0,\"\",'SUR IN'!B142)","v":""}]
[{"$f":"IF('SUR IN'!A143=0,\" \",\"OWNER PAR\")","v":" "},{"$f":"IF('SUR IN'!A143=0,\"\",'SUR IN'!A143)","v":""},{"$f":"IF('SUR IN'!B143=0,\"\",'SUR IN'!B143)","v":""}]
[{"$f":"IF('SUR IN'!A144=0,\" \",\"OWNER PAR\")","v":" "},{"$f":"IF('SUR IN'!A144=0,\"\",'SUR IN'!A144)","v":""},{"$f":"IF('SUR IN'!B144=0,\"\",'SUR IN'!B144)","v":""}]
[{"$f":"IF('SUR IN'!A145=0,\" \",\"OWNER PAR\")","v":" "},{"$f":"IF('SUR IN'!A145=0,\"\",'SUR IN'!A145)","v":""},{"$f":"IF('SUR IN'!B145=0,\"\",'SUR IN'!B145)","v":""}]
[{"$f":"IF('SUR IN'!A146=0,\" \",\"OWNER PAR\")","v":" "},{"$f":"IF('SUR IN'!A146=0,\"\",'SUR IN'!A146)","v":""},{"$f":"IF('SUR IN'!B146=0,\"\",'SUR IN'!B146)","v":""}]
[{"$f":"IF('SUR IN'!A147=0,\" \",\"OWNER PAR\")","v":" "},{"$f":"IF('SUR IN'!A147=0,\"\",'SUR IN'!A147)","v":""},{"$f":"IF('SUR IN'!B147=0,\"\",'SUR IN'!B147)","v":""}]
[{"$f":"IF('SUR IN'!A148=0,\" \",\"OWNER PAR\")","v":" "},{"$f":"IF('SUR IN'!A148=0,\"\",'SUR IN'!A148)","v":""},{"$f":"IF('SUR IN'!B148=0,\"\",'SUR IN'!B148)","v":""}]
[{"$f":"IF('SUR IN'!A149=0,\" \",\"OWNER PAR\")","v":" "},{"$f":"IF('SUR IN'!A149=0,\"\",'SUR IN'!A149)","v":""},{"$f":"IF('SUR IN'!B149=0,\"\",'SUR IN'!B149)","v":""}]
[{"$f":"IF('SUR IN'!A150=0,\" \",\"OWNER PAR\")","v":" "},{"$f":"IF('SUR IN'!A150=0,\"\",'SUR IN'!A150)","v":""},{"$f":"IF('SUR IN'!B150=0,\"\",'SUR IN'!B150)","v":""}]
[{"$f":"IF('SUR IN'!A151=0,\" \",\"OWNER PAR\")","v":" "},{"$f":"IF('SUR IN'!A151=0,\"\",'SUR IN'!A151)","v":""},{"$f":"IF('SUR IN'!B151=0,\"\",'SUR IN'!B151)","v":""}]
[{"$f":"IF('SUR IN'!A152=0,\" \",\"OWNER PAR\")","v":" "},{"$f":"IF('SUR IN'!A152=0,\"\",'SUR IN'!A152)","v":""},{"$f":"IF('SUR IN'!B152=0,\"\",'SUR IN'!B152)","v":""}]
[{"$f":"IF('SUR IN'!A153=0,\" \",\"OWNER PAR\")","v":" "},{"$f":"IF('SUR IN'!A153=0,\"\",'SUR IN'!A153)","v":""},{"$f":"IF('SUR IN'!B153=0,\"\",'SUR IN'!B153)","v":""}]
[{"$f":"IF('SUR IN'!A154=0,\" \",\"OWNER PAR\")","v":" "},{"$f":"IF('SUR IN'!A154=0,\"\",'SUR IN'!A154)","v":""},{"$f":"IF('SUR IN'!B154=0,\"\",'SUR IN'!B154)","v":""}]
[{"$f":"IF('SUR IN'!A155=0,\" \",\"OWNER PAR\")","v":" "},{"$f":"IF('SUR IN'!A155=0,\"\",'SUR IN'!A155)","v":""},{"$f":"IF('SUR IN'!B155=0,\"\",'SUR IN'!B155)","v":""}]
[{"$f":"IF('SUR IN'!A156=0,\" \",\"OWNER PAR\")","v":" "},{"$f":"IF('SUR IN'!A156=0,\"\",'SUR IN'!A156)","v":""},{"$f":"IF('SUR IN'!B156=0,\"\",'SUR IN'!B156)","v":""}]
[{"$f":"IF('SUR IN'!A157=0,\" \",\"OWNER PAR\")","v":" "},{"$f":"IF('SUR IN'!A157=0,\"\",'SUR IN'!A157)","v":""},{"$f":"IF('SUR IN'!B157=0,\"\",'SUR IN'!B157)","v":""}]
[{"$f":"IF('SUR IN'!A158=0,\" \",\"OWNER PAR\")","v":" "},{"$f":"IF('SUR IN'!A158=0,\"\",'SUR IN'!A158)","v":""},{"$f":"IF('SUR IN'!B158=0,\"\",'SUR IN'!B158)","v":""}]
[{"$f":"IF('SUR IN'!A159=0,\" \",\"OWNER PAR\")","v":" "},{"$f":"IF('SUR IN'!A159=0,\"\",'SUR IN'!A159)","v":""},{"$f":"IF('SUR IN'!B159=0,\"\",'SUR IN'!B159)","v":""}]
[{"$f":"IF('SUR IN'!A160=0,\" \",\"OWNER PAR\")","v":" "},{"$f":"IF('SUR IN'!A160=0,\"\",'SUR IN'!A160)","v":""},{"$f":"IF('SUR IN'!B160=0,\"\",'SUR IN'!B160)","v":""}]
[{"$f":"IF('SUR IN'!A161=0,\" \",\"OWNER PAR\")","v":" "},{"$f":"IF('SUR IN'!A161=0,\"\",'SUR IN'!A161)","v":""},{"$f":"IF('SUR IN'!B161=0,\"\",'SUR IN'!B161)","v":""}]
[{"$f":"IF('SUR IN'!A162=0,\" \",\"OWNER PAR\")","v":" "},{"$f":"IF('SUR IN'!A162=0,\"\",'SUR IN'!A162)","v":""},{"$f":"IF('SUR IN'!B162=0,\"\",'SUR IN'!B162)","v":""}]
[{"$f":"IF('SUR IN'!A163=0,\" \",\"OWNER PAR\")","v":" "},{"$f":"IF('SUR IN'!A163=0,\"\",'SUR IN'!A163)","v":""},{"$f":"IF('SUR IN'!B163=0,\"\",'SUR IN'!B163)","v":""}]
[{"$f":"IF('SUR IN'!A164=0,\" \",\"OWNER PAR\")","v":" "},{"$f":"IF('SUR IN'!A164=0,\"\",'SUR IN'!A164)","v":""},{"$f":"IF('SUR IN'!B164=0,\"\",'SUR IN'!B164)","v":""}]
[{"$f":"IF('SUR IN'!A165=0,\" \",\"OWNER PAR\")","v":" "},{"$f":"IF('SUR IN'!A165=0,\"\",'SUR IN'!A165)","v":""},{"$f":"IF('SUR IN'!B165=0,\"\",'SUR IN'!B165)","v":""}]
[{"$f":"IF('SUR IN'!A166=0,\" \",\"OWNER PAR\")","v":" "},{"$f":"IF('SUR IN'!A166=0,\"\",'SUR IN'!A166)","v":""},{"$f":"IF('SUR IN'!B166=0,\"\",'SUR IN'!B166)","v":""}]
[{"$f":"IF('SUR IN'!A167=0,\" \",\"OWNER PAR\")","v":" "},{"$f":"IF('SUR IN'!A167=0,\"\",'SUR IN'!A167)","v":""},{"$f":"IF('SUR IN'!B167=0,\"\",'SUR IN'!B167)","v":""}]
[{"$f":"IF('SUR IN'!A168=0,\" \",\"OWNER PAR\")","v":" "},{"$f":"IF('SUR IN'!A168=0,\"\",'SUR IN'!A168)","v":""},{"$f":"IF('SUR IN'!B168=0,\"\",'SUR IN'!B168)","v":""}]
[{"$f":"IF('SUR IN'!A169=0,\" \",\"OWNER PAR\")","v":" "},{"$f":"IF('SUR IN'!A169=0,\"\",'SUR IN'!A169)","v":""},{"$f":"IF('SUR IN'!B169=0,\"\",'SUR IN'!B169)","v":""}]
[{"$f":"IF('SUR IN'!A170=0,\" \",\"OWNER PAR\")","v":" "},{"$f":"IF('SUR IN'!A170=0,\"\",'SUR IN'!A170)","v":""},{"$f":"IF('SUR IN'!B170=0,\"\",'SUR IN'!B170)","v":""}]
[{"$f":"IF('SUR IN'!A171=0,\" \",\"OWNER PAR\")","v":" "},{"$f":"IF('SUR IN'!A171=0,\"\",'SUR IN'!A171)","v":""},{"$f":"IF('SUR IN'!B171=0,\"\",'SUR IN'!B171)","v":""}]
[{"$f":"IF('SUR IN'!A172=0,\" \",\"OWNER PAR\")","v":" "},{"$f":"IF('SUR IN'!A172=0,\"\",'SUR IN'!A172)","v":""},{"$f":"IF('SUR IN'!B172=0,\"\",'SUR IN'!B172)","v":""}]
[{"$f":"IF('SUR IN'!A173=0,\" \",\"OWNER PAR\")","v":" "},{"$f":"IF('SUR IN'!A173=0,\"\",'SUR IN'!A173)","v":""},{"$f":"IF('SUR IN'!B173=0,\"\",'SUR IN'!B173)","v":""}]
[{"$f":"IF('SUR IN'!A174=0,\" \",\"OWNER PAR\")","v":" "},{"$f":"IF('SUR IN'!A174=0,\"\",'SUR IN'!A174)","v":""},{"$f":"IF('SUR IN'!B174=0,\"\",'SUR IN'!B174)","v":""}]
[{"$f":"IF('SUR IN'!A175=0,\" \",\"OWNER PAR\")","v":" "},{"$f":"IF('SUR IN'!A175=0,\"\",'SUR IN'!A175)","v":""},{"$f":"IF('SUR IN'!B175=0,\"\",'SUR IN'!B175)","v":""}]
[{"$f":"IF('SUR IN'!A176=0,\" \",\"OWNER PAR\")","v":" "},{"$f":"IF('SUR IN'!A176=0,\"\",'SUR IN'!A176)","v":""},{"$f":"IF('SUR IN'!B176=0,\"\",'SUR IN'!B176)","v":""}]
[{"$f":"IF('SUR IN'!A177=0,\" \",\"OWNER PAR\")","v":" "},{"$f":"IF('SUR IN'!A177=0,\"\",'SUR IN'!A177)","v":""},{"$f":"IF('SUR IN'!B177=0,\"\",'SUR IN'!B177)","v":""}]
[{"$f":"IF('SUR IN'!A178=0,\" \",\"OWNER PAR\")","v":" "},{"$f":"IF('SUR IN'!A178=0,\"\",'SUR IN'!A178)","v":""},{"$f":"IF('SUR IN'!B178=0,\"\",'SUR IN'!B178)","v":""}]
[{"$f":"IF('SUR IN'!A179=0,\" \",\"OWNER PAR\")","v":" "},{"$f":"IF('SUR IN'!A179=0,\"\",'SUR IN'!A179)","v":""},{"$f":"IF('SUR IN'!B179=0,\"\",'SUR IN'!B179)","v":""}]
[{"$f":"IF('SUR IN'!A180=0,\" \",\"OWNER PAR\")","v":" "},{"$f":"IF('SUR IN'!A180=0,\"\",'SUR IN'!A180)","v":""},{"$f":"IF('SUR IN'!B180=0,\"\",'SUR IN'!B180)","v":""}]
[{"$f":"IF('SUR IN'!A181=0,\" \",\"OWNER PAR\")","v":" "},{"$f":"IF('SUR IN'!A181=0,\"\",'SUR IN'!A181)","v":""},{"$f":"IF('SUR IN'!B181=0,\"\",'SUR IN'!B181)","v":""}]
[{"$f":"IF('SUR IN'!A182=0,\" \",\"OWNER PAR\")","v":" "},{"$f":"IF('SUR IN'!A182=0,\"\",'SUR IN'!A182)","v":""},{"$f":"IF('SUR IN'!B182=0,\"\",'SUR IN'!B182)","v":""}]
[{"$f":"IF('SUR IN'!A183=0,\" \",\"OWNER PAR\")","v":" "},{"$f":"IF('SUR IN'!A183=0,\"\",'SUR IN'!A183)","v":""},{"$f":"IF('SUR IN'!B183=0,\"\",'SUR IN'!B183)","v":""}]
[{"$f":"IF('SUR IN'!A184=0,\" \",\"OWNER PAR\")","v":" "},{"$f":"IF('SUR IN'!A184=0,\"\",'SUR IN'!A184)","v":""},{"$f":"IF('SUR IN'!B184=0,\"\",'SUR IN'!B184)","v":""}]
[{"$f":"IF('SUR IN'!A185=0,\" \",\"OWNER PAR\")","v":" "},{"$f":"IF('SUR IN'!A185=0,\"\",'SUR IN'!A185)","v":""},{"$f":"IF('SUR IN'!B185=0,\"\",'SUR IN'!B185)","v":""}]
[{"$f":"IF('SUR IN'!A186=0,\" \",\"OWNER PAR\")","v":" "},{"$f":"IF('SUR IN'!A186=0,\"\",'SUR IN'!A186)","v":""},{"$f":"IF('SUR IN'!B186=0,\"\",'SUR IN'!B186)","v":""}]
[{"$f":"IF('SUR IN'!A187=0,\" \",\"OWNER PAR\")","v":" "},{"$f":"IF('SUR IN'!A187=0,\"\",'SUR IN'!A187)","v":""},{"$f":"IF('SUR IN'!B187=0,\"\",'SUR IN'!B187)","v":""}]
[{"$f":"IF('SUR IN'!A188=0,\" \",\"OWNER PAR\")","v":" "},{"$f":"IF('SUR IN'!A188=0,\"\",'SUR IN'!A188)","v":""},{"$f":"IF('SUR IN'!B188=0,\"\",'SUR IN'!B188)","v":""}]
[{"$f":"IF('SUR IN'!A189=0,\" \",\"OWNER PAR\")","v":" "},{"$f":"IF('SUR IN'!A189=0,\"\",'SUR IN'!A189)","v":""},{"$f":"IF('SUR IN'!B189=0,\"\",'SUR IN'!B189)","v":""}]
[{"$f":"IF('SUR IN'!A190=0,\" \",\"OWNER PAR\")","v":" "},{"$f":"IF('SUR IN'!A190=0,\"\",'SUR IN'!A190)","v":""},{"$f":"IF('SUR IN'!B190=0,\"\",'SUR IN'!B190)","v":""}]
[{"$f":"IF('SUR IN'!A191=0,\" \",\"OWNER PAR\")","v":" "},{"$f":"IF('SUR IN'!A191=0,\"\",'SUR IN'!A191)","v":""},{"$f":"IF('SUR IN'!B191=0,\"\",'SUR IN'!B191)","v":""}]
[{"$f":"IF('SUR IN'!A192=0,\" \",\"OWNER PAR\")","v":" "},{"$f":"IF('SUR IN'!A192=0,\"\",'SUR IN'!A192)","v":""},{"$f":"IF('SUR IN'!B192=0,\"\",'SUR IN'!B192)","v":""}]
[{"$f":"IF('SUR IN'!A193=0,\" \",\"OWNER PAR\")","v":" "},{"$f":"IF('SUR IN'!A193=0,\"\",'SUR IN'!A193)","v":""},{"$f":"IF('SUR IN'!B193=0,\"\",'SUR IN'!B193)","v":""}]
[{"$f":"IF('SUR IN'!A194=0,\" \",\"OWNER PAR\")","v":" "},{"$f":"IF('SUR IN'!A194=0,\"\",'SUR IN'!A194)","v":""},{"$f":"IF('SUR IN'!B194=0,\"\",'SUR IN'!B194)","v":""}]
[{"$f":"IF('SUR IN'!A195=0,\" \",\"OWNER PAR\")","v":" "},{"$f":"IF('SUR IN'!A195=0,\"\",'SUR IN'!A195)","v":""},{"$f":"IF('SUR IN'!B195=0,\"\",'SUR IN'!B195)","v":""}]
[{"$f":"IF('SUR IN'!A196=0,\" \",\"OWNER PAR\")","v":" "},{"$f":"IF('SUR IN'!A196=0,\"\",'SUR IN'!A196)","v":""},{"$f":"IF('SUR IN'!B196=0,\"\",'SUR IN'!B196)","v":""}]
[{"$f":"IF('SUR IN'!A197=0,\" \",\"OWNER PAR\")","v":" "},{"$f":"IF('SUR IN'!A197=0,\"\",'SUR IN'!A197)","v":""},{"$f":"IF('SUR IN'!B197=0,\"\",'SUR IN'!B197)","v":""}]
[{"$f":"IF('SUR IN'!A198=0,\" \",\"OWNER PAR\")","v":" "},{"$f":"IF('SUR IN'!A198=0,\"\",'SUR IN'!A198)","v":""},{"$f":"IF('SUR IN'!B198=0,\"\",'SUR IN'!B198)","v":""}]
[{"$f":"IF('SUR IN'!A199=0,\" \",\"OWNER PAR\")","v":" "},{"$f":"IF('SUR IN'!A199=0,\"\",'SUR IN'!A199)","v":""},{"$f":"IF('SUR IN'!B199=0,\"\",'SUR IN'!B199)","v":""}]
[{"$f":"IF('SUR IN'!A200=0,\" \",\"OWNER PAR\")","v":" "},{"$f":"IF('SUR IN'!A200=0,\"\",'SUR IN'!A200)","v":""},{"$f":"IF('SUR IN'!B200=0,\"\",'SUR IN'!B200)","v":""}]
[{"$f":"IF('SUR IN'!A201=0,\" \",\"OWNER PAR\")","v":" "},{"$f":"IF('SUR IN'!A201=0,\"\",'SUR IN'!A201)","v":""},{"$f":"IF('SUR IN'!B201=0,\"\",'SUR IN'!B201)","v":""}]
[{"$f":"IF('SUR IN'!A202=0,\" \",\"OWNER PAR\")","v":" "},{"$f":"IF('SUR IN'!A202=0,\"\",'SUR IN'!A202)","v":""},{"$f":"IF('SUR IN'!B202=0,\"\",'SUR IN'!B202)","v":""}]
[{"$f":"IF('SUR IN'!A203=0,\" \",\"OWNER PAR\")","v":" "},{"$f":"IF('SUR IN'!A203=0,\"\",'SUR IN'!A203)","v":""},{"$f":"IF('SUR IN'!B203=0,\"\",'SUR IN'!B203)","v":""}]
[{"$f":"IF('SUR IN'!A204=0,\" \",\"OWNER PAR\")","v":" "},{"$f":"IF('SUR IN'!A204=0,\"\",'SUR IN'!A204)","v":""},{"$f":"IF('SUR IN'!B204=0,\"\",'SUR IN'!B204)","v":""}]
[{"$f":"IF('SUR IN'!A205=0,\" \",\"OWNER PAR\")","v":" "},{"$f":"IF('SUR IN'!A205=0,\"\",'SUR IN'!A205)","v":""},{"$f":"IF('SUR IN'!B205=0,\"\",'SUR IN'!B205)","v":""}]
[{"$f":"IF('SUR IN'!A206=0,\" \",\"OWNER PAR\")","v":" "},{"$f":"IF('SUR IN'!A206=0,\"\",'SUR IN'!A206)","v":""},{"$f":"IF('SUR IN'!B206=0,\"\",'SUR IN'!B206)","v":""}]
[{"$f":"IF('SUR IN'!A207=0,\" \",\"OWNER PAR\")","v":" "},{"$f":"IF('SUR IN'!A207=0,\"\",'SUR IN'!A207)","v":""},{"$f":"IF('SUR IN'!B207=0,\"\",'SUR IN'!B207)","v":""}]
[{"$f":"IF('SUR IN'!A208=0,\" \",\"OWNER PAR\")","v":" "},{"$f":"IF('SUR IN'!A208=0,\"\",'SUR IN'!A208)","v":""},{"$f":"IF('SUR IN'!B208=0,\"\",'SUR IN'!B208)","v":""}]
[{"$f":"IF('SUR IN'!A209=0,\" \",\"OWNER PAR\")","v":" "},{"$f":"IF('SUR IN'!A209=0,\"\",'SUR IN'!A209)","v":""},{"$f":"IF('SUR IN'!B209=0,\"\",'SUR IN'!B209)","v":""}]
[{"$f":"IF('SUR IN'!A210=0,\" \",\"OWNER PAR\")","v":" "},{"$f":"IF('SUR IN'!A210=0,\"\",'SUR IN'!A210)","v":""},{"$f":"IF('SUR IN'!B210=0,\"\",'SUR IN'!B210)","v":""}]
[{"$f":"IF('SUR IN'!A211=0,\" \",\"OWNER PAR\")","v":" "},{"$f":"IF('SUR IN'!A211=0,\"\",'SUR IN'!A211)","v":""},{"$f":"IF('SUR IN'!B211=0,\"\",'SUR IN'!B211)","v":""}]
[{"$f":"IF('SUR IN'!A212=0,\" \",\"OWNER PAR\")","v":" "},{"$f":"IF('SUR IN'!A212=0,\"\",'SUR IN'!A212)","v":""},{"$f":"IF('SUR IN'!B212=0,\"\",'SUR IN'!B212)","v":""}]
[{"$f":"IF('SUR IN'!A213=0,\" \",\"OWNER PAR\")","v":" "},{"$f":"IF('SUR IN'!A213=0,\"\",'SUR IN'!A213)","v":""},{"$f":"IF('SUR IN'!B213=0,\"\",'SUR IN'!B213)","v":""}]
[{"$f":"IF('SUR IN'!A214=0,\" \",\"OWNER PAR\")","v":" "},{"$f":"IF('SUR IN'!A214=0,\"\",'SUR IN'!A214)","v":""},{"$f":"IF('SUR IN'!B214=0,\"\",'SUR IN'!B214)","v":""}]
[{"$f":"IF('SUR IN'!A215=0,\" \",\"OWNER PAR\")","v":" "},{"$f":"IF('SUR IN'!A215=0,\"\",'SUR IN'!A215)","v":""},{"$f":"IF('SUR IN'!B215=0,\"\",'SUR IN'!B215)","v":""}]
[{"$f":"IF('SUR IN'!A216=0,\" \",\"OWNER PAR\")","v":" "},{"$f":"IF('SUR IN'!A216=0,\"\",'SUR IN'!A216)","v":""},{"$f":"IF('SUR IN'!B216=0,\"\",'SUR IN'!B216)","v":""}]
[{"$f":"IF('SUR IN'!A217=0,\" \",\"OWNER PAR\")","v":" "},{"$f":"IF('SUR IN'!A217=0,\"\",'SUR IN'!A217)","v":""},{"$f":"IF('SUR IN'!B217=0,\"\",'SUR IN'!B217)","v":""}]
[{"$f":"IF('SUR IN'!A218=0,\" \",\"OWNER PAR\")","v":" "},{"$f":"IF('SUR IN'!A218=0,\"\",'SUR IN'!A218)","v":""},{"$f":"IF('SUR IN'!B218=0,\"\",'SUR IN'!B218)","v":""}]
[{"$f":"IF('SUR IN'!A219=0,\" \",\"OWNER PAR\")","v":" "},{"$f":"IF('SUR IN'!A219=0,\"\",'SUR IN'!A219)","v":""},{"$f":"IF('SUR IN'!B219=0,\"\",'SUR IN'!B219)","v":""}]
[{"$f":"IF('SUR IN'!A220=0,\" \",\"OWNER PAR\")","v":" "},{"$f":"IF('SUR IN'!A220=0,\"\",'SUR IN'!A220)","v":""},{"$f":"IF('SUR IN'!B220=0,\"\",'SUR IN'!B220)","v":""}]
[{"$f":"IF('SUR IN'!A221=0,\" \",\"OWNER PAR\")","v":" "},{"$f":"IF('SUR IN'!A221=0,\"\",'SUR IN'!A221)","v":""},{"$f":"IF('SUR IN'!B221=0,\"\",'SUR IN'!B221)","v":""}]
[{"$f":"IF('SUR IN'!A222=0,\" \",\"OWNER PAR\")","v":" "},{"$f":"IF('SUR IN'!A222=0,\"\",'SUR IN'!A222)","v":""},{"$f":"IF('SUR IN'!B222=0,\"\",'SUR IN'!B222)","v":""}]
[{"$f":"IF('SUR IN'!A223=0,\" \",\"OWNER PAR\")","v":" "},{"$f":"IF('SUR IN'!A223=0,\"\",'SUR IN'!A223)","v":""},{"$f":"IF('SUR IN'!B223=0,\"\",'SUR IN'!B223)","v":""}]
[{"$f":"IF('SUR IN'!A224=0,\" \",\"OWNER PAR\")","v":" "},{"$f":"IF('SUR IN'!A224=0,\"\",'SUR IN'!A224)","v":""},{"$f":"IF('SUR IN'!B224=0,\"\",'SUR IN'!B224)","v":""}]
[{"$f":"IF('SUR IN'!A225=0,\" \",\"OWNER PAR\")","v":" "},{"$f":"IF('SUR IN'!A225=0,\"\",'SUR IN'!A225)","v":""},{"$f":"IF('SUR IN'!B225=0,\"\",'SUR IN'!B225)","v":""}]
[{"$f":"IF('SUR IN'!A226=0,\" \",\"OWNER PAR\")","v":" "},{"$f":"IF('SUR IN'!A226=0,\"\",'SUR IN'!A226)","v":""},{"$f":"IF('SUR IN'!B226=0,\"\",'SUR IN'!B226)","v":""}]
[{"$f":"IF('SUR IN'!A227=0,\" \",\"OWNER PAR\")","v":" "},{"$f":"IF('SUR IN'!A227=0,\"\",'SUR IN'!A227)","v":""},{"$f":"IF('SUR IN'!B227=0,\"\",'SUR IN'!B227)","v":""}]
[{"$f":"IF('SUR IN'!A228=0,\" \",\"OWNER PAR\")","v":" "},{"$f":"IF('SUR IN'!A228=0,\"\",'SUR IN'!A228)","v":""},{"$f":"IF('SUR IN'!B228=0,\"\",'SUR IN'!B228)","v":""}]
[{"$f":"IF('SUR IN'!A229=0,\" \",\"OWNER PAR\")","v":" "},{"$f":"IF('SUR IN'!A229=0,\"\",'SUR IN'!A229)","v":""},{"$f":"IF('SUR IN'!B229=0,\"\",'SUR IN'!B229)","v":""}]
[{"$f":"IF('SUR IN'!A230=0,\" \",\"OWNER PAR\")","v":" "},{"$f":"IF('SUR IN'!A230=0,\"\",'SUR IN'!A230)","v":""},{"$f":"IF('SUR IN'!B230=0,\"\",'SUR IN'!B230)","v":""}]
[{"$f":"IF('SUR IN'!A231=0,\" \",\"OWNER PAR\")","v":" "},{"$f":"IF('SUR IN'!A231=0,\"\",'SUR IN'!A231)","v":""},{"$f":"IF('SUR IN'!B231=0,\"\",'SUR IN'!B231)","v":""}]
[{"$f":"IF('SUR IN'!A232=0,\" \",\"OWNER PAR\")","v":" "},{"$f":"IF('SUR IN'!A232=0,\"\",'SUR IN'!A232)","v":""},{"$f":"IF('SUR IN'!B232=0,\"\",'SUR IN'!B232)","v":""}]
[{"$f":"IF('SUR IN'!A233=0,\" \",\"OWNER PAR\")","v":" "},{"$f":"IF('SUR IN'!A233=0,\"\",'SUR IN'!A233)","v":""},{"$f":"IF('SUR IN'!B233=0,\"\",'SUR IN'!B233)","v":""}]
[{"$f":"IF('SUR IN'!A234=0,\" \",\"OWNER PAR\")","v":" "},{"$f":"IF('SUR IN'!A234=0,\"\",'SUR IN'!A234)","v":""},{"$f":"IF('SUR IN'!B234=0,\"\",'SUR IN'!B234)","v":""}]
[{"$f":"IF('SUR IN'!A235=0,\" \",\"OWNER PAR\")","v":" "},{"$f":"IF('SUR IN'!A235=0,\"\",'SUR IN'!A235)","v":""},{"$f":"IF('SUR IN'!B235=0,\"\",'SUR IN'!B235)","v":""}]
[{"$f":"IF('SUR IN'!A236=0,\" \",\"OWNER PAR\")","v":" "},{"$f":"IF('SUR IN'!A236=0,\"\",'SUR IN'!A236)","v":""},{"$f":"IF('SUR IN'!B236=0,\"\",'SUR IN'!B236)","v":""}]
[{"$f":"IF('SUR IN'!A237=0,\" \",\"OWNER PAR\")","v":" "},{"$f":"IF('SUR IN'!A237=0,\"\",'SUR IN'!A237)","v":""},{"$f":"IF('SUR IN'!B237=0,\"\",'SUR IN'!B237)","v":""}]
[{"$f":"IF('SUR IN'!A238=0,\" \",\"OWNER PAR\")","v":" "},{"$f":"IF('SUR IN'!A238=0,\"\",'SUR IN'!A238)","v":""},{"$f":"IF('SUR IN'!B238=0,\"\",'SUR IN'!B238)","v":""}]
[{"$f":"IF('SUR IN'!A239=0,\" \",\"OWNER PAR\")","v":" "},{"$f":"IF('SUR IN'!A239=0,\"\",'SUR IN'!A239)","v":""},{"$f":"IF('SUR IN'!B239=0,\"\",'SUR IN'!B239)","v":""}]
[{"$f":"IF('SUR IN'!A240=0,\" \",\"OWNER PAR\")","v":" "},{"$f":"IF('SUR IN'!A240=0,\"\",'SUR IN'!A240)","v":""},{"$f":"IF('SUR IN'!B240=0,\"\",'SUR IN'!B240)","v":""}]
[{"$f":"IF('SUR IN'!A241=0,\" \",\"OWNER PAR\")","v":" "},{"$f":"IF('SUR IN'!A241=0,\"\",'SUR IN'!A241)","v":""},{"$f":"IF('SUR IN'!B241=0,\"\",'SUR IN'!B241)","v":""}]
[{"$f":"IF('SUR IN'!A242=0,\" \",\"OWNER PAR\")","v":" "},{"$f":"IF('SUR IN'!A242=0,\"\",'SUR IN'!A242)","v":""},{"$f":"IF('SUR IN'!B242=0,\"\",'SUR IN'!B242)","v":""}]
[{"$f":"IF('SUR IN'!A243=0,\" \",\"OWNER PAR\")","v":" "},{"$f":"IF('SUR IN'!A243=0,\"\",'SUR IN'!A243)","v":""},{"$f":"IF('SUR IN'!B243=0,\"\",'SUR IN'!B243)","v":""}]
[{"$f":"IF('SUR IN'!A244=0,\" \",\"OWNER PAR\")","v":" "},{"$f":"IF('SUR IN'!A244=0,\"\",'SUR IN'!A244)","v":""},{"$f":"IF('SUR IN'!B244=0,\"\",'SUR IN'!B244)","v":""}]
[{"$f":"IF('SUR IN'!A245=0,\" \",\"OWNER PAR\")","v":" "},{"$f":"IF('SUR IN'!A245=0,\"\",'SUR IN'!A245)","v":""},{"$f":"IF('SUR IN'!B245=0,\"\",'SUR IN'!B245)","v":""}]
[{"$f":"IF('SUR IN'!A246=0,\" \",\"OWNER PAR\")","v":" "},{"$f":"IF('SUR IN'!A246=0,\"\",'SUR IN'!A246)","v":""},{"$f":"IF('SUR IN'!B246=0,\"\",'SUR IN'!B246)","v":""}]
[{"$f":"IF('SUR IN'!A247=0,\" \",\"OWNER PAR\")","v":" "},{"$f":"IF('SUR IN'!A247=0,\"\",'SUR IN'!A247)","v":""},{"$f":"IF('SUR IN'!B247=0,\"\",'SUR IN'!B247)","v":""}]
[{"$f":"IF('SUR IN'!A248=0,\" \",\"OWNER PAR\")","v":" "},{"$f":"IF('SUR IN'!A248=0,\"\",'SUR IN'!A248)","v":""},{"$f":"IF('SUR IN'!B248=0,\"\",'SUR IN'!B248)","v":""}]
[{"$f":"IF('SUR IN'!A249=0,\" \",\"OWNER PAR\")","v":" "},{"$f":"IF('SUR IN'!A249=0,\"\",'SUR IN'!A249)","v":""},{"$f":"IF('SUR IN'!B249=0,\"\",'SUR IN'!B249)","v":""}]
[{"$f":"IF('SUR IN'!A250=0,\" \",\"OWNER PAR\")","v":" "},{"$f":"IF('SUR IN'!A250=0,\"\",'SUR IN'!A250)","v":""},{"$f":"IF('SUR IN'!B250=0,\"\",'SUR IN'!B250)","v":""}]
[{"$f":"IF('SUR IN'!A251=0,\" \",\"OWNER PAR\")","v":" "},{"$f":"IF('SUR IN'!A251=0,\"\",'SUR IN'!A251)","v":""},{"$f":"IF('SUR IN'!B251=0,\"\",'SUR IN'!B251)","v":""}]
[{"$f":"IF('SUR IN'!A252=0,\" \",\"OWNER PAR\")","v":" "},{"$f":"IF('SUR IN'!A252=0,\"\",'SUR IN'!A252)","v":""},{"$f":"IF('SUR IN'!B252=0,\"\",'SUR IN'!B252)","v":""}]
[{"$f":"IF('SUR IN'!A253=0,\" \",\"OWNER PAR\")","v":" "},{"$f":"IF('SUR IN'!A253=0,\"\",'SUR IN'!A253)","v":""},{"$f":"IF('SUR IN'!B253=0,\"\",'SUR IN'!B253)","v":""}]
[{"$f":"IF('SUR IN'!A254=0,\" \",\"OWNER PAR\")","v":" "},{"$f":"IF('SUR IN'!A254=0,\"\",'SUR IN'!A254)","v":""},{"$f":"IF('SUR IN'!B254=0,\"\",'SUR IN'!B254)","v":""}]
[{"$f":"IF('SUR IN'!A255=0,\" \",\"OWNER PAR\")","v":" "},{"$f":"IF('SUR IN'!A255=0,\"\",'SUR IN'!A255)","v":""},{"$f":"IF('SUR IN'!B255=0,\"\",'SUR IN'!B255)","v":""}]
[{"$f":"IF('SUR IN'!A256=0,\" \",\"OWNER PAR\")","v":" "},{"$f":"IF('SUR IN'!A256=0,\"\",'SUR IN'!A256)","v":""},{"$f":"IF('SUR IN'!B256=0,\"\",'SUR IN'!B256)","v":""}]
[{"$f":"IF('SUR IN'!A257=0,\" \",\"OWNER PAR\")","v":" "},{"$f":"IF('SUR IN'!A257=0,\"\",'SUR IN'!A257)","v":""},{"$f":"IF('SUR IN'!B257=0,\"\",'SUR IN'!B257)","v":""}]
[{"$f":"IF('SUR IN'!A258=0,\" \",\"OWNER PAR\")","v":" "},{"$f":"IF('SUR IN'!A258=0,\"\",'SUR IN'!A258)","v":""},{"$f":"IF('SUR IN'!B258=0,\"\",'SUR IN'!B258)","v":""}]
[{"$f":"IF('SUR IN'!A259=0,\" \",\"OWNER PAR\")","v":" "},{"$f":"IF('SUR IN'!A259=0,\"\",'SUR IN'!A259)","v":""},{"$f":"IF('SUR IN'!B259=0,\"\",'SUR IN'!B259)","v":""}]
[{"$f":"IF('SUR IN'!A260=0,\" \",\"OWNER PAR\")","v":" "},{"$f":"IF('SUR IN'!A260=0,\"\",'SUR IN'!A260)","v":""},{"$f":"IF('SUR IN'!B260=0,\"\",'SUR IN'!B260)","v":""}]
[{"$f":"IF('SUR IN'!A261=0,\" \",\"OWNER PAR\")","v":" "},{"$f":"IF('SUR IN'!A261=0,\"\",'SUR IN'!A261)","v":""},{"$f":"IF('SUR IN'!B261=0,\"\",'SUR IN'!B261)","v":""}]
[{"$f":"IF('SUR IN'!A262=0,\" \",\"OWNER PAR\")","v":" "},{"$f":"IF('SUR IN'!A262=0,\"\",'SUR IN'!A262)","v":""},{"$f":"IF('SUR IN'!B262=0,\"\",'SUR IN'!B262)","v":""}]
[{"$f":"IF('SUR IN'!A263=0,\" \",\"OWNER PAR\")","v":" "},{"$f":"IF('SUR IN'!A263=0,\"\",'SUR IN'!A263)","v":""},{"$f":"IF('SUR IN'!B263=0,\"\",'SUR IN'!B263)","v":""}]
[{"$f":"IF('SUR IN'!A264=0,\" \",\"OWNER PAR\")","v":" "},{"$f":"IF('SUR IN'!A264=0,\"\",'SUR IN'!A264)","v":""},{"$f":"IF('SUR IN'!B264=0,\"\",'SUR IN'!B264)","v":""}]
[{"$f":"IF('SUR IN'!A265=0,\" \",\"OWNER PAR\")","v":" "},{"$f":"IF('SUR IN'!A265=0,\"\",'SUR IN'!A265)","v":""},{"$f":"IF('SUR IN'!B265=0,\"\",'SUR IN'!B265)","v":""}]
[{"$f":"IF('SUR IN'!A266=0,\" \",\"OWNER PAR\")","v":" "},{"$f":"IF('SUR IN'!A266=0,\"\",'SUR IN'!A266)","v":""},{"$f":"IF('SUR IN'!B266=0,\"\",'SUR IN'!B266)","v":""}]
[{"$f":"IF('SUR IN'!A267=0,\" \",\"OWNER PAR\")","v":" "},{"$f":"IF('SUR IN'!A267=0,\"\",'SUR IN'!A267)","v":""},{"$f":"IF('SUR IN'!B267=0,\"\",'SUR IN'!B267)","v":""}]
[{"$f":"IF('SUR IN'!A268=0,\" \",\"OWNER PAR\")","v":" "},{"$f":"IF('SUR IN'!A268=0,\"\",'SUR IN'!A268)","v":""},{"$f":"IF('SUR IN'!B268=0,\"\",'SUR IN'!B268)","v":""}]
[{"$f":"IF('SUR IN'!A269=0,\" \",\"OWNER PAR\")","v":" "},{"$f":"IF('SUR IN'!A269=0,\"\",'SUR IN'!A269)","v":""},{"$f":"IF('SUR IN'!B269=0,\"\",'SUR IN'!B269)","v":""}]
[{"$f":"IF('SUR IN'!A270=0,\" \",\"OWNER PAR\")","v":" "},{"$f":"IF('SUR IN'!A270=0,\"\",'SUR IN'!A270)","v":""},{"$f":"IF('SUR IN'!B270=0,\"\",'SUR IN'!B270)","v":""}]
[{"$f":"IF('SUR IN'!A271=0,\" \",\"OWNER PAR\")","v":" "},{"$f":"IF('SUR IN'!A271=0,\"\",'SUR IN'!A271)","v":""},{"$f":"IF('SUR IN'!B271=0,\"\",'SUR IN'!B271)","v":""}]
[{"$f":"IF('SUR IN'!A272=0,\" \",\"OWNER PAR\")","v":" "},{"$f":"IF('SUR IN'!A272=0,\"\",'SUR IN'!A272)","v":""},{"$f":"IF('SUR IN'!B272=0,\"\",'SUR IN'!B272)","v":""}]
[{"$f":"IF('SUR IN'!A273=0,\" \",\"OWNER PAR\")","v":" "},{"$f":"IF('SUR IN'!A273=0,\"\",'SUR IN'!A273)","v":""},{"$f":"IF('SUR IN'!B273=0,\"\",'SUR IN'!B273)","v":""}]
[{"$f":"IF('SUR IN'!A274=0,\" \",\"OWNER PAR\")","v":" "},{"$f":"IF('SUR IN'!A274=0,\"\",'SUR IN'!A274)","v":""},{"$f":"IF('SUR IN'!B274=0,\"\",'SUR IN'!B274)","v":""}]
[{"$f":"IF('SUR IN'!A275=0,\" \",\"OWNER PAR\")","v":" "},{"$f":"IF('SUR IN'!A275=0,\"\",'SUR IN'!A275)","v":""},{"$f":"IF('SUR IN'!B275=0,\"\",'SUR IN'!B275)","v":""}]
[{"$f":"IF('SUR IN'!A276=0,\" \",\"OWNER PAR\")","v":" "},{"$f":"IF('SUR IN'!A276=0,\"\",'SUR IN'!A276)","v":""},{"$f":"IF('SUR IN'!B276=0,\"\",'SUR IN'!B276)","v":""}]
[{"$f":"IF('SUR IN'!A277=0,\" \",\"OWNER PAR\")","v":" "},{"$f":"IF('SUR IN'!A277=0,\"\",'SUR IN'!A277)","v":""},{"$f":"IF('SUR IN'!B277=0,\"\",'SUR IN'!B277)","v":""}]
[{"$f":"IF('SUR IN'!A278=0,\" \",\"OWNER PAR\")","v":" "},{"$f":"IF('SUR IN'!A278=0,\"\",'SUR IN'!A278)","v":""},{"$f":"IF('SUR IN'!B278=0,\"\",'SUR IN'!B278)","v":""}]
[{"$f":"IF('SUR IN'!A279=0,\" \",\"OWNER PAR\")","v":" "},{"$f":"IF('SUR IN'!A279=0,\"\",'SUR IN'!A279)","v":""},{"$f":"IF('SUR IN'!B279=0,\"\",'SUR IN'!B279)","v":""}]
[{"$f":"IF('SUR IN'!A280=0,\" \",\"OWNER PAR\")","v":" "},{"$f":"IF('SUR IN'!A280=0,\"\",'SUR IN'!A280)","v":""},{"$f":"IF('SUR IN'!B280=0,\"\",'SUR IN'!B280)","v":""}]
[{"$f":"IF('SUR IN'!A281=0,\" \",\"OWNER PAR\")","v":" "},{"$f":"IF('SUR IN'!A281=0,\"\",'SUR IN'!A281)","v":""},{"$f":"IF('SUR IN'!B281=0,\"\",'SUR IN'!B281)","v":""}]
[{"$f":"IF('SUR IN'!A282=0,\" \",\"OWNER PAR\")","v":" "},{"$f":"IF('SUR IN'!A282=0,\"\",'SUR IN'!A282)","v":""},{"$f":"IF('SUR IN'!B282=0,\"\",'SUR IN'!B282)","v":""}]
[{"$f":"IF('SUR IN'!A283=0,\" \",\"OWNER PAR\")","v":" "},{"$f":"IF('SUR IN'!A283=0,\"\",'SUR IN'!A283)","v":""},{"$f":"IF('SUR IN'!B283=0,\"\",'SUR IN'!B283)","v":""}]
[{"$f":"IF('SUR IN'!A284=0,\" \",\"OWNER PAR\")","v":" "},{"$f":"IF('SUR IN'!A284=0,\"\",'SUR IN'!A284)","v":""},{"$f":"IF('SUR IN'!B284=0,\"\",'SUR IN'!B284)","v":""}]
[{"$f":"IF('SUR IN'!A285=0,\" \",\"OWNER PAR\")","v":" "},{"$f":"IF('SUR IN'!A285=0,\"\",'SUR IN'!A285)","v":""},{"$f":"IF('SUR IN'!B285=0,\"\",'SUR IN'!B285)","v":""}]
[{"$f":"IF('SUR IN'!A286=0,\" \",\"OWNER PAR\")","v":" "},{"$f":"IF('SUR IN'!A286=0,\"\",'SUR IN'!A286)","v":""},{"$f":"IF('SUR IN'!B286=0,\"\",'SUR IN'!B286)","v":""}]
[{"$f":"IF('SUR IN'!A287=0,\" \",\"OWNER PAR\")","v":" "},{"$f":"IF('SUR IN'!A287=0,\"\",'SUR IN'!A287)","v":""},{"$f":"IF('SUR IN'!B287=0,\"\",'SUR IN'!B287)","v":""}]
[{"$f":"IF('SUR IN'!A288=0,\" \",\"OWNER PAR\")","v":" "},{"$f":"IF('SUR IN'!A288=0,\"\",'SUR IN'!A288)","v":""},{"$f":"IF('SUR IN'!B288=0,\"\",'SUR IN'!B288)","v":""}]
[{"$f":"IF('SUR IN'!A289=0,\" \",\"OWNER PAR\")","v":" "},{"$f":"IF('SUR IN'!A289=0,\"\",'SUR IN'!A289)","v":""},{"$f":"IF('SUR IN'!B289=0,\"\",'SUR IN'!B289)","v":""}]
[{"$f":"IF('SUR IN'!A290=0,\" \",\"OWNER PAR\")","v":" "},{"$f":"IF('SUR IN'!A290=0,\"\",'SUR IN'!A290)","v":""},{"$f":"IF('SUR IN'!B290=0,\"\",'SUR IN'!B290)","v":""}]
[{"$f":"IF('SUR IN'!A291=0,\" \",\"OWNER PAR\")","v":" "},{"$f":"IF('SUR IN'!A291=0,\"\",'SUR IN'!A291)","v":""},{"$f":"IF('SUR IN'!B291=0,\"\",'SUR IN'!B291)","v":""}]
[{"$f":"IF('SUR IN'!A292=0,\" \",\"OWNER PAR\")","v":" "},{"$f":"IF('SUR IN'!A292=0,\"\",'SUR IN'!A292)","v":""},{"$f":"IF('SUR IN'!B292=0,\"\",'SUR IN'!B292)","v":""}]
[{"$f":"IF('SUR IN'!A293=0,\" \",\"OWNER PAR\")","v":" "},{"$f":"IF('SUR IN'!A293=0,\"\",'SUR IN'!A293)","v":""},{"$f":"IF('SUR IN'!B293=0,\"\",'SUR IN'!B293)","v":""}]
[{"$f":"IF('SUR IN'!A294=0,\" \",\"OWNER PAR\")","v":" "},{"$f":"IF('SUR IN'!A294=0,\"\",'SUR IN'!A294)","v":""},{"$f":"IF('SUR IN'!B294=0,\"\",'SUR IN'!B294)","v":""}]
[{"$f":"IF('SUR IN'!A295=0,\" \",\"OWNER PAR\")","v":" "},{"$f":"IF('SUR IN'!A295=0,\"\",'SUR IN'!A295)","v":""},{"$f":"IF('SUR IN'!B295=0,\"\",'SUR IN'!B295)","v":""}]
[{"$f":"IF('SUR IN'!A296=0,\" \",\"OWNER PAR\")","v":" "},{"$f":"IF('SUR IN'!A296=0,\"\",'SUR IN'!A296)","v":""},{"$f":"IF('SUR IN'!B296=0,\"\",'SUR IN'!B296)","v":""}]
[{"$f":"IF('SUR IN'!A297=0,\" \",\"OWNER PAR\")","v":" "},{"$f":"IF('SUR IN'!A297=0,\"\",'SUR IN'!A297)","v":""},{"$f":"IF('SUR IN'!B297=0,\"\",'SUR IN'!B297)","v":""}]
[{"$f":"IF('SUR IN'!A298=0,\" \",\"OWNER PAR\")","v":" "},{"$f":"IF('SUR IN'!A298=0,\"\",'SUR IN'!A298)","v":""},{"$f":"IF('SUR IN'!B298=0,\"\",'SUR IN'!B298)","v":""}]
[{"$f":"IF('SUR IN'!A299=0,\" \",\"OWNER PAR\")","v":" "},{"$f":"IF('SUR IN'!A299=0,\"\",'SUR IN'!A299)","v":""},{"$f":"IF('SUR IN'!B299=0,\"\",'SUR IN'!B299)","v":""}]
[{"$f":"IF('SUR IN'!A300=0,\" \",\"OWNER PAR\")","v":" "},{"$f":"IF('SUR IN'!A300=0,\"\",'SUR IN'!A300)","v":""},{"$f":"IF('SUR IN'!B300=0,\"\",'SUR IN'!B300)","v":""}]
[{"$f":"IF('SUR IN'!A301=0,\" \",\"OWNER PAR\")","v":" "},{"$f":"IF('SUR IN'!A301=0,\"\",'SUR IN'!A301)","v":""},{"$f":"IF('SUR IN'!B301=0,\"\",'SUR IN'!B301)","v":""}]
[{"$f":"IF('SUR IN'!A302=0,\" \",\"OWNER PAR\")","v":" "},{"$f":"IF('SUR IN'!A302=0,\"\",'SUR IN'!A302)","v":""},{"$f":"IF('SUR IN'!B302=0,\"\",'SUR IN'!B302)","v":""}]
[{"$f":"IF('SUR IN'!A303=0,\" \",\"OWNER PAR\")","v":" "},{"$f":"IF('SUR IN'!A303=0,\"\",'SUR IN'!A303)","v":""},{"$f":"IF('SUR IN'!B303=0,\"\",'SUR IN'!B303)","v":""}]
[{"$f":"IF('SUR IN'!A304=0,\" \",\"OWNER PAR\")","v":" "},{"$f":"IF('SUR IN'!A304=0,\"\",'SUR IN'!A304)","v":""},{"$f":"IF('SUR IN'!B304=0,\"\",'SUR IN'!B304)","v":""}]
[{"$f":"IF('SUR IN'!A305=0,\" \",\"OWNER PAR\")","v":" "},{"$f":"IF('SUR IN'!A305=0,\"\",'SUR IN'!A305)","v":""},{"$f":"IF('SUR IN'!B305=0,\"\",'SUR IN'!B305)","v":""}]
[{"$f":"IF('SUR IN'!A306=0,\" \",\"OWNER PAR\")","v":" "},{"$f":"IF('SUR IN'!A306=0,\"\",'SUR IN'!A306)","v":""},{"$f":"IF('SUR IN'!B306=0,\"\",'SUR IN'!B306)","v":""}]
[{"$f":"IF('SUR IN'!A307=0,\" \",\"OWNER PAR\")","v":" "},{"$f":"IF('SUR IN'!A307=0,\"\",'SUR IN'!A307)","v":""},{"$f":"IF('SUR IN'!B307=0,\"\",'SUR IN'!B307)","v":""}]
[{"$f":"IF('SUR IN'!A308=0,\" \",\"OWNER PAR\")","v":" "},{"$f":"IF('SUR IN'!A308=0,\"\",'SUR IN'!A308)","v":""},{"$f":"IF('SUR IN'!B308=0,\"\",'SUR IN'!B308)","v":""}]
[{"$f":"IF('SUR IN'!A309=0,\" \",\"OWNER PAR\")","v":" "},{"$f":"IF('SUR IN'!A309=0,\"\",'SUR IN'!A309)","v":""},{"$f":"IF('SUR IN'!B309=0,\"\",'SUR IN'!B309)","v":""}]
[{"$f":"IF('SUR IN'!A310=0,\" \",\"OWNER PAR\")","v":" "},{"$f":"IF('SUR IN'!A310=0,\"\",'SUR IN'!A310)","v":""},{"$f":"IF('SUR IN'!B310=0,\"\",'SUR IN'!B310)","v":""}]
[{"$f":"IF('SUR IN'!A311=0,\" \",\"OWNER PAR\")","v":" "},{"$f":"IF('SUR IN'!A311=0,\"\",'SUR IN'!A311)","v":""},{"$f":"IF('SUR IN'!B311=0,\"\",'SUR IN'!B311)","v":""}]
[{"$f":"IF('SUR IN'!A312=0,\" \",\"OWNER PAR\")","v":" "},{"$f":"IF('SUR IN'!A312=0,\"\",'SUR IN'!A312)","v":""},{"$f":"IF('SUR IN'!B312=0,\"\",'SUR IN'!B312)","v":""}]
[{"$f":"IF('SUR IN'!A313=0,\" \",\"OWNER PAR\")","v":" "},{"$f":"IF('SUR IN'!A313=0,\"\",'SUR IN'!A313)","v":""},{"$f":"IF('SUR IN'!B313=0,\"\",'SUR IN'!B313)","v":""}]
[{"$f":"IF('SUR IN'!A314=0,\" \",\"OWNER PAR\")","v":" "},{"$f":"IF('SUR IN'!A314=0,\"\",'SUR IN'!A314)","v":""},{"$f":"IF('SUR IN'!B314=0,\"\",'SUR IN'!B314)","v":""}]
[{"$f":"IF('SUR IN'!A315=0,\" \",\"OWNER PAR\")","v":" "},{"$f":"IF('SUR IN'!A315=0,\"\",'SUR IN'!A315)","v":""},{"$f":"IF('SUR IN'!B315=0,\"\",'SUR IN'!B315)","v":""}]
[{"$f":"IF('SUR IN'!A316=0,\" \",\"OWNER PAR\")","v":" "},{"$f":"IF('SUR IN'!A316=0,\"\",'SUR IN'!A316)","v":""},{"$f":"IF('SUR IN'!B316=0,\"\",'SUR IN'!B316)","v":""}]
[{"$f":"IF('SUR IN'!A317=0,\" \",\"OWNER PAR\")","v":" "},{"$f":"IF('SUR IN'!A317=0,\"\",'SUR IN'!A317)","v":""},{"$f":"IF('SUR IN'!B317=0,\"\",'SUR IN'!B317)","v":""}]
[{"$f":"IF('SUR IN'!A318=0,\" \",\"OWNER PAR\")","v":" "},{"$f":"IF('SUR IN'!A318=0,\"\",'SUR IN'!A318)","v":""},{"$f":"IF('SUR IN'!B318=0,\"\",'SUR IN'!B318)","v":""}]
[{"$f":"IF('SUR IN'!A319=0,\" \",\"OWNER PAR\")","v":" "},{"$f":"IF('SUR IN'!A319=0,\"\",'SUR IN'!A319)","v":""},{"$f":"IF('SUR IN'!B319=0,\"\",'SUR IN'!B319)","v":""}]
[{"$f":"IF('SUR IN'!A320=0,\" \",\"OWNER PAR\")","v":" "},{"$f":"IF('SUR IN'!A320=0,\"\",'SUR IN'!A320)","v":""},{"$f":"IF('SUR IN'!B320=0,\"\",'SUR IN'!B320)","v":""}]
[{"$f":"IF('SUR IN'!A321=0,\" \",\"OWNER PAR\")","v":" "},{"$f":"IF('SUR IN'!A321=0,\"\",'SUR IN'!A321)","v":""},{"$f":"IF('SUR IN'!B321=0,\"\",'SUR IN'!B321)","v":""}]
[{"$f":"IF('SUR IN'!A322=0,\" \",\"OWNER PAR\")","v":" "},{"$f":"IF('SUR IN'!A322=0,\"\",'SUR IN'!A322)","v":""},{"$f":"IF('SUR IN'!B322=0,\"\",'SUR IN'!B322)","v":""}]
[{"$f":"IF('SUR IN'!A323=0,\" \",\"OWNER PAR\")","v":" "},{"$f":"IF('SUR IN'!A323=0,\"\",'SUR IN'!A323)","v":""},{"$f":"IF('SUR IN'!B323=0,\"\",'SUR IN'!B323)","v":""}]
[{"$f":"IF('SUR IN'!A324=0,\" \",\"OWNER PAR\")","v":" "},{"$f":"IF('SUR IN'!A324=0,\"\",'SUR IN'!A324)","v":""},{"$f":"IF('SUR IN'!B324=0,\"\",'SUR IN'!B324)","v":""}]
[{"$f":"IF('SUR IN'!A325=0,\" \",\"OWNER PAR\")","v":" "},{"$f":"IF('SUR IN'!A325=0,\"\",'SUR IN'!A325)","v":""},{"$f":"IF('SUR IN'!B325=0,\"\",'SUR IN'!B325)","v":""}]
[{"$f":"IF('SUR IN'!A326=0,\" \",\"OWNER PAR\")","v":" "},{"$f":"IF('SUR IN'!A326=0,\"\",'SUR IN'!A326)","v":""},{"$f":"IF('SUR IN'!B326=0,\"\",'SUR IN'!B326)","v":""}]
[{"$f":"IF('SUR IN'!A327=0,\" \",\"OWNER PAR\")","v":" "},{"$f":"IF('SUR IN'!A327=0,\"\",'SUR IN'!A327)","v":""},{"$f":"IF('SUR IN'!B327=0,\"\",'SUR IN'!B327)","v":""}]
[{"$f":"IF('SUR IN'!A328=0,\" \",\"OWNER PAR\")","v":" "},{"$f":"IF('SUR IN'!A328=0,\"\",'SUR IN'!A328)","v":""},{"$f":"IF('SUR IN'!B328=0,\"\",'SUR IN'!B328)","v":""}]
[{"$f":"IF('SUR IN'!A329=0,\" \",\"OWNER PAR\")","v":" "},{"$f":"IF('SUR IN'!A329=0,\"\",'SUR IN'!A329)","v":""},{"$f":"IF('SUR IN'!B329=0,\"\",'SUR IN'!B329)","v":""}]
[{"$f":"IF('SUR IN'!A330=0,\" \",\"OWNER PAR\")","v":" "},{"$f":"IF('SUR IN'!A330=0,\"\",'SUR IN'!A330)","v":""},{"$f":"IF('SUR IN'!B330=0,\"\",'SUR IN'!B330)","v":""}]
[{"$f":"IF('SUR IN'!A331=0,\" \",\"OWNER PAR\")","v":" "},{"$f":"IF('SUR IN'!A331=0,\"\",'SUR IN'!A331)","v":""},{"$f":"IF('SUR IN'!B331=0,\"\",'SUR IN'!B331)","v":""}]
[{"$f":"IF('SUR IN'!A332=0,\" \",\"OWNER PAR\")","v":" "},{"$f":"IF('SUR IN'!A332=0,\"\",'SUR IN'!A332)","v":""},{"$f":"IF('SUR IN'!B332=0,\"\",'SUR IN'!B332)","v":""}]
[{"$f":"IF('SUR IN'!A333=0,\" \",\"OWNER PAR\")","v":" "},{"$f":"IF('SUR IN'!A333=0,\"\",'SUR IN'!A333)","v":""},{"$f":"IF('SUR IN'!B333=0,\"\",'SUR IN'!B333)","v":""}]
[{"$f":"IF('SUR IN'!A334=0,\" \",\"OWNER PAR\")","v":" "},{"$f":"IF('SUR IN'!A334=0,\"\",'SUR IN'!A334)","v":""},{"$f":"IF('SUR IN'!B334=0,\"\",'SUR IN'!B334)","v":""}]
[{"$f":"IF('SUR IN'!A335=0,\" \",\"OWNER PAR\")","v":" "},{"$f":"IF('SUR IN'!A335=0,\"\",'SUR IN'!A335)","v":""},{"$f":"IF('SUR IN'!B335=0,\"\",'SUR IN'!B335)","v":""}]
[{"$f":"IF('SUR IN'!A336=0,\" \",\"OWNER PAR\")","v":" "},{"$f":"IF('SUR IN'!A336=0,\"\",'SUR IN'!A336)","v":""},{"$f":"IF('SUR IN'!B336=0,\"\",'SUR IN'!B336)","v":""}]
[{"$f":"IF('SUR IN'!A337=0,\" \",\"OWNER PAR\")","v":" "},{"$f":"IF('SUR IN'!A337=0,\"\",'SUR IN'!A337)","v":""},{"$f":"IF('SUR IN'!B337=0,\"\",'SUR IN'!B337)","v":""}]
[{"$f":"IF('SUR IN'!A338=0,\" \",\"OWNER PAR\")","v":" "},{"$f":"IF('SUR IN'!A338=0,\"\",'SUR IN'!A338)","v":""},{"$f":"IF('SUR IN'!B338=0,\"\",'SUR IN'!B338)","v":""}]
[{"$f":"IF('SUR IN'!A339=0,\" \",\"OWNER PAR\")","v":" "},{"$f":"IF('SUR IN'!A339=0,\"\",'SUR IN'!A339)","v":""},{"$f":"IF('SUR IN'!B339=0,\"\",'SUR IN'!B339)","v":""}]
[{"$f":"IF('SUR IN'!A340=0,\" \",\"OWNER PAR\")","v":" "},{"$f":"IF('SUR IN'!A340=0,\"\",'SUR IN'!A340)","v":""},{"$f":"IF('SUR IN'!B340=0,\"\",'SUR IN'!B340)","v":""}]
[{"$f":"IF('SUR IN'!A341=0,\" \",\"OWNER PAR\")","v":" "},{"$f":"IF('SUR IN'!A341=0,\"\",'SUR IN'!A341)","v":""},{"$f":"IF('SUR IN'!B341=0,\"\",'SUR IN'!B341)","v":""}]
[{"$f":"IF('SUR IN'!A342=0,\" \",\"OWNER PAR\")","v":" "},{"$f":"IF('SUR IN'!A342=0,\"\",'SUR IN'!A342)","v":""},{"$f":"IF('SUR IN'!B342=0,\"\",'SUR IN'!B342)","v":""}]
[{"$f":"IF('SUR IN'!A343=0,\" \",\"OWNER PAR\")","v":" "},{"$f":"IF('SUR IN'!A343=0,\"\",'SUR IN'!A343)","v":""},{"$f":"IF('SUR IN'!B343=0,\"\",'SUR IN'!B343)","v":""}]
[{"$f":"IF('SUR IN'!A344=0,\" \",\"OWNER PAR\")","v":" "},{"$f":"IF('SUR IN'!A344=0,\"\",'SUR IN'!A344)","v":""},{"$f":"IF('SUR IN'!B344=0,\"\",'SUR IN'!B344)","v":""}]
[{"$f":"IF('SUR IN'!A345=0,\" \",\"OWNER PAR\")","v":" "},{"$f":"IF('SUR IN'!A345=0,\"\",'SUR IN'!A345)","v":""},{"$f":"IF('SUR IN'!B345=0,\"\",'SUR IN'!B345)","v":""}]
[{"$f":"IF('SUR IN'!A346=0,\" \",\"OWNER PAR\")","v":" "},{"$f":"IF('SUR IN'!A346=0,\"\",'SUR IN'!A346)","v":""},{"$f":"IF('SUR IN'!B346=0,\"\",'SUR IN'!B346)","v":""}]
[{"$f":"IF('SUR IN'!A347=0,\" \",\"OWNER PAR\")","v":" "},{"$f":"IF('SUR IN'!A347=0,\"\",'SUR IN'!A347)","v":""},{"$f":"IF('SUR IN'!B347=0,\"\",'SUR IN'!B347)","v":""}]
[{"$f":"IF('SUR IN'!A348=0,\" \",\"OWNER PAR\")","v":" "},{"$f":"IF('SUR IN'!A348=0,\"\",'SUR IN'!A348)","v":""},{"$f":"IF('SUR IN'!B348=0,\"\",'SUR IN'!B348)","v":""}]
[{"$f":"IF('SUR IN'!A349=0,\" \",\"OWNER PAR\")","v":" "},{"$f":"IF('SUR IN'!A349=0,\"\",'SUR IN'!A349)","v":""},{"$f":"IF('SUR IN'!B349=0,\"\",'SUR IN'!B349)","v":""}]
[{"$f":"IF('SUR IN'!A350=0,\" \",\"OWNER PAR\")","v":" "},{"$f":"IF('SUR IN'!A350=0,\"\",'SUR IN'!A350)","v":""},{"$f":"IF('SUR IN'!B350=0,\"\",'SUR IN'!B350)","v":""}]
[{"$f":"IF('SUR IN'!A351=0,\" \",\"OWNER PAR\")","v":" "},{"$f":"IF('SUR IN'!A351=0,\"\",'SUR IN'!A351)","v":""},{"$f":"IF('SUR IN'!B351=0,\"\",'SUR IN'!B351)","v":""}]
[{"$f":"IF('SUR IN'!A352=0,\" \",\"OWNER PAR\")","v":" "},{"$f":"IF('SUR IN'!A352=0,\"\",'SUR IN'!A352)","v":""},{"$f":"IF('SUR IN'!B352=0,\"\",'SUR IN'!B352)","v":""}]
[{"$f":"IF('SUR IN'!A353=0,\" \",\"OWNER PAR\")","v":" "},{"$f":"IF('SUR IN'!A353=0,\"\",'SUR IN'!A353)","v":""},{"$f":"IF('SUR IN'!B353=0,\"\",'SUR IN'!B353)","v":""}]
[{"$f":"IF('SUR IN'!A354=0,\" \",\"OWNER PAR\")","v":" "},{"$f":"IF('SUR IN'!A354=0,\"\",'SUR IN'!A354)","v":""},{"$f":"IF('SUR IN'!B354=0,\"\",'SUR IN'!B354)","v":""}]
[{"$f":"IF('SUR IN'!A355=0,\" \",\"OWNER PAR\")","v":" "},{"$f":"IF('SUR IN'!A355=0,\"\",'SUR IN'!A355)","v":""},{"$f":"IF('SUR IN'!B355=0,\"\",'SUR IN'!B355)","v":""}]
[{"$f":"IF('SUR IN'!A356=0,\" \",\"OWNER PAR\")","v":" "},{"$f":"IF('SUR IN'!A356=0,\"\",'SUR IN'!A356)","v":""},{"$f":"IF('SUR IN'!B356=0,\"\",'SUR IN'!B356)","v":""}]
[{"$f":"IF('SUR IN'!A357=0,\" \",\"OWNER PAR\")","v":" "},{"$f":"IF('SUR IN'!A357=0,\"\",'SUR IN'!A357)","v":""},{"$f":"IF('SUR IN'!B357=0,\"\",'SUR IN'!B357)","v":""}]
[{"$f":"IF('SUR IN'!A358=0,\" \",\"OWNER PAR\")","v":" "},{"$f":"IF('SUR IN'!A358=0,\"\",'SUR IN'!A358)","v":""},{"$f":"IF('SUR IN'!B358=0,\"\",'SUR IN'!B358)","v":""}]
[{"$f":"IF('SUR IN'!A359=0,\" \",\"OWNER PAR\")","v":" "},{"$f":"IF('SUR IN'!A359=0,\"\",'SUR IN'!A359)","v":""},{"$f":"IF('SUR IN'!B359=0,\"\",'SUR IN'!B359)","v":""}]
[{"$f":"IF('SUR IN'!A360=0,\" \",\"OWNER PAR\")","v":" "},{"$f":"IF('SUR IN'!A360=0,\"\",'SUR IN'!A360)","v":""},{"$f":"IF('SUR IN'!B360=0,\"\",'SUR IN'!B360)","v":""}]
[{"$f":"IF('SUR IN'!A361=0,\" \",\"OWNER PAR\")","v":" "},{"$f":"IF('SUR IN'!A361=0,\"\",'SUR IN'!A361)","v":""},{"$f":"IF('SUR IN'!B361=0,\"\",'SUR IN'!B361)","v":""}]
[{"$f":"IF('SUR IN'!A362=0,\" \",\"OWNER PAR\")","v":" "},{"$f":"IF('SUR IN'!A362=0,\"\",'SUR IN'!A362)","v":""},{"$f":"IF('SUR IN'!B362=0,\"\",'SUR IN'!B362)","v":""}]
[{"$f":"IF('SUR IN'!A363=0,\" \",\"OWNER PAR\")","v":" "},{"$f":"IF('SUR IN'!A363=0,\"\",'SUR IN'!A363)","v":""},{"$f":"IF('SUR IN'!B363=0,\"\",'SUR IN'!B363)","v":""}]
[{"$f":"IF('SUR IN'!A364=0,\" \",\"OWNER PAR\")","v":" "},{"$f":"IF('SUR IN'!A364=0,\"\",'SUR IN'!A364)","v":""},{"$f":"IF('SUR IN'!B364=0,\"\",'SUR IN'!B364)","v":""}]
[{"$f":"IF('SUR IN'!A365=0,\" \",\"OWNER PAR\")","v":" "},{"$f":"IF('SUR IN'!A365=0,\"\",'SUR IN'!A365)","v":""},{"$f":"IF('SUR IN'!B365=0,\"\",'SUR IN'!B365)","v":""}]
[{"$f":"IF('SUR IN'!A366=0,\" \",\"OWNER PAR\")","v":" "},{"$f":"IF('SUR IN'!A366=0,\"\",'SUR IN'!A366)","v":""},{"$f":"IF('SUR IN'!B366=0,\"\",'SUR IN'!B366)","v":""}]
[{"$f":"IF('SUR IN'!A367=0,\" \",\"OWNER PAR\")","v":" "},{"$f":"IF('SUR IN'!A367=0,\"\",'SUR IN'!A367)","v":""},{"$f":"IF('SUR IN'!B367=0,\"\",'SUR IN'!B367)","v":""}]
[{"$f":"IF('SUR IN'!A368=0,\" \",\"OWNER PAR\")","v":" "},{"$f":"IF('SUR IN'!A368=0,\"\",'SUR IN'!A368)","v":""},{"$f":"IF('SUR IN'!B368=0,\"\",'SUR IN'!B368)","v":""}]
[{"$f":"IF('SUR IN'!A369=0,\" \",\"OWNER PAR\")","v":" "},{"$f":"IF('SUR IN'!A369=0,\"\",'SUR IN'!A369)","v":""},{"$f":"IF('SUR IN'!B369=0,\"\",'SUR IN'!B369)","v":""}]
[{"$f":"IF('SUR IN'!A370=0,\" \",\"OWNER PAR\")","v":" "},{"$f":"IF('SUR IN'!A370=0,\"\",'SUR IN'!A370)","v":""},{"$f":"IF('SUR IN'!B370=0,\"\",'SUR IN'!B370)","v":""}]
[{"$f":"IF('SUR IN'!A371=0,\" \",\"OWNER PAR\")","v":" "},{"$f":"IF('SUR IN'!A371=0,\"\",'SUR IN'!A371)","v":""},{"$f":"IF('SUR IN'!B371=0,\"\",'SUR IN'!B371)","v":""}]
[{"$f":"IF('SUR IN'!A372=0,\" \",\"OWNER PAR\")","v":" "},{"$f":"IF('SUR IN'!A372=0,\"\",'SUR IN'!A372)","v":""},{"$f":"IF('SUR IN'!B372=0,\"\",'SUR IN'!B372)","v":""}]
[{"$f":"IF('SUR IN'!A373=0,\" \",\"OWNER PAR\")","v":" "},{"$f":"IF('SUR IN'!A373=0,\"\",'SUR IN'!A373)","v":""},{"$f":"IF('SUR IN'!B373=0,\"\",'SUR IN'!B373)","v":""}]
[{"$f":"IF('SUR IN'!A374=0,\" \",\"OWNER PAR\")","v":" "},{"$f":"IF('SUR IN'!A374=0,\"\",'SUR IN'!A374)","v":""},{"$f":"IF('SUR IN'!B374=0,\"\",'SUR IN'!B374)","v":""}]
[{"$f":"IF('SUR IN'!A375=0,\" \",\"OWNER PAR\")","v":" "},{"$f":"IF('SUR IN'!A375=0,\"\",'SUR IN'!A375)","v":""},{"$f":"IF('SUR IN'!B375=0,\"\",'SUR IN'!B375)","v":""}]
[{"$f":"IF('SUR IN'!A376=0,\" \",\"OWNER PAR\")","v":" "},{"$f":"IF('SUR IN'!A376=0,\"\",'SUR IN'!A376)","v":""},{"$f":"IF('SUR IN'!B376=0,\"\",'SUR IN'!B376)","v":""}]
[{"$f":"IF('SUR IN'!A377=0,\" \",\"OWNER PAR\")","v":" "},{"$f":"IF('SUR IN'!A377=0,\"\",'SUR IN'!A377)","v":""},{"$f":"IF('SUR IN'!B377=0,\"\",'SUR IN'!B377)","v":""}]
[{"$f":"IF('SUR IN'!A378=0,\" \",\"OWNER PAR\")","v":" "},{"$f":"IF('SUR IN'!A378=0,\"\",'SUR IN'!A378)","v":""},{"$f":"IF('SUR IN'!B378=0,\"\",'SUR IN'!B378)","v":""}]
[{"$f":"IF('SUR IN'!A379=0,\" \",\"OWNER PAR\")","v":" "},{"$f":"IF('SUR IN'!A379=0,\"\",'SUR IN'!A379)","v":""},{"$f":"IF('SUR IN'!B379=0,\"\",'SUR IN'!B379)","v":""}]
[{"$f":"IF('SUR IN'!A380=0,\" \",\"OWNER PAR\")","v":" "},{"$f":"IF('SUR IN'!A380=0,\"\",'SUR IN'!A380)","v":""},{"$f":"IF('SUR IN'!B380=0,\"\",'SUR IN'!B380)","v":""}]
[{"$f":"IF('SUR IN'!A381=0,\" \",\"OWNER PAR\")","v":" "},{"$f":"IF('SUR IN'!A381=0,\"\",'SUR IN'!A381)","v":""},{"$f":"IF('SUR IN'!B381=0,\"\",'SUR IN'!B381)","v":""}]
[{"$f":"IF('SUR IN'!A382=0,\" \",\"OWNER PAR\")","v":" "},{"$f":"IF('SUR IN'!A382=0,\"\",'SUR IN'!A382)","v":""},{"$f":"IF('SUR IN'!B382=0,\"\",'SUR IN'!B382)","v":""}]
[{"$f":"IF('SUR IN'!A383=0,\" \",\"OWNER PAR\")","v":" "},{"$f":"IF('SUR IN'!A383=0,\"\",'SUR IN'!A383)","v":""},{"$f":"IF('SUR IN'!B383=0,\"\",'SUR IN'!B383)","v":""}]
[{"$f":"IF('SUR IN'!A384=0,\" \",\"OWNER PAR\")","v":" "},{"$f":"IF('SUR IN'!A384=0,\"\",'SUR IN'!A384)","v":""},{"$f":"IF('SUR IN'!B384=0,\"\",'SUR IN'!B384)","v":""}]
[{"$f":"IF('SUR IN'!A385=0,\" \",\"OWNER PAR\")","v":" "},{"$f":"IF('SUR IN'!A385=0,\"\",'SUR IN'!A385)","v":""},{"$f":"IF('SUR IN'!B385=0,\"\",'SUR IN'!B385)","v":""}]
[{"$f":"IF('SUR IN'!A386=0,\" \",\"OWNER PAR\")","v":" "},{"$f":"IF('SUR IN'!A386=0,\"\",'SUR IN'!A386)","v":""},{"$f":"IF('SUR IN'!B386=0,\"\",'SUR IN'!B386)","v":""}]
[{"$f":"IF('SUR IN'!A387=0,\" \",\"OWNER PAR\")","v":" "},{"$f":"IF('SUR IN'!A387=0,\"\",'SUR IN'!A387)","v":""},{"$f":"IF('SUR IN'!B387=0,\"\",'SUR IN'!B387)","v":""}]
[{"$f":"IF('SUR IN'!A388=0,\" \",\"OWNER PAR\")","v":" "},{"$f":"IF('SUR IN'!A388=0,\"\",'SUR IN'!A388)","v":""},{"$f":"IF('SUR IN'!B388=0,\"\",'SUR IN'!B388)","v":""}]
[{"$f":"IF('SUR IN'!A389=0,\" \",\"OWNER PAR\")","v":" "},{"$f":"IF('SUR IN'!A389=0,\"\",'SUR IN'!A389)","v":""},{"$f":"IF('SUR IN'!B389=0,\"\",'SUR IN'!B389)","v":""}]
[{"$f":"IF('SUR IN'!A390=0,\" \",\"OWNER PAR\")","v":" "},{"$f":"IF('SUR IN'!A390=0,\"\",'SUR IN'!A390)","v":""},{"$f":"IF('SUR IN'!B390=0,\"\",'SUR IN'!B390)","v":""}]
[{"$f":"IF('SUR IN'!A391=0,\" \",\"OWNER PAR\")","v":" "},{"$f":"IF('SUR IN'!A391=0,\"\",'SUR IN'!A391)","v":""},{"$f":"IF('SUR IN'!B391=0,\"\",'SUR IN'!B391)","v":""}]
[{"$f":"IF('SUR IN'!A392=0,\" \",\"OWNER PAR\")","v":" "},{"$f":"IF('SUR IN'!A392=0,\"\",'SUR IN'!A392)","v":""},{"$f":"IF('SUR IN'!B392=0,\"\",'SUR IN'!B392)","v":""}]
[{"$f":"IF('SUR IN'!A393=0,\" \",\"OWNER PAR\")","v":" "},{"$f":"IF('SUR IN'!A393=0,\"\",'SUR IN'!A393)","v":""},{"$f":"IF('SUR IN'!B393=0,\"\",'SUR IN'!B393)","v":""}]
[{"$f":"IF('SUR IN'!A394=0,\" \",\"OWNER PAR\")","v":" "},{"$f":"IF('SUR IN'!A394=0,\"\",'SUR IN'!A394)","v":""},{"$f":"IF('SUR IN'!B394=0,\"\",'SUR IN'!B394)","v":""}]
[{"$f":"IF('SUR IN'!A395=0,\" \",\"OWNER PAR\")","v":" "},{"$f":"IF('SUR IN'!A395=0,\"\",'SUR IN'!A395)","v":""},{"$f":"IF('SUR IN'!B395=0,\"\",'SUR IN'!B395)","v":""}]
[{"$f":"IF('SUR IN'!A396=0,\" \",\"OWNER PAR\")","v":" "},{"$f":"IF('SUR IN'!A396=0,\"\",'SUR IN'!A396)","v":""},{"$f":"IF('SUR IN'!B396=0,\"\",'SUR IN'!B396)","v":""}]
[{"$f":"IF('SUR IN'!A397=0,\" \",\"OWNER PAR\")","v":" "},{"$f":"IF('SUR IN'!A397=0,\"\",'SUR IN'!A397)","v":""},{"$f":"IF('SUR IN'!B397=0,\"\",'SUR IN'!B397)","v":""}]
[{"$f":"IF('SUR IN'!A398=0,\" \",\"OWNER PAR\")","v":" "},{"$f":"IF('SUR IN'!A398=0,\"\",'SUR IN'!A398)","v":""},{"$f":"IF('SUR IN'!B398=0,\"\",'SUR IN'!B398)","v":""}]
[{"$f":"IF('SUR IN'!A399=0,\" \",\"OWNER PAR\")","v":" "},{"$f":"IF('SUR IN'!A399=0,\"\",'SUR IN'!A399)","v":""},{"$f":"IF('SUR IN'!B399=0,\"\",'SUR IN'!B399)","v":""}]
[{"$f":"IF('SUR IN'!A400=0,\" \",\"OWNER PAR\")","v":" "},{"$f":"IF('SUR IN'!A400=0,\"\",'SUR IN'!A400)","v":""},{"$f":"IF('SUR IN'!B400=0,\"\",'SUR IN'!B400)","v":""}]
[{"$f":"IF('SUR IN'!A401=0,\" \",\"OWNER PAR\")","v":" "},{"$f":"IF('SUR IN'!A401=0,\"\",'SUR IN'!A401)","v":""},{"$f":"IF('SUR IN'!B401=0,\"\",'SUR IN'!B401)","v":""}]
[{"$f":"IF('SUR IN'!A402=0,\" \",\"OWNER PAR\")","v":" "},{"$f":"IF('SUR IN'!A402=0,\"\",'SUR IN'!A402)","v":""},{"$f":"IF('SUR IN'!B402=0,\"\",'SUR IN'!B402)","v":""}]
[{"$f":"IF('SUR IN'!A403=0,\" \",\"OWNER PAR\")","v":" "},{"$f":"IF('SUR IN'!A403=0,\"\",'SUR IN'!A403)","v":""},{"$f":"IF('SUR IN'!B403=0,\"\",'SUR IN'!B403)","v":""}]
[{"$f":"IF('SUR IN'!A404=0,\" \",\"OWNER PAR\")","v":" "},{"$f":"IF('SUR IN'!A404=0,\"\",'SUR IN'!A404)","v":""},{"$f":"IF('SUR IN'!B404=0,\"\",'SUR IN'!B404)","v":""}]
[{"$f":"IF('SUR IN'!A405=0,\" \",\"OWNER PAR\")","v":" "},{"$f":"IF('SUR IN'!A405=0,\"\",'SUR IN'!A405)","v":""},{"$f":"IF('SUR IN'!B405=0,\"\",'SUR IN'!B405)","v":""}]
[{"$f":"IF('SUR IN'!A406=0,\" \",\"OWNER PAR\")","v":" "},{"$f":"IF('SUR IN'!A406=0,\"\",'SUR IN'!A406)","v":""},{"$f":"IF('SUR IN'!B406=0,\"\",'SUR IN'!B406)","v":""}]
[{"$f":"IF('SUR IN'!A407=0,\" \",\"OWNER PAR\")","v":" "},{"$f":"IF('SUR IN'!A407=0,\"\",'SUR IN'!A407)","v":""},{"$f":"IF('SUR IN'!B407=0,\"\",'SUR IN'!B407)","v":""}]
[{"$f":"IF('SUR IN'!A408=0,\" \",\"OWNER PAR\")","v":" "},{"$f":"IF('SUR IN'!A408=0,\"\",'SUR IN'!A408)","v":""},{"$f":"IF('SUR IN'!B408=0,\"\",'SUR IN'!B408)","v":""}]
[{"$f":"IF('SUR IN'!A409=0,\" \",\"OWNER PAR\")","v":" "},{"$f":"IF('SUR IN'!A409=0,\"\",'SUR IN'!A409)","v":""},{"$f":"IF('SUR IN'!B409=0,\"\",'SUR IN'!B409)","v":""}]
[{"$f":"IF('SUR IN'!A410=0,\" \",\"OWNER PAR\")","v":" "},{"$f":"IF('SUR IN'!A410=0,\"\",'SUR IN'!A410)","v":""},{"$f":"IF('SUR IN'!B410=0,\"\",'SUR IN'!B410)","v":""}]
[{"$f":"IF('SUR IN'!A411=0,\" \",\"OWNER PAR\")","v":" "},{"$f":"IF('SUR IN'!A411=0,\"\",'SUR IN'!A411)","v":""},{"$f":"IF('SUR IN'!B411=0,\"\",'SUR IN'!B411)","v":""}]
[{"$f":"IF('SUR IN'!A412=0,\" \",\"OWNER PAR\")","v":" "},{"$f":"IF('SUR IN'!A412=0,\"\",'SUR IN'!A412)","v":""},{"$f":"IF('SUR IN'!B412=0,\"\",'SUR IN'!B412)","v":""}]
[{"$f":"IF('SUR IN'!A413=0,\" \",\"OWNER PAR\")","v":" "},{"$f":"IF('SUR IN'!A413=0,\"\",'SUR IN'!A413)","v":""},{"$f":"IF('SUR IN'!B413=0,\"\",'SUR IN'!B413)","v":""}]
[{"$f":"IF('SUR IN'!A414=0,\" \",\"OWNER PAR\")","v":" "},{"$f":"IF('SUR IN'!A414=0,\"\",'SUR IN'!A414)","v":""},{"$f":"IF('SUR IN'!B414=0,\"\",'SUR IN'!B414)","v":""}]
[{"$f":"IF('SUR IN'!A415=0,\" \",\"OWNER PAR\")","v":" "},{"$f":"IF('SUR IN'!A415=0,\"\",'SUR IN'!A415)","v":""},{"$f":"IF('SUR IN'!B415=0,\"\",'SUR IN'!B415)","v":""}]
[{"$f":"IF('SUR IN'!A416=0,\" \",\"OWNER PAR\")","v":" "},{"$f":"IF('SUR IN'!A416=0,\"\",'SUR IN'!A416)","v":""},{"$f":"IF('SUR IN'!B416=0,\"\",'SUR IN'!B416)","v":""}]
[{"$f":"IF('SUR IN'!A417=0,\" \",\"OWNER PAR\")","v":" "},{"$f":"IF('SUR IN'!A417=0,\"\",'SUR IN'!A417)","v":""},{"$f":"IF('SUR IN'!B417=0,\"\",'SUR IN'!B417)","v":""}]
[{"$f":"IF('SUR IN'!A418=0,\" \",\"OWNER PAR\")","v":" "},{"$f":"IF('SUR IN'!A418=0,\"\",'SUR IN'!A418)","v":""},{"$f":"IF('SUR IN'!B418=0,\"\",'SUR IN'!B418)","v":""}]
[{"$f":"IF('SUR IN'!A419=0,\" \",\"OWNER PAR\")","v":" "},{"$f":"IF('SUR IN'!A419=0,\"\",'SUR IN'!A419)","v":""},{"$f":"IF('SUR IN'!B419=0,\"\",'SUR IN'!B419)","v":""}]
[{"$f":"IF('SUR IN'!A420=0,\" \",\"OWNER PAR\")","v":" "},{"$f":"IF('SUR IN'!A420=0,\"\",'SUR IN'!A420)","v":""},{"$f":"IF('SUR IN'!B420=0,\"\",'SUR IN'!B420)","v":""}]
[{"$f":"IF('SUR IN'!A421=0,\" \",\"OWNER PAR\")","v":" "},{"$f":"IF('SUR IN'!A421=0,\"\",'SUR IN'!A421)","v":""},{"$f":"IF('SUR IN'!B421=0,\"\",'SUR IN'!B421)","v":""}]
[{"$f":"IF('SUR IN'!A422=0,\" \",\"OWNER PAR\")","v":" "},{"$f":"IF('SUR IN'!A422=0,\"\",'SUR IN'!A422)","v":""},{"$f":"IF('SUR IN'!B422=0,\"\",'SUR IN'!B422)","v":""}]
[{"$f":"IF('SUR IN'!A423=0,\" \",\"OWNER PAR\")","v":" "},{"$f":"IF('SUR IN'!A423=0,\"\",'SUR IN'!A423)","v":""},{"$f":"IF('SUR IN'!B423=0,\"\",'SUR IN'!B423)","v":""}]
[{"$f":"IF('SUR IN'!A424=0,\" \",\"OWNER PAR\")","v":" "},{"$f":"IF('SUR IN'!A424=0,\"\",'SUR IN'!A424)","v":""},{"$f":"IF('SUR IN'!B424=0,\"\",'SUR IN'!B424)","v":""}]
[{"$f":"IF('SUR IN'!A425=0,\" \",\"OWNER PAR\")","v":" "},{"$f":"IF('SUR IN'!A425=0,\"\",'SUR IN'!A425)","v":""},{"$f":"IF('SUR IN'!B425=0,\"\",'SUR IN'!B425)","v":""}]
[{"$f":"IF('SUR IN'!A426=0,\" \",\"OWNER PAR\")","v":" "},{"$f":"IF('SUR IN'!A426=0,\"\",'SUR IN'!A426)","v":""},{"$f":"IF('SUR IN'!B426=0,\"\",'SUR IN'!B426)","v":""}]
[{"$f":"IF('SUR IN'!A427=0,\" \",\"OWNER PAR\")","v":" "},{"$f":"IF('SUR IN'!A427=0,\"\",'SUR IN'!A427)","v":""},{"$f":"IF('SUR IN'!B427=0,\"\",'SUR IN'!B427)","v":""}]
[{"$f":"IF('SUR IN'!A428=0,\" \",\"OWNER PAR\")","v":" "},{"$f":"IF('SUR IN'!A428=0,\"\",'SUR IN'!A428)","v":""},{"$f":"IF('SUR IN'!B428=0,\"\",'SUR IN'!B428)","v":""}]
[{"$f":"IF('SUR IN'!A429=0,\" \",\"OWNER PAR\")","v":" "},{"$f":"IF('SUR IN'!A429=0,\"\",'SUR IN'!A429)","v":""},{"$f":"IF('SUR IN'!B429=0,\"\",'SUR IN'!B429)","v":""}]
[{"$f":"IF('SUR IN'!A430=0,\" \",\"OWNER PAR\")","v":" "},{"$f":"IF('SUR IN'!A430=0,\"\",'SUR IN'!A430)","v":""},{"$f":"IF('SUR IN'!B430=0,\"\",'SUR IN'!B430)","v":""}]
[{"$f":"IF('SUR IN'!A431=0,\" \",\"OWNER PAR\")","v":" "},{"$f":"IF('SUR IN'!A431=0,\"\",'SUR IN'!A431)","v":""},{"$f":"IF('SUR IN'!B431=0,\"\",'SUR IN'!B431)","v":""}]
[{"$f":"IF('SUR IN'!A432=0,\" \",\"OWNER PAR\")","v":" "},{"$f":"IF('SUR IN'!A432=0,\"\",'SUR IN'!A432)","v":""},{"$f":"IF('SUR IN'!B432=0,\"\",'SUR IN'!B432)","v":""}]
[{"$f":"IF('SUR IN'!A433=0,\" \",\"OWNER PAR\")","v":" "},{"$f":"IF('SUR IN'!A433=0,\"\",'SUR IN'!A433)","v":""},{"$f":"IF('SUR IN'!B433=0,\"\",'SUR IN'!B433)","v":""}]
[{"$f":"IF('SUR IN'!A434=0,\" \",\"OWNER PAR\")","v":" "},{"$f":"IF('SUR IN'!A434=0,\"\",'SUR IN'!A434)","v":""},{"$f":"IF('SUR IN'!B434=0,\"\",'SUR IN'!B434)","v":""}]
[{"$f":"IF('SUR IN'!A435=0,\" \",\"OWNER PAR\")","v":" "},{"$f":"IF('SUR IN'!A435=0,\"\",'SUR IN'!A435)","v":""},{"$f":"IF('SUR IN'!B435=0,\"\",'SUR IN'!B435)","v":""}]
[{"$f":"IF('SUR IN'!A436=0,\" \",\"OWNER PAR\")","v":" "},{"$f":"IF('SUR IN'!A436=0,\"\",'SUR IN'!A436)","v":""},{"$f":"IF('SUR IN'!B436=0,\"\",'SUR IN'!B436)","v":""}]
[{"$f":"IF('SUR IN'!A437=0,\" \",\"OWNER PAR\")","v":" "},{"$f":"IF('SUR IN'!A437=0,\"\",'SUR IN'!A437)","v":""},{"$f":"IF('SUR IN'!B437=0,\"\",'SUR IN'!B437)","v":""}]
[{"$f":"IF('SUR IN'!A438=0,\" \",\"OWNER PAR\")","v":" "},{"$f":"IF('SUR IN'!A438=0,\"\",'SUR IN'!A438)","v":""},{"$f":"IF('SUR IN'!B438=0,\"\",'SUR IN'!B438)","v":""}]
[{"$f":"IF('SUR IN'!A439=0,\" \",\"OWNER PAR\")","v":" "},{"$f":"IF('SUR IN'!A439=0,\"\",'SUR IN'!A439)","v":""},{"$f":"IF('SUR IN'!B439=0,\"\",'SUR IN'!B439)","v":""}]
[{"$f":"IF('SUR IN'!A440=0,\" \",\"OWNER PAR\")","v":" "},{"$f":"IF('SUR IN'!A440=0,\"\",'SUR IN'!A440)","v":""},{"$f":"IF('SUR IN'!B440=0,\"\",'SUR IN'!B440)","v":""}]
[{"$f":"IF('SUR IN'!A441=0,\" \",\"OWNER PAR\")","v":" "},{"$f":"IF('SUR IN'!A441=0,\"\",'SUR IN'!A441)","v":""},{"$f":"IF('SUR IN'!B441=0,\"\",'SUR IN'!B441)","v":""}]
[{"$f":"IF('SUR IN'!A442=0,\" \",\"OWNER PAR\")","v":" "},{"$f":"IF('SUR IN'!A442=0,\"\",'SUR IN'!A442)","v":""},{"$f":"IF('SUR IN'!B442=0,\"\",'SUR IN'!B442)","v":""}]
[{"$f":"IF('SUR IN'!A443=0,\" \",\"OWNER PAR\")","v":" "},{"$f":"IF('SUR IN'!A443=0,\"\",'SUR IN'!A443)","v":""},{"$f":"IF('SUR IN'!B443=0,\"\",'SUR IN'!B443)","v":""}]
[{"$f":"IF('SUR IN'!A444=0,\" \",\"OWNER PAR\")","v":" "},{"$f":"IF('SUR IN'!A444=0,\"\",'SUR IN'!A444)","v":""},{"$f":"IF('SUR IN'!B444=0,\"\",'SUR IN'!B444)","v":""}]
[{"$f":"IF('SUR IN'!A445=0,\" \",\"OWNER PAR\")","v":" "},{"$f":"IF('SUR IN'!A445=0,\"\",'SUR IN'!A445)","v":""},{"$f":"IF('SUR IN'!B445=0,\"\",'SUR IN'!B445)","v":""}]
[{"$f":"IF('SUR IN'!A446=0,\" \",\"OWNER PAR\")","v":" "},{"$f":"IF('SUR IN'!A446=0,\"\",'SUR IN'!A446)","v":""},{"$f":"IF('SUR IN'!B446=0,\"\",'SUR IN'!B446)","v":""}]
[{"$f":"IF('SUR IN'!A447=0,\" \",\"OWNER PAR\")","v":" "},{"$f":"IF('SUR IN'!A447=0,\"\",'SUR IN'!A447)","v":""},{"$f":"IF('SUR IN'!B447=0,\"\",'SUR IN'!B447)","v":""}]
[{"$f":"IF('SUR IN'!A448=0,\" \",\"OWNER PAR\")","v":" "},{"$f":"IF('SUR IN'!A448=0,\"\",'SUR IN'!A448)","v":""},{"$f":"IF('SUR IN'!B448=0,\"\",'SUR IN'!B448)","v":""}]
[{"$f":"IF('SUR IN'!A449=0,\" \",\"OWNER PAR\")","v":" "},{"$f":"IF('SUR IN'!A449=0,\"\",'SUR IN'!A449)","v":""},{"$f":"IF('SUR IN'!B449=0,\"\",'SUR IN'!B449)","v":""}]
[{"$f":"IF('SUR IN'!A450=0,\" \",\"OWNER PAR\")","v":" "},{"$f":"IF('SUR IN'!A450=0,\"\",'SUR IN'!A450)","v":""},{"$f":"IF('SUR IN'!B450=0,\"\",'SUR IN'!B450)","v":""}]
[{"$f":"IF('SUR IN'!A451=0,\" \",\"OWNER PAR\")","v":" "},{"$f":"IF('SUR IN'!A451=0,\"\",'SUR IN'!A451)","v":""},{"$f":"IF('SUR IN'!B451=0,\"\",'SUR IN'!B451)","v":""}]
[{"$f":"IF('SUR IN'!A452=0,\" \",\"OWNER PAR\")","v":" "},{"$f":"IF('SUR IN'!A452=0,\"\",'SUR IN'!A452)","v":""},{"$f":"IF('SUR IN'!B452=0,\"\",'SUR IN'!B452)","v":""}]
[{"$f":"IF('SUR IN'!A453=0,\" \",\"OWNER PAR\")","v":" "},{"$f":"IF('SUR IN'!A453=0,\"\",'SUR IN'!A453)","v":""},{"$f":"IF('SUR IN'!B453=0,\"\",'SUR IN'!B453)","v":""}]
[{"$f":"IF('SUR IN'!A454=0,\" \",\"OWNER PAR\")","v":" "},{"$f":"IF('SUR IN'!A454=0,\"\",'SUR IN'!A454)","v":""},{"$f":"IF('SUR IN'!B454=0,\"\",'SUR IN'!B454)","v":""}]
[{"$f":"IF('SUR IN'!A455=0,\" \",\"OWNER PAR\")","v":" "},{"$f":"IF('SUR IN'!A455=0,\"\",'SUR IN'!A455)","v":""},{"$f":"IF('SUR IN'!B455=0,\"\",'SUR IN'!B455)","v":""}]
[{"$f":"IF('SUR IN'!A456=0,\" \",\"OWNER PAR\")","v":" "},{"$f":"IF('SUR IN'!A456=0,\"\",'SUR IN'!A456)","v":""},{"$f":"IF('SUR IN'!B456=0,\"\",'SUR IN'!B456)","v":""}]
[{"$f":"IF('SUR IN'!A457=0,\" \",\"OWNER PAR\")","v":" "},{"$f":"IF('SUR IN'!A457=0,\"\",'SUR IN'!A457)","v":""},{"$f":"IF('SUR IN'!B457=0,\"\",'SUR IN'!B457)","v":""}]
[{"$f":"IF('SUR IN'!A458=0,\" \",\"OWNER PAR\")","v":" "},{"$f":"IF('SUR IN'!A458=0,\"\",'SUR IN'!A458)","v":""},{"$f":"IF('SUR IN'!B458=0,\"\",'SUR IN'!B458)","v":""}]
[{"$f":"IF('SUR IN'!A459=0,\" \",\"OWNER PAR\")","v":" "},{"$f":"IF('SUR IN'!A459=0,\"\",'SUR IN'!A459)","v":""},{"$f":"IF('SUR IN'!B459=0,\"\",'SUR IN'!B459)","v":""}]
[{"$f":"IF('SUR IN'!A460=0,\" \",\"OWNER PAR\")","v":" "},{"$f":"IF('SUR IN'!A460=0,\"\",'SUR IN'!A460)","v":""},{"$f":"IF('SUR IN'!B460=0,\"\",'SUR IN'!B460)","v":""}]
[{"$f":"IF('SUR IN'!A461=0,\" \",\"OWNER PAR\")","v":" "},{"$f":"IF('SUR IN'!A461=0,\"\",'SUR IN'!A461)","v":""},{"$f":"IF('SUR IN'!B461=0,\"\",'SUR IN'!B461)","v":""}]
[{"$f":"IF('SUR IN'!A462=0,\" \",\"OWNER PAR\")","v":" "},{"$f":"IF('SUR IN'!A462=0,\"\",'SUR IN'!A462)","v":""},{"$f":"IF('SUR IN'!B462=0,\"\",'SUR IN'!B462)","v":""}]
[{"$f":"IF('SUR IN'!A463=0,\" \",\"OWNER PAR\")","v":" "},{"$f":"IF('SUR IN'!A463=0,\"\",'SUR IN'!A463)","v":""},{"$f":"IF('SUR IN'!B463=0,\"\",'SUR IN'!B463)","v":""}]
[{"$f":"IF('SUR IN'!A464=0,\" \",\"OWNER PAR\")","v":" "},{"$f":"IF('SUR IN'!A464=0,\"\",'SUR IN'!A464)","v":""},{"$f":"IF('SUR IN'!B464=0,\"\",'SUR IN'!B464)","v":""}]
[{"$f":"IF('SUR IN'!A465=0,\" \",\"OWNER PAR\")","v":" "},{"$f":"IF('SUR IN'!A465=0,\"\",'SUR IN'!A465)","v":""},{"$f":"IF('SUR IN'!B465=0,\"\",'SUR IN'!B465)","v":""}]
[{"$f":"IF('SUR IN'!A466=0,\" \",\"OWNER PAR\")","v":" "},{"$f":"IF('SUR IN'!A466=0,\"\",'SUR IN'!A466)","v":""},{"$f":"IF('SUR IN'!B466=0,\"\",'SUR IN'!B466)","v":""}]
[{"$f":"IF('SUR IN'!A467=0,\" \",\"OWNER PAR\")","v":" "},{"$f":"IF('SUR IN'!A467=0,\"\",'SUR IN'!A467)","v":""},{"$f":"IF('SUR IN'!B467=0,\"\",'SUR IN'!B467)","v":""}]
[{"$f":"IF('SUR IN'!A468=0,\" \",\"OWNER PAR\")","v":" "},{"$f":"IF('SUR IN'!A468=0,\"\",'SUR IN'!A468)","v":""},{"$f":"IF('SUR IN'!B468=0,\"\",'SUR IN'!B468)","v":""}]
[{"$f":"IF('SUR IN'!A469=0,\" \",\"OWNER PAR\")","v":" "},{"$f":"IF('SUR IN'!A469=0,\"\",'SUR IN'!A469)","v":""},{"$f":"IF('SUR IN'!B469=0,\"\",'SUR IN'!B469)","v":""}]
[{"$f":"IF('SUR IN'!A470=0,\" \",\"OWNER PAR\")","v":" "},{"$f":"IF('SUR IN'!A470=0,\"\",'SUR IN'!A470)","v":""},{"$f":"IF('SUR IN'!B470=0,\"\",'SUR IN'!B470)","v":""}]
[{"$f":"IF('SUR IN'!A471=0,\" \",\"OWNER PAR\")","v":" "},{"$f":"IF('SUR IN'!A471=0,\"\",'SUR IN'!A471)","v":""},{"$f":"IF('SUR IN'!B471=0,\"\",'SUR IN'!B471)","v":""}]
[{"$f":"IF('SUR IN'!A472=0,\" \",\"OWNER PAR\")","v":" "},{"$f":"IF('SUR IN'!A472=0,\"\",'SUR IN'!A472)","v":""},{"$f":"IF('SUR IN'!B472=0,\"\",'SUR IN'!B472)","v":""}]
[{"$f":"IF('SUR IN'!A473=0,\" \",\"OWNER PAR\")","v":" "},{"$f":"IF('SUR IN'!A473=0,\"\",'SUR IN'!A473)","v":""},{"$f":"IF('SUR IN'!B473=0,\"\",'SUR IN'!B473)","v":""}]
[{"$f":"IF('SUR IN'!A474=0,\" \",\"OWNER PAR\")","v":" "},{"$f":"IF('SUR IN'!A474=0,\"\",'SUR IN'!A474)","v":""},{"$f":"IF('SUR IN'!B474=0,\"\",'SUR IN'!B474)","v":""}]
[{"$f":"IF('SUR IN'!A475=0,\" \",\"OWNER PAR\")","v":" "},{"$f":"IF('SUR IN'!A475=0,\"\",'SUR IN'!A475)","v":""},{"$f":"IF('SUR IN'!B475=0,\"\",'SUR IN'!B475)","v":""}]
[{"$f":"IF('SUR IN'!A476=0,\" \",\"OWNER PAR\")","v":" "},{"$f":"IF('SUR IN'!A476=0,\"\",'SUR IN'!A476)","v":""},{"$f":"IF('SUR IN'!B476=0,\"\",'SUR IN'!B476)","v":""}]
[{"$f":"IF('SUR IN'!A477=0,\" \",\"OWNER PAR\")","v":" "},{"$f":"IF('SUR IN'!A477=0,\"\",'SUR IN'!A477)","v":""},{"$f":"IF('SUR IN'!B477=0,\"\",'SUR IN'!B477)","v":""}]
[{"$f":"IF('SUR IN'!A478=0,\" \",\"OWNER PAR\")","v":" "},{"$f":"IF('SUR IN'!A478=0,\"\",'SUR IN'!A478)","v":""},{"$f":"IF('SUR IN'!B478=0,\"\",'SUR IN'!B478)","v":""}]
[{"$f":"IF('SUR IN'!A479=0,\" \",\"OWNER PAR\")","v":" "},{"$f":"IF('SUR IN'!A479=0,\"\",'SUR IN'!A479)","v":""},{"$f":"IF('SUR IN'!B479=0,\"\",'SUR IN'!B479)","v":""}]
[{"$f":"IF('SUR IN'!A480=0,\" \",\"OWNER PAR\")","v":" "},{"$f":"IF('SUR IN'!A480=0,\"\",'SUR IN'!A480)","v":""},{"$f":"IF('SUR IN'!B480=0,\"\",'SUR IN'!B480)","v":""}]
[{"$f":"IF('SUR IN'!A481=0,\" \",\"OWNER PAR\")","v":" "},{"$f":"IF('SUR IN'!A481=0,\"\",'SUR IN'!A481)","v":""},{"$f":"IF('SUR IN'!B481=0,\"\",'SUR IN'!B481)","v":""}]
[{"$f":"IF('SUR IN'!A482=0,\" \",\"OWNER PAR\")","v":" "},{"$f":"IF('SUR IN'!A482=0,\"\",'SUR IN'!A482)","v":""},{"$f":"IF('SUR IN'!B482=0,\"\",'SUR IN'!B482)","v":""}]
[{"$f":"IF('SUR IN'!A483=0,\" \",\"OWNER PAR\")","v":" "},{"$f":"IF('SUR IN'!A483=0,\"\",'SUR IN'!A483)","v":""},{"$f":"IF('SUR IN'!B483=0,\"\",'SUR IN'!B483)","v":""}]
[{"$f":"IF('SUR IN'!A484=0,\" \",\"OWNER PAR\")","v":" "},{"$f":"IF('SUR IN'!A484=0,\"\",'SUR IN'!A484)","v":""},{"$f":"IF('SUR IN'!B484=0,\"\",'SUR IN'!B484)","v":""}]
[{"$f":"IF('SUR IN'!A485=0,\" \",\"OWNER PAR\")","v":" "},{"$f":"IF('SUR IN'!A485=0,\"\",'SUR IN'!A485)","v":""},{"$f":"IF('SUR IN'!B485=0,\"\",'SUR IN'!B485)","v":""}]
[{"$f":"IF('SUR IN'!A486=0,\" \",\"OWNER PAR\")","v":" "},{"$f":"IF('SUR IN'!A486=0,\"\",'SUR IN'!A486)","v":""},{"$f":"IF('SUR IN'!B486=0,\"\",'SUR IN'!B486)","v":""}]
[{"$f":"IF('SUR IN'!A487=0,\" \",\"OWNER PAR\")","v":" "},{"$f":"IF('SUR IN'!A487=0,\"\",'SUR IN'!A487)","v":""},{"$f":"IF('SUR IN'!B487=0,\"\",'SUR IN'!B487)","v":""}]
[{"$f":"IF('SUR IN'!A488=0,\" \",\"OWNER PAR\")","v":" "},{"$f":"IF('SUR IN'!A488=0,\"\",'SUR IN'!A488)","v":""},{"$f":"IF('SUR IN'!B488=0,\"\",'SUR IN'!B488)","v":""}]
[{"$f":"IF('SUR IN'!A489=0,\" \",\"OWNER PAR\")","v":" "},{"$f":"IF('SUR IN'!A489=0,\"\",'SUR IN'!A489)","v":""},{"$f":"IF('SUR IN'!B489=0,\"\",'SUR IN'!B489)","v":""}]
[{"$f":"IF('SUR IN'!A490=0,\" \",\"OWNER PAR\")","v":" "},{"$f":"IF('SUR IN'!A490=0,\"\",'SUR IN'!A490)","v":""},{"$f":"IF('SUR IN'!B490=0,\"\",'SUR IN'!B490)","v":""}]
[{"$f":"IF('SUR IN'!A491=0,\" \",\"OWNER PAR\")","v":" "},{"$f":"IF('SUR IN'!A491=0,\"\",'SUR IN'!A491)","v":""},{"$f":"IF('SUR IN'!B491=0,\"\",'SUR IN'!B491)","v":""}]
[{"$f":"IF('SUR IN'!A492=0,\" \",\"OWNER PAR\")","v":" "},{"$f":"IF('SUR IN'!A492=0,\"\",'SUR IN'!A492)","v":""},{"$f":"IF('SUR IN'!B492=0,\"\",'SUR IN'!B492)","v":""}]
[{"$f":"IF('SUR IN'!A493=0,\" \",\"OWNER PAR\")","v":" "},{"$f":"IF('SUR IN'!A493=0,\"\",'SUR IN'!A493)","v":""},{"$f":"IF('SUR IN'!B493=0,\"\",'SUR IN'!B493)","v":""}]
[{"$f":"IF('SUR IN'!A494=0,\" \",\"OWNER PAR\")","v":" "},{"$f":"IF('SUR IN'!A494=0,\"\",'SUR IN'!A494)","v":""},{"$f":"IF('SUR IN'!B494=0,\"\",'SUR IN'!B494)","v":""}]
[{"$f":"IF('SUR IN'!A495=0,\" \",\"OWNER PAR\")","v":" "},{"$f":"IF('SUR IN'!A495=0,\"\",'SUR IN'!A495)","v":""},{"$f":"IF('SUR IN'!B495=0,\"\",'SUR IN'!B495)","v":""}]
[{"$f":"IF('SUR IN'!A496=0,\" \",\"OWNER PAR\")","v":" "},{"$f":"IF('SUR IN'!A496=0,\"\",'SUR IN'!A496)","v":""},{"$f":"IF('SUR IN'!B496=0,\"\",'SUR IN'!B496)","v":""}]
[{"$f":"IF('SUR IN'!A497=0,\" \",\"OWNER PAR\")","v":" "},{"$f":"IF('SUR IN'!A497=0,\"\",'SUR IN'!A497)","v":""},{"$f":"IF('SUR IN'!B497=0,\"\",'SUR IN'!B497)","v":""}]
[{"$f":"IF('SUR IN'!A498=0,\" \",\"OWNER PAR\")","v":" "},{"$f":"IF('SUR IN'!A498=0,\"\",'SUR IN'!A498)","v":""},{"$f":"IF('SUR IN'!B498=0,\"\",'SUR IN'!B498)","v":""}]
[{"$f":"IF('SUR IN'!A499=0,\" \",\"OWNER PAR\")","v":" "},{"$f":"IF('SUR IN'!A499=0,\"\",'SUR IN'!A499)","v":""},{"$f":"IF('SUR IN'!B499=0,\"\",'SUR IN'!B499)","v":""}]
[{"$f":"IF('SUR IN'!A500=0,\" \",\"OWNER PAR\")","v":" "},{"$f":"IF('SUR IN'!A500=0,\"\",'SUR IN'!A500)","v":""},{"$f":"IF('SUR IN'!B500=0,\"\",'SUR IN'!B500)","v":""}]
[{"$f":"IF('SUR IN'!A501=0,\" \",\"OWNER PAR\")","v":" "},{"$f":"IF('SUR IN'!A501=0,\"\",'SUR IN'!A501)","v":""},{"$f":"IF('SUR IN'!B501=0,\"\",'SUR IN'!B501)","v":""}]
[{"$f":"IF('SUR IN'!A502=0,\" \",\"OWNER PAR\")","v":" "},{"$f":"IF('SUR IN'!A502=0,\"\",'SUR IN'!A502)","v":""},{"$f":"IF('SUR IN'!B502=0,\"\",'SUR IN'!B502)","v":""}]
[{"$f":"IF('SUR IN'!A503=0,\" \",\"OWNER PAR\")","v":" "},{"$f":"IF('SUR IN'!A503=0,\"\",'SUR IN'!A503)","v":""},{"$f":"IF('SUR IN'!B503=0,\"\",'SUR IN'!B503)","v":""}]
[{"$f":"IF('SUR IN'!A504=0,\" \",\"OWNER PAR\")","v":" "},{"$f":"IF('SUR IN'!A504=0,\"\",'SUR IN'!A504)","v":""},{"$f":"IF('SUR IN'!B504=0,\"\",'SUR IN'!B504)","v":""}]

{"sheet":"DISTURBED AREA FOOTNOTES","index":5,"n_rows":11,"n_cols":22,"rows_kept":11,"cut":false,"hidden":false,"merged":[[0,0,0,23],[1,10,2,22],[3,10,3,18],[4,10,4,18],[3,21,3,22],[4,21,4,22],[3,19,3,20],[4,19,4,20],[1,2,1,9],[2,2,2,9],[3,2,3,9],[4,2,4,9],[6,21,6,22],[6,2,6,9],[7,2,7,9],[10,2,1048575,9],[5,10,5,18],[5,21,5,22],[5,19,5,20],[6,10,6,18],[6,19,6,20],[5,2,5,9],[8,2,8,9],[9,2,9,9]]}
[]
[null,"①","Note",null,null,null,null,null,null,null,"DISTURBED AREA"]
[null,"②"]
[null,"③",null,null,null,null,null,null,null,null,"IN BETWEEN SLOPE LINES",null,null,null,null,null,null,null,null,null,null,"(AC)"]
[null,"④",null,null,null,null,null,null,null,null,"15 FOOT WIDE STRIP (OUT SIDE SLOPE LINES)",null,null,null,null,null,null,null,null,null,null,"(AC)"]
[null,"⑤",null,null,null,null,null,null,null,null,"TOTAL DISTURBED AREA",null,null,null,null,null,null,null,null,null,null,"(AC)"]
[null,"⑥",null,null,null,null,null,null,null,null,"TOTAL PROJECT AREA",null,null,null,null,null,null,null,null,null,null,"(AC)"]
[null,"⑦"]
[null,"⑧"]
[null,"⑨"]
[null,"⑩"]